{"text_format":"1","workbook":"xlsx","n_sheets":10,"sheets":["はじめに","操作方法","基本情報","明細情報","ひな請求書","請求書レイアウト","請求書","請求明細レイアウト","請求明細","ひな請求明細"],"not_rendered":{"charts":0,"images":11,"macros":1,"external_links":1,"defined_names":52,"comments":2,"pivot_tables":0},"unopened":[],"bounds":{"document_bytes":16777216,"sheet_cells":100000,"rows_first":2000,"rows_last":500,"rows_between":2000,"halvings":0,"cell_chars":16384,"cell_head_chars":4096},"cells_cut":0,"cells_raw":0,"read":"whole","date_system":"1900"}

{"sheet":"はじめに","index":0,"n_rows":144,"n_cols":5,"rows_kept":144,"cut":false,"hidden":false,"merged":[[8,3,8,11],[119,3,119,11],[90,3,90,11],[0,0,0,8],[2,1,2,11]]}
["一般請求書ＥＸＣＥＬ版をご使用になる前に"]
[]
[null,"１．本ソフトはMicrosoftExcel 2013 、2016、2019で動作が確認済みです。\n　　以前のバージョーンでは正常に動作しない場合があります。"]
[]
[null,"２．本ソフトを起動する前にExcelでマクロのセキュリティを変更して下さい。"]
[]
[null,null,"①Excel 2013、2016、2019の場合"]
[]
[null,null,null,"Excel2013、2016、2019を起動後保護ビューのメッセージが表示されたら、編集を有効にする\nをクリックします。"]
[]
[]
[]
[]
[]
[]
[]
[]
[]
[]
[]
[]
[]
[]
[]
[]
[]
[]
[]
[]
[]
[]
[]
[]
[null,null,null,"セキュリティの警告が表示されたら、コンテンツの有効化をクリックします。"]
[]
[]
[]
[]
[]
[]
[]
[]
[]
[]
[]
[]
[]
[]
[]
[]
[]
[]
[]
[]
[]
[]
[]
[]
[null,null,null,null,"以上で使用可能となります。"]
[null,null,null,null,"もし、コンテンツの有効化を行っても使用できない場合は以下の手順を行ってください。"]
[]
[]
[]
[]
[null,null,null,"Excel 2013又は2016を起動後ファイルタブから、Excelのオプションボタンをクリックする。"]
[]
[]
[]
[]
[]
[]
[]
[]
[]
[]
[]
[]
[]
[]
[]
[]
[]
[]
[]
[]
[]
[]
[]
[]
[]
[null,null,null,"Excelオプション表示後、左側メニューよりセキュリティセンターを選択し、セキュリティ\nセンターの設定(T)ボタンをクリックする。"]
[]
[]
[]
[]
[]
[]
[]
[]
[]
[]
[]
[]
[]
[]
[]
[]
[]
[]
[]
[]
[]
[]
[]
[]
[]
[]
[]
[]
[null,null,null,"セキュリティセンター表示後、左側メニューよりマクロの設定をクリックし、すべての\nマクロを有効にするを選択しＯＫボタンをクリックしてください。"]
[]
[]
[]
[]
[]
[]
[]
[]
[]
[]
[]
[]
[]
[]
[]
[]
[]
[]
[]
[]
[]
[]
[]
[null,null,null,"上記設定後、一般請求書Excel版を起動しご使用下さい。"]

{"sheet":"操作方法","index":1,"n_rows":263,"n_cols":14,"rows_kept":263,"cut":false,"hidden":false,"merged":[[34,10,35,18],[27,2,27,9],[33,2,34,9],[35,2,36,9],[1,1,2,8],[6,2,6,9],[13,2,13,9],[20,2,20,9],[33,1,36,1]]}
[]
[null,"一般請求書の「Ｅｘｃｅｌ」での作成手順"]
[]
[]
[]
[]
[null,"①","「基本情報シート…１.取引先情報」の登録",null,null,null,null,null,null,null,"取引先コード・会社名・振込銀行・前月請求額等の情報登録"]
[]
[]
[]
[]
[]
[]
[null,"②","「基本情報シート…2.消費税情報」の登録",null,null,null,null,null,null,null,"消費税率・消費税丸め・税端数処理区分の登録"]
[]
[]
[]
[]
[]
[]
[null,"③","「基本情報シート…3.工事名称マスター」の登録",null,null,null,null,null,null,null,"工事名称(略称)・作業所長名の登録"]
[]
[]
[]
[]
[]
[]
[null,"④","「明細情報シート…4.請求明細情報」の登録",null,null,null,null,null,null,null,"納入年月日・品名規格・数量・単価・備考の登録"]
[]
[]
[]
[]
[]
[null,"⑤","「基本情報シート…5.請求書作成ボタン」をクリック"]
[null,null,null,null,null,null,null,null,null,null,"①～④で登録した情報により「請求書(鏡)/請求明細書」を作成"]
[null,null,"「請求書(鏡)/請求明細書」のシートが自動作成されます"]
[]
[]
[]
[]
[]
[]
[null,"⑥","「請求書(鏡)/請求明細書の印刷」",null,null,null,null,null,null,null,"⑤で作成した「請求書(鏡)/請求明細書」を印刷"]
[]
[]
[]
[]
["①【基本情報の登録】",null,null,null,"シートは、月別に原本のシートから利用し、新規の工事登録から実行する方法にて活用お願いします。"]
[]
["　　１．「基本情報」シートを選択します。"]
[]
["　　２．背景色が水色のセルに、請求書(鏡)となる情報を入力します。"]
[]
[]
[]
[]
[]
[]
[]
[]
[]
[]
[]
[]
[]
[]
[]
[]
[]
[]
[]
[]
[]
[]
[]
[]
[]
[]
[]
[]
[]
[]
[]
[]
["　　※工事名称(略称)は「工事名称マスタ」の欄に最大60工事まで入力可能です。"]
[]
["　　※当月請求が発生しない工事は「工事名称マスタ」に登録しないでください。"]
[]
["　　※背景色が色塗りされている箇所のみ入力又はリストボックスより選択ができます。"]
["　　　その他部分は入力・削除等は出来ません。"]
[]
[]
["②【明細情報の登録】　　"]
[]
["　　１．「明細情報」シートを選択します。"]
[]
["　　２．背景色が黄色のセルに、請求明細の情報を入力します。"]
[]
[null,"　※背景色が白色のセルには計算式がありますので入力は不要です。"]
[]
[]
[]
[]
[]
[]
[]
[]
[]
[]
[]
[]
[]
[]
[]
[]
[]
[]
[]
[]
[]
[]
[]
[]
[]
[]
[]
[]
[]
[]
[]
[]
[]
[]
[]
[]
[]
["　　※工事名称は「基本情報」シートに登録済みのもののみ入力可能です。"]
[]
[]
["③【請求書(鏡)／請求明細書の作成】　　"]
[]
["　　１．基本情報と明細情報を登録後に「請求書作成」ボタンをクリックすると"]
[]
[null,"　「請求書(鏡)と「請求明細書」の提出用が自動的に作成されます。"]
[]
[]
[]
[]
[]
[]
[]
[]
[]
[]
[]
[]
[]
[]
[]
[]
[]
[]
[]
[]
[]
[]
[]
[]
[]
[]
[]
[]
[]
[]
[]
[]
[]
[]
[]
[]
[]
[]
["　　　※明細情報等を変更後に再度「請求書作成」ボタンを押すことで、請求書の再作成が可能です。"]
[]
[]
[]
["④【請求書(鏡)／請求明細書の印刷】　　"]
[]
[]
["　　１．作成された請求書(鏡)と請求明細書の内容を確認し、"]
[]
["　　　　内容に問題がなければ必要部数印刷してください。"]
[]
[null,"･請求書(鏡)(一般用)"]
[]
[]
[null,null,null,null,null,null,null,null,null,null,null,null,"･請求書(鏡)(一般用)　　…　　１枚"]
[]
[]
[null,null,null,null,null,null,null,null,null,null,null,null,"　但し、１回の請求で２０工事を超過する場合は、"]
[]
[null,null,null,null,null,null,null,null,null,null,null,null,"請求書(鏡)の枚数は２枚以上作成されます。"]
[]
[null,null,null,null,null,null,null,null,null,null,null,null,null,"MAX.６０工事の時は３枚作成します。"]
[]
[]
[]
[null,null,null,null,null,null,null,null,null,null,"提出用"]
[]
[]
[]
[]
[]
[]
[]
[]
[]
[]
[]
[]
[null,null,null,null,null,null,null,null,null,null,null,null,null,"貴社→経理(控)"]
[]
[]
[]
[]
[]
[]
[]
[]
[]
[]
[]
[]
[]
[null,"･請求明細書　(一般)"]
[]
[null,null,null,null,null,null,null,null,null,null,null,null,"･請求明細書　　←　　１工事につき２枚で１セットです"]
[]
[null,null,null,null,null,null,null,null,null,null,null,null,"　但し、１５明細を超える場合、請求明細書は"]
[]
[null,null,null,null,null,null,null,null,null,null,null,null,"次ページに作成されます。"]
[]
[]
[]
[]
[]
[]
[]
[]
[]
[]
[]
[]
[]
[]
[]
[]
[]
[null,null,null,null,null,null,null,null,null,null,null,null,null,"貴社→請求書(添付)→経理(控)"]
[]
[null,null,null,null,null,null,null,null,null,null,null,null,null,"貴社→請求書(添付)→経理→作業所長(控)"]
[]
[null,null,null,null,null,null,null,null,null,null,null,null,null,"注意、必ず２枚提出お願いします！"]

{"sheet":"基本情報","index":2,"n_rows":91,"n_cols":17,"rows_kept":91,"cut":false,"hidden":false,"merged":[[33,13,33,17],[34,13,34,17],[35,13,35,17],[36,13,36,17],[29,13,29,17],[30,13,30,17],[31,13,31,17],[32,13,32,17],[27,1,27,2],[23,2,23,4],[22,2,22,4],[6,2,6,4],[7,2,7,4],[11,2,11,4],[13,2,13,4],[10,2,10,4],[24,2,24,4],[26,4,27,7],[18,2,18,4],[1,6,1,13],[2,2,2,4],[12,2,12,4],[17,2,17,4],[16,2,16,4],[15,2,15,4],[14,2,14,4],[4,2,4,4],[3,2,3,4],[9,2,9,4],[8,2,8,4],[5,2,5,4],[89,1,89,3],[83,1,83,2],[82,1,82,2],[85,1,85,2],[84,1,84,2],[88,1,88,2],[87,1,87,2],[86,1,86,2],[81,1,81,2],[80,1,80,2],[67,1,67,2],[75,1,75,2],[74,1,74,2],[76,1,76,2],[71,1,71,2],[70,1,70,2],[73,1,73,2],[72,1,72,2],[62,1,62,2],[65,1,65,2],[64,1,64,2],[79,1,79,2],[77,1,77,2],[78,1,78,2],[66,1,66,2],[69,1,69,2],[68,1,68,2],[63,1,63,2],[59,1,59,2],[58,1,58,2],[61,1,61,2],[60,1,60,2],[55,1,55,2],[54,1,54,2],[57,1,57,2],[56,1,56,2],[51,1,51,2],[50,1,50,2],[53,1,53,2],[52,1,52,2],[47,1,47,2],[46,1,46,2],[48,1,48,2],[49,1,49,2],[43,1,43,2],[42,1,42,2],[45,1,45,2],[44,1,44,2],[39,1,39,2],[38,1,38,2],[41,1,41,2],[40,1,40,2],[35,1,35,2],[34,1,34,2],[37,1,37,2],[36,1,36,2],[31,1,31,2],[30,1,30,2],[33,1,33,2],[32,1,32,2],[29,1,29,2],[28,1,28,2]]}
[null,null,null,null,null,null,null,"VER:2019/04/01A"]
[null,"1,取引先情報",null,null,null,null,"入力要件",null,null,null,null,null,null,null,"　　　　※凡例"]
[null,"取引先コード(6桁)",999999,null,null,null,"・６桁の取引先コード",null,null,null,null,null,null,null,null,null,"　←固定項目"]
[null,"社名","(株）○○建設",null,null,null,"・会社名"]
[null,"住所","酒田市○○○○１－１",null,null,null,"・全角１５文字",null,null,null,null,null,null,null,null,null,"　←変動項目"]
[null,"電話番号","0234 - 00 - 0000",null,null,null,null,null,null,null,null,null,null,null,null,null,"　　　（毎月入力）"]
[null,"請求締日","2020-07-31",null,null,null,"・弊社の請求締日",null,null,null,null,null,null,null,null,null,"　←入力不要項目"]
[null,"振込銀行コード(4桁)",508,null,null,null,"・全銀協の金融機関コード４桁",null,null,null,null,null,null,null,null,null,"　　　（自動計算）"]
[null,"振込銀行名","きらやか",null,null,null,"・銀行名　…　例、きらやか銀行の場合「きらやか」"]
[null,"振込支店コード(3桁)",443,null,null,null,"・支店コード　…　３桁"]
[null,"振込支店名","酒田",null,null,null,"・支店名　…　例、酒田支店の場合「酒田」"]
[null,"当座/普通","当　座",null,null,null,"・当座か普通かをリストボックスより選択"]
[null,"口座番号",1234567,null,null,null,"・入金用の口座番号　…　７桁"]
[null,"口座名義/漢字","(株）○○建設",null,null,null,"・口座名義/漢字　…　通帳のご名義(漢字)"]
[null,"口座名義/カナ","ｶ)ﾏﾙﾏﾙｹﾝｾﾂ",null,null,null,"・口座名義/カナ　…　通帳のご名義(カナ)"]
[null,"前月請求額",0,null,null," A","・前月請求額"]
[null,"入金額",0,null,null," B","・入金額　…　振込手数料も含む入金額"]
[null,"値引額",0,null,null," C","・値引額　…　御社が値引された場合の金額"]
[null,"繰越金額",{"$f":"C16-C17-C18","v":0},null,null," D","・繰越金額　…　自動計算　(D=A-B-C)"]
[]
[]
[null,"2.消費税情報"]
[null,"消費税率",0.1,null,null,null,"・消費税率　…　１％きざみで変更可能"]
[null,"税端数丸め単位",1,null,null,null,"･消費税の丸め単位　…　\\1･\\10･\\100･\\1,000の別をリストボックスより選択"]
[null,"税端数処理区分","四捨五入",null,null,null,"･端数処理区分　…　切捨て・四捨五入・切上げをリストボックスより選択"]
[]
[null,null,null,null,"入力不要　　（明細情報登録データを自動表示）"]
[null,"3. 工事名称マスタ"]
[null,"工事名称　(略称)　　　(全角１７文字)",null,"作業所長名","課税金額","非課税金額","消費税額","合計金額"]
[null,"○○○○○工事",null,"○○太郎",{"$f":"SUMIF(請求明細_工事場所,B30,請求明細_課税金額)","v":350800},{"$f":"SUMIF(請求明細_工事場所,B30,請求明細_非課税金額)","v":321},{"$f":"IF(基本情報_税端数処理方法=\"切り捨て\", ROUNDDOWN(E30*基本情報_消費税率,-LEN(基本情報_税端数丸め)+1), 0) + IF(基本情報_税端数処理方法=\"四捨五入\",ROUND(E30*基本情報_消費税率,-LEN(基本情報_税端数丸め)+1),0) + IF(基本情報_税端数処理方法=\"切り上げ\", ROUNDUP(E30*基本情報_消費税率,-LEN(基本情報_税端数丸め)+1), 0)","v":35080},{"$f":"E30+G30+F30","v":386201},null,null,null,null,null,"・工事名称　…　作業所長より略称を確認した後に登録"]
[1,"×××××工事",null,"××次郎",500000,0,50000,{"$f":"E31+G31+F31","v":550000},null,null,null,null,null,"・作業所長名　･･･　当該工事の担当作業所長名を登録"]
[2,null,null,null,0,0,0,0,null,null,null,null,null,"・課税金額　…　明細情報の課税金額を自動計算"]
[3,null,null,null,0,0,0,0,null,null,null,null,null,"・非課税金額　…　軽油税等消費税が課税されない金額"]
[4,null,null,null,0,0,0,0,null,null,null,null,null,"　　　　　　　　　　　　を明細情報より自動計算"]
[5,null,null,null,0,0,0,0,null,null,null,null,null,"・合計金額　…　課税金額＋非課税金額＋消費税額"]
[6,null,null,null,0,0,0,0,null,null,null,null,null,"　 　　　　　　　　　を自動計算"]
[7,null,null,null,0,0,0,0,null,null,null,null,null,"※　登録工事名称は最大６０工事まで登録可能です"]
[8,null,null,null,0,0,0,0]
[9,null,null,null,0,0,0,0]
[10,null,null,null,0,0,0,0]
[11,null,null,null,0,0,0,0]
[12,null,null,null,0,0,0,0]
[13,null,null,null,0,0,0,0]
[14,null,null,null,0,0,0,0]
[15,null,null,null,0,0,0,0]
[16,null,null,null,0,0,0,0]
[17,null,null,null,0,0,0,0]
[18,null,null,null,0,0,0,0]
[19,null,null,null,0,0,0,0,"１ページ目",{"$f":"COUNTA(B30:C49)","v":2}]
[20,null,null,null,0,0,0,0,{"$f":"SUM(E30:F49)","v":851121},{"$f":"SUM(G30:G49)","v":85080},{"$f":"SUM(H30:H49)","v":936201}]
[21,null,null,null,0,0,0,0]
[22,null,null,null,0,0,0,0]
[23,null,null,null,0,0,0,0]
[24,null,null,null,0,0,0,0]
[25,null,null,null,0,0,0,0]
[26,null,null,null,0,0,0,0]
[27,null,null,null,0,0,0,0]
[28,null,null,null,0,0,0,0]
[29,null,null,null,0,0,0,0]
[30,null,null,null,0,0,0,0]
[31,null,null,null,0,0,0,0]
[32,null,null,null,{"$f":"SUMIF(請求明細_工事場所,B62,請求明細_課税金額)","v":0},{"$f":"SUMIF(請求明細_工事場所,B62,請求明細_非課税金額)","v":0},{"$f":"IF(基本情報_税端数処理方法=\"切り捨て\", ROUNDDOWN(E62*基本情報_消費税率,-LEN(基本情報_税端数丸め)+1), 0) + IF(基本情報_税端数処理方法=\"四捨五入\",ROUND(E62*基本情報_消費税率,-LEN(基本情報_税端数丸め)+1),0) + IF(基本情報_税端数処理方法=\"切り上げ\", ROUNDUP(E62*基本情報_消費税率,-LEN(基本情報_税端数丸め)+1), 0)","v":0},0]
[33,null,null,null,0,0,0,0]
[34,null,null,null,0,0,0,0]
[35,null,null,null,0,0,0,0]
[36,null,null,null,0,0,0,0]
[37,null,null,null,0,0,0,0]
[38,null,null,null,0,0,0,0]
[39,null,null,null,0,0,0,0,"2ページ目",{"$f":"COUNTA(B50:C69)","v":0}]
[40,null,null,null,0,0,0,0,{"$f":"SUM(E50:F69)","v":0},{"$f":"SUM(G50:G69)","v":0},{"$f":"SUM(H50:H69)","v":0}]
[41,null,null,null,0,0,0,0]
[42,null,null,null,0,0,0,0]
[43,null,null,null,0,0,0,0]
[44,null,null,null,0,0,0,0]
[45,null,null,null,0,0,0,0]
[46,null,null,null,0,0,0,0]
[47,null,null,null,0,0,0,0]
[48,null,null,null,0,0,0,0]
[49,null,null,null,0,0,0,0]
[50,null,null,null,0,0,0,0]
[51,null,null,null,0,0,0,0]
[52,null,null,null,0,0,0,0]
[53,null,null,null,0,0,0,0]
[54,null,null,null,0,0,0,0]
[55,null,null,null,0,0,0,0]
[56,null,null,null,0,0,0,0]
[57,null,null,null,0,0,0,0]
[58,null,null,null,0,0,0,0]
[59,null,null,null,0,0,0,0,"3ページ目",{"$f":"COUNTA(B70:C89)","v":0}]
[60,"合計金額",null,null,{"$f":"SUM(E30:E89)","v":850800},{"$f":"SUM(F30:F89)","v":321},{"$f":"SUM(G30:G89)","v":85080},{"$f":"SUM(H30:H89)","v":936201},{"$f":"SUM(E70:F89)","v":0},{"$f":"SUM(G70:G89)","v":0},{"$f":"SUM(H70:H89)","v":0}]
[null,null,null,null,null,null,null,null,{"$f":"基本情報_合計税込金額+基本情報_繰越金額","v":936201}]

{"sheet":"明細情報","index":3,"n_rows":304,"n_cols":15,"rows_kept":304,"cut":false,"hidden":false,"merged":[[2,14,3,22],[2,8,3,8],[2,7,3,7],[1,0,1,1],[2,9,3,9],[2,0,3,0],[2,2,3,2],[2,1,3,1],[2,3,3,3],[2,4,3,4],[2,6,3,6],[2,5,3,5]]}
[]
["4.請求明細情報"]
["通番","工事名称","納入年月日","品　名　・　規　格","数　　　量","単位","単　　　価","税区分","金　　　額　　　　（自動計算）","備考（自由入力）",null,null,null,null,"入力要件"]
[null,null,null,null,null,null,null,null,null,null,null,"課税","非課税",{"$f":"IF(基本情報!B30=\"\",\"\",基本情報!B30)","v":"○○○○○工事"}]
[1,"○○○○○工事","2008-07-10","○○材料",50,"個",5000,"課税",{"$f":"ROUND(ROUND(E5,2)*ROUND(G5,2),0)","v":250000},null,null,{"$f":"IF($H5<>\"非課税\",$I5,0)","v":250000},{"$f":"IF($H5=\"非課税\",$I5,0)","v":0},{"$f":"IF(基本情報!B31=\"\",\"\",基本情報!B31)","v":"×××××工事"},"・工事名称　…　基本情報シートに登録した工事をリストボックスから選択"]
[{"$f":"A5+1","v":2},"×××××工事","2008-07-25","○○材料",50,"個",5000,"課税",250000,null,null,250000,0,{"$f":"IF(基本情報!B32=\"\",\"\",基本情報!B32)","v":""},"・納入年月日　…　西暦の年月日　例、2008/06/30　か　06/30で2008/06/30と編集します"]
[3,"×××××工事","2008-07-31","労務費",25,"人",10000,"課税",250000,null,null,250000,0,{"$f":"IF(基本情報!B33=\"\",\"\",基本情報!B33)","v":""},"・品名規格　…　全角１７文字"]
[4,"○○○○○工事","2008-07-31","機械損料",10,"日",10000,"課税",100000,null,null,100000,0,{"$f":"IF(基本情報!B34=\"\",\"\",基本情報!B34)","v":""},"・数量　…　小数点以下第２位まで"]
[5,"○○○○○工事","2008-07-31","軽油",10,"Ｌ",80,"課税",800,null,null,800,0,{"$f":"IF(基本情報!B35=\"\",\"\",基本情報!B35)","v":""},"・単位　…　全角３文字"]
[6,"○○○○○工事","2008-07-31","軽油税",10,"Ｌ",32.1,"非課税",321,null,null,0,321,{"$f":"IF(基本情報!B36=\"\",\"\",基本情報!B36)","v":""},"・単価　…　小数点以下第２位まで"]
[7,null,null,null,null,null,null,null,0,null,null,0,0,{"$f":"IF(基本情報!B37=\"\",\"\",基本情報!B37)","v":""},"・税区分　…　課税・非課税の別をリストボックスより選択"]
[8,null,null,null,null,null,null,null,0,null,null,0,0,{"$f":"IF(基本情報!B38=\"\",\"\",基本情報!B38)","v":""},"・税区分　…　課税・非課税を選択しない場合は、税区分が課税と判断され計算されます"]
[9,null,null,null,null,null,null,null,0,null,null,0,0,{"$f":"IF(基本情報!B39=\"\",\"\",基本情報!B39)","v":""},"・金額　…　数量×単価　を自動計算　(有効桁数９桁)"]
[10,null,null,null,null,null,null,null,0,null,null,0,0,{"$f":"IF(基本情報!B40=\"\",\"\",基本情報!B40)","v":""},"・備考　…　全角１６文字 (注文ＮＯ含む)"]
[11,null,null,null,null,null,null,null,0,null,null,0,0,{"$f":"IF(基本情報!B41=\"\",\"\",基本情報!B41)","v":""}]
[12,null,null,null,null,null,null,null,0,null,null,0,0,{"$f":"IF(基本情報!B42=\"\",\"\",基本情報!B42)","v":""},"注意"]
[13,null,null,null,null,null,null,null,0,null,null,0,0,{"$f":"IF(基本情報!B43=\"\",\"\",基本情報!B43)","v":""},"　1.工事は、昇順でなくても自動で集計されます"]
[14,null,null,null,null,null,null,null,0,null,null,0,0,{"$f":"IF(基本情報!B44=\"\",\"\",基本情報!B44)","v":""},"　2.１ヶ月分の総明細数は、最大300明細です"]
[15,null,null,null,null,null,null,null,0,null,null,0,0,{"$f":"IF(基本情報!B45=\"\",\"\",基本情報!B45)","v":""}]
[16,null,null,null,null,null,null,null,0,null,null,0,0,{"$f":"IF(基本情報!B46=\"\",\"\",基本情報!B46)","v":""}]
[17,null,null,null,null,null,null,null,0,null,null,0,0,{"$f":"IF(基本情報!B47=\"\",\"\",基本情報!B47)","v":""}]
[18,null,null,null,null,null,null,null,0,null,null,0,0,{"$f":"IF(基本情報!B48=\"\",\"\",基本情報!B48)","v":""}]
[19,null,null,null,null,null,null,null,0,null,null,0,0,{"$f":"IF(基本情報!B49=\"\",\"\",基本情報!B49)","v":""}]
[20,null,null,null,null,null,null,null,0,null,null,0,0,{"$f":"IF(基本情報!B50=\"\",\"\",基本情報!B50)","v":""}]
[21,null,null,null,null,null,null,null,0,null,null,0,0,{"$f":"IF(基本情報!B51=\"\",\"\",基本情報!B51)","v":""}]
[22,null,null,null,null,null,null,null,0,null,null,0,0,{"$f":"IF(基本情報!B52=\"\",\"\",基本情報!B52)","v":""}]
[23,null,null,null,null,null,null,null,0,null,null,0,0,{"$f":"IF(基本情報!B53=\"\",\"\",基本情報!B53)","v":""}]
[24,null,null,null,null,null,null,null,0,null,null,0,0,{"$f":"IF(基本情報!B54=\"\",\"\",基本情報!B54)","v":""}]
[25,null,null,null,null,null,null,null,0,null,null,0,0,{"$f":"IF(基本情報!B55=\"\",\"\",基本情報!B55)","v":""}]
[26,null,null,null,null,null,null,null,0,null,null,0,0,{"$f":"IF(基本情報!B56=\"\",\"\",基本情報!B56)","v":""}]
[27,null,null,null,null,null,null,null,0,null,null,0,0,{"$f":"IF(基本情報!B57=\"\",\"\",基本情報!B57)","v":""}]
[28,null,null,null,null,null,null,null,0,null,null,0,0,{"$f":"IF(基本情報!B58=\"\",\"\",基本情報!B58)","v":""}]
[29,null,null,null,null,null,null,null,0,null,null,0,0,{"$f":"IF(基本情報!B59=\"\",\"\",基本情報!B59)","v":""}]
[30,null,null,null,null,null,null,null,0,null,null,0,0,{"$f":"IF(基本情報!B60=\"\",\"\",基本情報!B60)","v":""}]
[31,null,null,null,null,null,null,null,0,null,null,0,0,{"$f":"IF(基本情報!B61=\"\",\"\",基本情報!B61)","v":""}]
[32,null,null,null,null,null,null,null,0,null,null,0,0,{"$f":"IF(基本情報!B62=\"\",\"\",基本情報!B62)","v":""}]
[33,null,null,null,null,null,null,null,0,null,null,0,0,{"$f":"IF(基本情報!B63=\"\",\"\",基本情報!B63)","v":""}]
[34,null,null,null,null,null,null,null,0,null,null,0,0,{"$f":"IF(基本情報!B64=\"\",\"\",基本情報!B64)","v":""}]
[35,null,null,null,null,null,null,null,0,null,null,0,0,{"$f":"IF(基本情報!B65=\"\",\"\",基本情報!B65)","v":""}]
[36,null,null,null,null,null,null,null,0,null,null,0,0,{"$f":"IF(基本情報!B66=\"\",\"\",基本情報!B66)","v":""}]
[37,null,null,null,null,null,null,null,0,null,null,0,0,{"$f":"IF(基本情報!B67=\"\",\"\",基本情報!B67)","v":""}]
[38,null,null,null,null,null,null,null,0,null,null,0,0,{"$f":"IF(基本情報!B68=\"\",\"\",基本情報!B68)","v":""}]
[39,null,null,null,null,null,null,null,0,null,null,0,0,{"$f":"IF(基本情報!B69=\"\",\"\",基本情報!B69)","v":""}]
[40,null,null,null,null,null,null,null,0,null,null,0,0,{"$f":"IF(基本情報!B70=\"\",\"\",基本情報!B70)","v":""}]
[41,null,null,null,null,null,null,null,0,null,null,0,0,{"$f":"IF(基本情報!B71=\"\",\"\",基本情報!B71)","v":""}]
[42,null,null,null,null,null,null,null,0,null,null,0,0,{"$f":"IF(基本情報!B72=\"\",\"\",基本情報!B72)","v":""}]
[43,null,null,null,null,null,null,null,0,null,null,0,0,{"$f":"IF(基本情報!B73=\"\",\"\",基本情報!B73)","v":""}]
[44,null,null,null,null,null,null,null,0,null,null,0,0,{"$f":"IF(基本情報!B74=\"\",\"\",基本情報!B74)","v":""}]
[45,null,null,null,null,null,null,null,0,null,null,0,0,{"$f":"IF(基本情報!B75=\"\",\"\",基本情報!B75)","v":""}]
[46,null,null,null,null,null,null,null,0,null,null,0,0,{"$f":"IF(基本情報!B76=\"\",\"\",基本情報!B76)","v":""}]
[47,null,null,null,null,null,null,null,0,null,null,0,0,{"$f":"IF(基本情報!B77=\"\",\"\",基本情報!B77)","v":""}]
[48,null,null,null,null,null,null,null,0,null,null,0,0,{"$f":"IF(基本情報!B78=\"\",\"\",基本情報!B78)","v":""}]
[49,null,null,null,null,null,null,null,0,null,null,0,0,{"$f":"IF(基本情報!B79=\"\",\"\",基本情報!B79)","v":""}]
[50,null,null,null,null,null,null,null,0,null,null,0,0,{"$f":"IF(基本情報!B80=\"\",\"\",基本情報!B80)","v":""}]
[51,null,null,null,null,null,null,null,0,null,null,0,0,{"$f":"IF(基本情報!B81=\"\",\"\",基本情報!B81)","v":""}]
[52,null,null,null,null,null,null,null,0,null,null,0,0,{"$f":"IF(基本情報!B82=\"\",\"\",基本情報!B82)","v":""}]
[53,null,null,null,null,null,null,null,0,null,null,0,0,{"$f":"IF(基本情報!B83=\"\",\"\",基本情報!B83)","v":""}]
[54,null,null,null,null,null,null,null,0,null,null,0,0,{"$f":"IF(基本情報!B84=\"\",\"\",基本情報!B84)","v":""}]
[55,null,null,null,null,null,null,null,0,null,null,0,0,{"$f":"IF(基本情報!B85=\"\",\"\",基本情報!B85)","v":""}]
[56,null,null,null,null,null,null,null,0,null,null,0,0,{"$f":"IF(基本情報!B86=\"\",\"\",基本情報!B86)","v":""}]
[57,null,null,null,null,null,null,null,0,null,null,0,0,{"$f":"IF(基本情報!B87=\"\",\"\",基本情報!B87)","v":""}]
[58,null,null,null,null,null,null,null,0,null,null,0,0,{"$f":"IF(基本情報!B88=\"\",\"\",基本情報!B88)","v":""}]
[59,null,null,null,null,null,null,null,0,null,null,0,0,{"$f":"IF(基本情報!B89=\"\",\"\",基本情報!B89)","v":""}]
[60,null,null,null,null,null,null,null,0,null,null,0,0]
[61,null,null,null,null,null,null,null,0,null,null,0,0]
[62,null,null,null,null,null,null,null,0,null,null,0,0]
[63,null,null,null,null,null,null,null,0,null,null,0,0]
[64,null,null,null,null,null,null,null,0,null,null,0,0]
[65,null,null,null,null,null,null,null,{"$f":"ROUND(ROUND(E69,2)*ROUND(G69,2),0)","v":0},null,null,{"$f":"IF($H69<>\"非課税\",$I69,0)","v":0},{"$f":"IF($H69=\"非課税\",$I69,0)","v":0}]
[{"$f":"A69+1","v":66},null,null,null,null,null,null,null,0,null,null,0,0]
[67,null,null,null,null,null,null,null,0,null,null,0,0]
[68,null,null,null,null,null,null,null,0,null,null,0,0]
[69,null,null,null,null,null,null,null,0,null,null,0,0]
[70,null,null,null,null,null,null,null,0,null,null,0,0]
[71,null,null,null,null,null,null,null,0,null,null,0,0]
[72,null,null,null,null,null,null,null,0,null,null,0,0]
[73,null,null,null,null,null,null,null,0,null,null,0,0]
[74,null,null,null,null,null,null,null,0,null,null,0,0]
[75,null,null,null,null,null,null,null,0,null,null,0,0]
[76,null,null,null,null,null,null,null,0,null,null,0,0]
[77,null,null,null,null,null,null,null,0,null,null,0,0]
[78,null,null,null,null,null,null,null,0,null,null,0,0]
[79,null,null,null,null,null,null,null,0,null,null,0,0]
[80,null,null,null,null,null,null,null,0,null,null,0,0]
[81,null,null,null,null,null,null,null,0,null,null,0,0]
[82,null,null,null,null,null,null,null,0,null,null,0,0]
[83,null,null,null,null,null,null,null,0,null,null,0,0]
[84,null,null,null,null,null,null,null,0,null,null,0,0]
[85,null,null,null,null,null,null,null,0,null,null,0,0]
[86,null,null,null,null,null,null,null,0,null,null,0,0]
[87,null,null,null,null,null,null,null,0,null,null,0,0]
[88,null,null,null,null,null,null,null,0,null,null,0,0]
[89,null,null,null,null,null,null,null,0,null,null,0,0]
[90,null,null,null,null,null,null,null,0,null,null,0,0]
[91,null,null,null,null,null,null,null,0,null,null,0,0]
[92,null,null,null,null,null,null,null,0,null,null,0,0]
[93,null,null,null,null,null,null,null,0,null,null,0,0]
[94,null,null,null,null,null,null,null,0,null,null,0,0]
[95,null,null,null,null,null,null,null,0,null,null,0,0]
[96,null,null,null,null,null,null,null,0,null,null,0,0]
[97,null,null,null,null,null,null,null,0,null,null,0,0]
[98,null,null,null,null,null,null,null,0,null,null,0,0]
[99,null,null,null,null,null,null,null,0,null,null,0,0]
[100,null,null,null,null,null,null,null,0,null,null,0,0]
[101,null,null,null,null,null,null,null,0,null,null,0,0]
[102,null,null,null,null,null,null,null,0,null,null,0,0]
[103,null,null,null,null,null,null,null,0,null,null,0,0]
[104,null,null,null,null,null,null,null,0,null,null,0,0]
[105,null,null,null,null,null,null,null,0,null,null,0,0]
[106,null,null,null,null,null,null,null,0,null,null,0,0]
[107,null,null,null,null,null,null,null,0,null,null,0,0]
[108,null,null,null,null,null,null,null,0,null,null,0,0]
[109,null,null,null,null,null,null,null,0,null,null,0,0]
[110,null,null,null,null,null,null,null,0,null,null,0,0]
[111,null,null,null,null,null,null,null,0,null,null,0,0]
[112,null,null,null,null,null,null,null,0,null,null,0,0]
[113,null,null,null,null,null,null,null,0,null,null,0,0]
[114,null,null,null,null,null,null,null,0,null,null,0,0]
[115,null,null,null,null,null,null,null,0,null,null,0,0]
[116,null,null,null,null,null,null,null,0,null,null,0,0]
[117,null,null,null,null,null,null,null,0,null,null,0,0]
[118,null,null,null,null,null,null,null,0,null,null,0,0]
[119,null,null,null,null,null,null,null,0,null,null,0,0]
[120,null,null,null,null,null,null,null,0,null,null,0,0]
[121,null,null,null,null,null,null,null,0,null,null,0,0]
[122,null,null,null,null,null,null,null,0,null,null,0,0]
[123,null,null,null,null,null,null,null,0,null,null,0,0]
[124,null,null,null,null,null,null,null,0,null,null,0,0]
[125,null,null,null,null,null,null,null,0,null,null,0,0]
[126,null,null,null,null,null,null,null,0,null,null,0,0]
[127,null,null,null,null,null,null,null,0,null,null,0,0]
[128,null,null,null,null,null,null,null,0,null,null,0,0]
[129,null,null,null,null,null,null,null,{"$f":"ROUND(ROUND(E133,2)*ROUND(G133,2),0)","v":0},null,null,{"$f":"IF($H133<>\"非課税\",$I133,0)","v":0},{"$f":"IF($H133=\"非課税\",$I133,0)","v":0}]
[{"$f":"A133+1","v":130},null,null,null,null,null,null,null,0,null,null,0,0]
[131,null,null,null,null,null,null,null,0,null,null,0,0]
[132,null,null,null,null,null,null,null,0,null,null,0,0]
[133,null,null,null,null,null,null,null,0,null,null,0,0]
[134,null,null,null,null,null,null,null,0,null,null,0,0]
[135,null,null,null,null,null,null,null,0,null,null,0,0]
[136,null,null,null,null,null,null,null,0,null,null,0,0]
[137,null,null,null,null,null,null,null,0,null,null,0,0]
[138,null,null,null,null,null,null,null,0,null,null,0,0]
[139,null,null,null,null,null,null,null,0,null,null,0,0]
[140,null,null,null,null,null,null,null,0,null,null,0,0]
[141,null,null,null,null,null,null,null,0,null,null,0,0]
[142,null,null,null,null,null,null,null,0,null,null,0,0]
[143,null,null,null,null,null,null,null,0,null,null,0,0]
[144,null,null,null,null,null,null,null,0,null,null,0,0]
[145,null,null,null,null,null,null,null,0,null,null,0,0]
[146,null,null,null,null,null,null,null,0,null,null,0,0]
[147,null,null,null,null,null,null,null,0,null,null,0,0]
[148,null,null,null,null,null,null,null,0,null,null,0,0]
[149,null,null,null,null,null,null,null,0,null,null,0,0]
[150,null,null,null,null,null,null,null,0,null,null,0,0]
[151,null,null,null,null,null,null,null,0,null,null,0,0]
[152,null,null,null,null,null,null,null,0,null,null,0,0]
[153,null,null,null,null,null,null,null,0,null,null,0,0]
[154,null,null,null,null,null,null,null,0,null,null,0,0]
[155,null,null,null,null,null,null,null,0,null,null,0,0]
[156,null,null,null,null,null,null,null,0,null,null,0,0]
[157,null,null,null,null,null,null,null,0,null,null,0,0]
[158,null,null,null,null,null,null,null,0,null,null,0,0]
[159,null,null,null,null,null,null,null,0,null,null,0,0]
[160,null,null,null,null,null,null,null,0,null,null,0,0]
[161,null,null,null,null,null,null,null,0,null,null,0,0]
[162,null,null,null,null,null,null,null,0,null,null,0,0]
[163,null,null,null,null,null,null,null,0,null,null,0,0]
[164,null,null,null,null,null,null,null,0,null,null,0,0]
[165,null,null,null,null,null,null,null,0,null,null,0,0]
[166,null,null,null,null,null,null,null,0,null,null,0,0]
[167,null,null,null,null,null,null,null,0,null,null,0,0]
[168,null,null,null,null,null,null,null,0,null,null,0,0]
[169,null,null,null,null,null,null,null,0,null,null,0,0]
[170,null,null,null,null,null,null,null,0,null,null,0,0]
[171,null,null,null,null,null,null,null,0,null,null,0,0]
[172,null,null,null,null,null,null,null,0,null,null,0,0]
[173,null,null,null,null,null,null,null,0,null,null,0,0]
[174,null,null,null,null,null,null,null,0,null,null,0,0]
[175,null,null,null,null,null,null,null,0,null,null,0,0]
[176,null,null,null,null,null,null,null,0,null,null,0,0]
[177,null,null,null,null,null,null,null,0,null,null,0,0]
[178,null,null,null,null,null,null,null,0,null,null,0,0]
[179,null,null,null,null,null,null,null,0,null,null,0,0]
[180,null,null,null,null,null,null,null,0,null,null,0,0]
[181,null,null,null,null,null,null,null,0,null,null,0,0]
[182,null,null,null,null,null,null,null,0,null,null,0,0]
[183,null,null,null,null,null,null,null,0,null,null,0,0]
[184,null,null,null,null,null,null,null,0,null,null,0,0]
[185,null,null,null,null,null,null,null,0,null,null,0,0]
[186,null,null,null,null,null,null,null,0,null,null,0,0]
[187,null,null,null,null,null,null,null,0,null,null,0,0]
[188,null,null,null,null,null,null,null,0,null,null,0,0]
[189,null,null,null,null,null,null,null,0,null,null,0,0]
[190,null,null,null,null,null,null,null,0,null,null,0,0]
[191,null,null,null,null,null,null,null,0,null,null,0,0]
[192,null,null,null,null,null,null,null,0,null,null,0,0]
[193,null,null,null,null,null,null,null,{"$f":"ROUND(ROUND(E197,2)*ROUND(G197,2),0)","v":0},null,null,{"$f":"IF($H197<>\"非課税\",$I197,0)","v":0},{"$f":"IF($H197=\"非課税\",$I197,0)","v":0}]
[{"$f":"A197+1","v":194},null,null,null,null,null,null,null,0,null,null,0,0]
[195,null,null,null,null,null,null,null,0,null,null,0,0]
[196,null,null,null,null,null,null,null,0,null,null,0,0]
[197,null,null,null,null,null,null,null,0,null,null,0,0]
[198,null,null,null,null,null,null,null,0,null,null,0,0]
[199,null,null,null,null,null,null,null,0,null,null,0,0]
[200,null,null,null,null,null,null,null,0,null,null,0,0]
[201,null,null,null,null,null,null,null,0,null,null,0,0]
[202,null,null,null,null,null,null,null,0,null,null,0,0]
[203,null,null,null,null,null,null,null,0,null,null,0,0]
[204,null,null,null,null,null,null,null,0,null,null,0,0]
[205,null,null,null,null,null,null,null,0,null,null,0,0]
[206,null,null,null,null,null,null,null,0,null,null,0,0]
[207,null,null,null,null,null,null,null,0,null,null,0,0]
[208,null,null,null,null,null,null,null,0,null,null,0,0]
[209,null,null,null,null,null,null,null,0,null,null,0,0]
[210,null,null,null,null,null,null,null,0,null,null,0,0]
[211,null,null,null,null,null,null,null,0,null,null,0,0]
[212,null,null,null,null,null,null,null,0,null,null,0,0]
[213,null,null,null,null,null,null,null,0,null,null,0,0]
[214,null,null,null,null,null,null,null,0,null,null,0,0]
[215,null,null,null,null,null,null,null,0,null,null,0,0]
[216,null,null,null,null,null,null,null,0,null,null,0,0]
[217,null,null,null,null,null,null,null,0,null,null,0,0]
[218,null,null,null,null,null,null,null,0,null,null,0,0]
[219,null,null,null,null,null,null,null,0,null,null,0,0]
[220,null,null,null,null,null,null,null,0,null,null,0,0]
[221,null,null,null,null,null,null,null,0,null,null,0,0]
[222,null,null,null,null,null,null,null,0,null,null,0,0]
[223,null,null,null,null,null,null,null,0,null,null,0,0]
[224,null,null,null,null,null,null,null,0,null,null,0,0]
[225,null,null,null,null,null,null,null,0,null,null,0,0]
[226,null,null,null,null,null,null,null,0,null,null,0,0]
[227,null,null,null,null,null,null,null,0,null,null,0,0]
[228,null,null,null,null,null,null,null,0,null,null,0,0]
[229,null,null,null,null,null,null,null,0,null,null,0,0]
[230,null,null,null,null,null,null,null,0,null,null,0,0]
[231,null,null,null,null,null,null,null,0,null,null,0,0]
[232,null,null,null,null,null,null,null,0,null,null,0,0]
[233,null,null,null,null,null,null,null,0,null,null,0,0]
[234,null,null,null,null,null,null,null,0,null,null,0,0]
[235,null,null,null,null,null,null,null,0,null,null,0,0]
[236,null,null,null,null,null,null,null,0,null,null,0,0]
[237,null,null,null,null,null,null,null,0,null,null,0,0]
[238,null,null,null,null,null,null,null,0,null,null,0,0]
[239,null,null,null,null,null,null,null,0,null,null,0,0]
[240,null,null,null,null,null,null,null,0,null,null,0,0]
[241,null,null,null,null,null,null,null,0,null,null,0,0]
[242,null,null,null,null,null,null,null,0,null,null,0,0]
[243,null,null,null,null,null,null,null,0,null,null,0,0]
[244,null,null,null,null,null,null,null,0,null,null,0,0]
[245,null,null,null,null,null,null,null,0,null,null,0,0]
[246,null,null,null,null,null,null,null,0,null,null,0,0]
[247,null,null,null,null,null,null,null,0,null,null,0,0]
[248,null,null,null,null,null,null,null,0,null,null,0,0]
[249,null,null,null,null,null,null,null,0,null,null,0,0]
[250,null,null,null,null,null,null,null,0,null,null,0,0]
[251,null,null,null,null,null,null,null,0,null,null,0,0]
[252,null,null,null,null,null,null,null,0,null,null,0,0]
[253,null,null,null,null,null,null,null,0,null,null,0,0]
[254,null,null,null,null,null,null,null,0,null,null,0,0]
[255,null,null,null,null,null,null,null,0,null,null,0,0]
[256,null,null,null,null,null,null,null,0,null,null,0,0]
[257,null,null,null,null,null,null,null,{"$f":"ROUND(ROUND(E261,2)*ROUND(G261,2),0)","v":0},null,null,{"$f":"IF($H261<>\"非課税\",$I261,0)","v":0},{"$f":"IF($H261=\"非課税\",$I261,0)","v":0}]
[{"$f":"A261+1","v":258},null,null,null,null,null,null,null,0,null,null,0,0]
[259,null,null,null,null,null,null,null,0,null,null,0,0]
[260,null,null,null,null,null,null,null,0,null,null,0,0]
[261,null,null,null,null,null,null,null,0,null,null,0,0]
[262,null,null,null,null,null,null,null,0,null,null,0,0]
[263,null,null,null,null,null,null,null,0,null,null,0,0]
[264,null,null,null,null,null,null,null,0,null,null,0,0]
[265,null,null,null,null,null,null,null,0,null,null,0,0]
[266,null,null,null,null,null,null,null,0,null,null,0,0]
[267,null,null,null,null,null,null,null,0,null,null,0,0]
[268,null,null,null,null,null,null,null,0,null,null,0,0]
[269,null,null,null,null,null,null,null,0,null,null,0,0]
[270,null,null,null,null,null,null,null,0,null,null,0,0]
[271,null,null,null,null,null,null,null,0,null,null,0,0]
[272,null,null,null,null,null,null,null,0,null,null,0,0]
[273,null,null,null,null,null,null,null,0,null,null,0,0]
[274,null,null,null,null,null,null,null,0,null,null,0,0]
[275,null,null,null,null,null,null,null,0,null,null,0,0]
[276,null,null,null,null,null,null,null,0,null,null,0,0]
[277,null,null,null,null,null,null,null,0,null,null,0,0]
[278,null,null,null,null,null,null,null,0,null,null,0,0]
[279,null,null,null,null,null,null,null,0,null,null,0,0]
[280,null,null,null,null,null,null,null,0,null,null,0,0]
[281,null,null,null,null,null,null,null,0,null,null,0,0]
[282,null,null,null,null,null,null,null,0,null,null,0,0]
[283,null,null,null,null,null,null,null,0,null,null,0,0]
[284,null,null,null,null,null,null,null,0,null,null,0,0]
[285,null,null,null,null,null,null,null,0,null,null,0,0]
[286,null,null,null,null,null,null,null,0,null,null,0,0]
[287,null,null,null,null,null,null,null,0,null,null,0,0]
[288,null,null,null,null,null,null,null,0,null,null,0,0]
[289,null,null,null,null,null,null,null,0,null,null,0,0]
[290,null,null,null,null,null,null,null,0,null,null,0,0]
[291,null,null,null,null,null,null,null,0,null,null,0,0]
[292,null,null,null,null,null,null,null,0,null,null,0,0]
[293,null,null,null,null,null,null,null,0,null,null,0,0]
[294,null,null,null,null,null,null,null,0,null,null,0,0]
[295,null,null,null,null,null,null,null,0,null,null,0,0]
[296,null,null,null,null,null,null,null,0,null,null,0,0]
[297,null,null,null,null,null,null,null,0,null,null,0,0]
[298,null,null,null,null,null,null,null,0,null,null,0,0]
[299,null,null,null,null,null,null,null,0,null,null,0,0]
[300,null,null,null,null,null,null,null,0,null,null,0,0]

{"sheet":"ひな請求書","index":4,"n_rows":81,"n_cols":81,"rows_kept":81,"cut":false,"hidden":true,"merged":[[73,0,73,10],[73,11,73,12],[2,0,2,25],[74,0,74,10],[74,11,74,12],[74,27,74,28],[74,29,74,30],[74,31,74,32],[74,41,74,42],[72,35,72,36],[72,0,72,10],[72,11,72,12],[72,27,72,28],[72,29,72,30],[72,31,72,32],[72,33,72,34],[69,39,69,40],[68,35,68,36],[61,0,61,1],[61,10,61,11],[61,12,61,17],[61,28,61,29],[58,28,58,29],[58,30,58,31],[74,43,74,44],[74,45,74,47],[74,49,74,80],[74,33,74,34],[74,35,74,36],[74,37,74,38],[74,39,74,40],[73,27,73,28],[73,29,73,30],[73,31,73,32],[73,33,73,34],[73,35,73,36],[72,45,72,47],[72,49,72,52],[72,55,72,56],[73,51,73,80],[72,66,72,67],[72,37,72,38],[72,39,72,40],[72,41,72,42],[72,43,72,44],[73,41,73,42],[73,43,73,44],[73,37,73,38],[73,39,73,40],[73,45,73,47],[73,49,73,50],[72,75,72,76],[70,75,70,76],[71,0,71,10],[71,11,71,12],[71,27,71,28],[71,29,71,30],[71,31,71,32],[71,55,71,56],[71,66,71,67],[71,75,71,76],[71,41,71,42],[71,43,71,44],[71,45,71,47],[71,49,71,52],[71,33,71,34],[71,35,71,36],[71,37,71,38],[71,39,71,40],[70,35,70,36],[70,55,70,56],[70,66,70,67],[70,37,70,38],[70,39,70,40],[70,41,70,42],[70,43,70,44],[70,45,70,47],[70,49,70,51],[70,0,70,10],[70,11,70,12],[70,27,70,28],[70,29,70,30],[70,31,70,32],[70,33,70,34],[68,75,68,76],[69,0,69,10],[69,11,69,12],[69,27,69,28],[69,29,69,30],[69,31,69,32],[69,55,69,56],[69,66,69,67],[69,75,69,76],[69,41,69,42],[69,43,69,44],[69,45,69,47],[69,49,69,51],[69,33,69,34],[69,35,69,36],[69,37,69,38],[68,55,68,56],[68,66,68,67],[68,37,68,38],[68,39,68,40],[68,41,68,42],[68,43,68,44],[68,45,68,47],[68,49,68,51],[68,0,68,10],[68,11,68,12],[68,27,68,28],[68,29,68,30],[68,31,68,32],[68,33,68,34],[66,75,66,76],[67,0,67,10],[67,11,67,12],[67,27,67,28],[67,29,67,30],[67,31,67,32],[67,55,67,56],[67,66,67,67],[67,75,67,76],[67,41,67,42],[67,43,67,44],[67,45,67,47],[67,49,67,51],[67,33,67,34],[67,35,67,36],[67,37,67,38],[67,39,67,40],[66,35,66,36],[66,55,66,56],[66,66,66,67],[66,37,66,38],[66,39,66,40],[66,41,66,42],[66,43,66,44],[66,45,66,47],[66,49,66,51],[66,0,66,10],[66,11,66,12],[66,27,66,28],[66,29,66,30],[66,31,66,32],[66,33,66,34],[65,0,65,10],[65,11,65,12],[65,27,65,28],[65,29,65,30],[65,31,65,32],[65,55,65,56],[65,66,65,67],[65,75,65,76],[65,41,65,42],[65,43,65,44],[65,45,65,47],[65,49,65,51],[65,33,65,34],[65,35,65,36],[65,37,65,38],[65,39,65,40],[64,49,64,51],[63,55,63,56],[63,66,63,67],[63,75,63,76],[64,0,64,10],[64,11,64,12],[64,27,64,28],[64,29,64,30],[64,31,64,32],[64,33,64,34],[64,35,64,36],[64,75,64,76],[64,55,64,56],[64,66,64,67],[64,37,64,38],[64,39,64,40],[64,41,64,42],[64,43,64,44],[64,45,64,47],[61,61,61,66],[61,67,61,80],[62,53,62,62],[62,63,62,70],[62,71,62,80],[63,0,63,10],[63,11,63,12],[63,27,63,28],[63,29,63,30],[63,31,63,32],[62,49,62,51],[63,33,63,34],[63,35,63,36],[63,37,63,38],[63,39,63,40],[63,41,63,42],[63,43,63,44],[63,45,63,47],[63,49,63,51],[62,31,62,48],[62,0,62,10],[62,11,62,12],[62,13,62,21],[62,22,62,30],[61,44,61,45],[61,30,61,31],[61,32,61,33],[61,34,61,35],[61,36,61,37],[61,38,61,39],[61,40,61,41],[61,42,61,43],[60,32,60,33],[60,34,60,35],[60,50,60,60],[60,61,60,80],[60,36,60,37],[60,38,60,39],[60,40,60,41],[60,42,60,43],[60,44,60,45],[60,48,60,49],[59,57,59,60],[59,61,59,66],[59,67,59,80],[60,0,60,1],[60,10,60,11],[60,12,60,17],[60,28,60,29],[60,30,60,31],[59,38,59,39],[59,40,59,41],[58,44,58,45],[59,42,59,43],[59,44,59,45],[58,38,58,39],[59,34,59,35],[59,36,59,37],[59,0,59,1],[59,10,59,11],[59,12,59,17],[59,28,59,29],[59,30,59,31],[59,32,59,33],[58,0,58,1],[58,10,58,11],[58,12,58,17],[58,32,58,33],[58,34,58,35],[57,72,57,73],[57,65,57,66],[57,67,57,71],[57,40,57,41],[57,42,57,43],[57,61,57,64],[58,65,58,69],[58,70,58,80],[57,38,57,39],[58,48,58,49],[58,50,58,60],[58,61,58,64],[58,40,58,41],[58,42,58,43],[58,36,58,37],[56,73,56,79],[57,0,57,11],[57,12,57,17],[57,28,57,29],[57,30,57,31],[57,32,57,33],[57,34,57,35],[57,36,57,37],[57,74,57,75],[57,76,57,80],[57,50,57,60],[56,32,56,33],[56,34,56,35],[56,36,56,37],[56,38,56,39],[57,44,57,45],[57,48,57,49],[56,65,56,71],[56,40,56,41],[56,42,56,43],[56,44,56,45],[56,61,56,64],[56,28,56,29],[56,30,56,31],[54,74,54,80],[55,28,55,45],[55,47,55,49],[55,51,55,55],[55,56,55,80],[54,1,54,18],[46,51,46,80],[47,0,47,10],[47,11,47,12],[47,27,47,28],[47,29,47,30],[47,31,47,32],[47,41,47,42],[47,43,47,44],[47,45,47,47],[47,49,47,80],[47,33,47,34],[47,35,47,36],[47,37,47,38],[47,39,47,40],[46,41,46,42],[46,43,46,44],[46,37,46,38],[46,39,46,40],[46,45,46,47],[46,49,46,50],[45,75,45,76],[46,0,46,10],[46,11,46,12],[46,27,46,28],[46,29,46,30],[46,31,46,32],[46,33,46,34],[46,35,46,36],[45,35,45,36],[45,45,45,47],[45,49,45,52],[45,55,45,56],[45,66,45,67],[45,37,45,38],[45,39,45,40],[45,41,45,42],[45,43,45,44],[45,0,45,10],[45,11,45,12],[45,27,45,28],[45,29,45,30],[45,31,45,32],[45,33,45,34],[43,75,43,76],[44,0,44,10],[44,11,44,12],[44,27,44,28],[44,29,44,30],[44,31,44,32],[44,55,44,56],[44,66,44,67],[44,75,44,76],[44,41,44,42],[44,43,44,44],[44,45,44,47],[44,49,44,52],[44,33,44,34],[44,35,44,36],[44,37,44,38],[44,39,44,40],[43,35,43,36],[43,55,43,56],[43,66,43,67],[43,37,43,38],[43,39,43,40],[43,41,43,42],[43,43,43,44],[43,45,43,47],[43,49,43,51],[43,0,43,10],[43,11,43,12],[43,27,43,28],[43,29,43,30],[43,31,43,32],[43,33,43,34],[41,75,41,76],[42,0,42,10],[42,11,42,12],[42,27,42,28],[42,29,42,30],[42,31,42,32],[42,55,42,56],[42,66,42,67],[42,75,42,76],[42,41,42,42],[42,43,42,44],[42,45,42,47],[42,49,42,51],[42,33,42,34],[42,35,42,36],[42,37,42,38],[42,39,42,40],[41,35,41,36],[41,55,41,56],[41,66,41,67],[41,37,41,38],[41,39,41,40],[41,41,41,42],[41,43,41,44],[41,45,41,47],[41,49,41,51],[41,0,41,10],[41,11,41,12],[41,27,41,28],[41,29,41,30],[41,31,41,32],[41,33,41,34],[39,75,39,76],[40,0,40,10],[40,11,40,12],[40,27,40,28],[40,29,40,30],[40,31,40,32],[40,55,40,56],[40,66,40,67],[40,75,40,76],[40,41,40,42],[40,43,40,44],[40,45,40,47],[40,49,40,51],[40,33,40,34],[40,35,40,36],[40,37,40,38],[40,39,40,40],[39,35,39,36],[39,55,39,56],[39,66,39,67],[39,37,39,38],[39,39,39,40],[39,41,39,42],[39,43,39,44],[39,45,39,47],[39,49,39,51],[39,0,39,10],[39,11,39,12],[39,27,39,28],[39,29,39,30],[39,31,39,32],[39,33,39,34],[38,0,38,10],[38,11,38,12],[38,27,38,28],[38,29,38,30],[38,31,38,32],[38,55,38,56],[38,66,38,67],[38,75,38,76],[38,41,38,42],[38,43,38,44],[38,45,38,47],[38,49,38,51],[38,33,38,34],[38,35,38,36],[38,37,38,38],[38,39,38,40],[37,49,37,51],[36,55,36,56],[36,66,36,67],[36,43,36,44],[36,45,36,47],[36,49,36,51],[36,75,36,76],[37,0,37,10],[37,11,37,12],[37,27,37,28],[37,29,37,30],[37,31,37,32],[37,33,37,34],[37,35,37,36],[37,75,37,76],[37,55,37,56],[37,66,37,67],[37,37,37,38],[37,39,37,40],[37,41,37,42],[37,43,37,44],[37,45,37,47],[34,61,34,66],[34,67,34,80],[35,53,35,62],[35,63,35,70],[35,71,35,80],[36,0,36,10],[36,11,36,12],[36,27,36,28],[36,29,36,30],[36,31,36,32],[35,49,35,51],[36,33,36,34],[36,35,36,36],[36,37,36,38],[36,39,36,40],[36,41,36,42],[35,0,35,10],[35,11,35,12],[35,13,35,21],[35,22,35,30],[34,0,34,1],[34,10,34,11],[34,12,34,17],[34,28,34,29],[33,61,33,80],[33,36,33,37],[33,38,33,39],[33,40,33,41],[33,42,33,43],[33,44,33,45],[33,48,33,49],[35,31,35,48],[33,0,33,1],[33,10,33,11],[33,12,33,17],[33,28,33,29],[33,30,33,31],[33,32,33,33],[33,34,33,35],[34,44,34,45],[34,30,34,31],[34,32,34,33],[34,34,34,35],[34,36,34,37],[34,38,34,39],[34,40,34,41],[34,42,34,43],[33,50,33,60],[32,38,32,39],[32,40,32,41],[31,44,31,45],[32,34,32,35],[32,36,32,37],[31,42,31,43],[32,0,32,1],[32,10,32,11],[32,12,32,17],[32,28,32,29],[32,30,32,31],[32,32,32,33],[31,0,31,1],[31,10,31,11],[31,40,31,41],[31,30,31,31],[31,32,31,33],[31,34,31,35],[32,42,32,43],[32,44,32,45],[31,65,31,69],[31,48,31,49],[31,70,31,80],[32,57,32,60],[32,61,32,66],[32,67,32,80],[31,50,31,60],[31,61,31,64],[30,74,30,75],[30,76,30,80],[29,40,29,41],[19,39,19,40],[19,41,19,42],[26,51,26,80],[20,45,20,47],[29,61,29,64],[30,61,30,64],[30,65,30,66],[30,67,30,71],[30,50,30,60],[20,49,20,80],[18,49,18,52],[18,66,18,67],[19,45,19,47],[29,44,29,45],[29,65,29,71],[29,73,29,79],[30,44,30,45],[30,48,30,49],[30,72,30,73],[19,29,19,30],[17,39,17,40],[17,41,17,42],[17,43,17,44],[17,31,17,32],[18,29,18,30],[18,45,18,47],[19,49,19,50],[19,51,19,80],[18,75,18,76],[18,55,18,56],[18,35,18,36],[18,37,18,38],[18,41,18,42],[20,41,20,42],[20,43,20,44],[19,35,19,36],[18,39,18,40],[20,39,20,40],[16,31,16,32],[16,33,16,34],[17,33,17,34],[20,37,20,38],[19,43,19,44],[18,43,18,44],[19,37,19,38],[18,33,18,34],[17,29,17,30],[20,27,20,28],[17,27,17,28],[29,36,29,37],[17,37,17,38],[17,35,17,36],[30,32,30,33],[30,34,30,35],[16,37,16,38],[20,29,20,30],[20,31,20,32],[18,31,18,32],[29,32,29,33],[29,34,29,35],[30,30,30,31],[20,33,20,34],[30,28,30,29],[20,35,20,36],[19,27,19,28],[19,31,19,32],[18,27,18,28],[19,33,19,34],[16,27,16,28],[16,29,16,30],[5,36,5,37],[5,38,5,39],[7,38,7,39],[7,36,7,37],[6,36,6,37],[14,41,14,42],[15,43,15,44],[14,43,14,44],[15,39,15,40],[15,41,15,42],[13,43,13,44],[16,39,16,40],[16,35,16,36],[14,35,14,36],[15,37,15,38],[14,37,14,38],[12,37,12,38],[11,37,11,38],[16,41,16,42],[16,43,16,44],[11,35,11,36],[15,35,15,36],[5,57,5,60],[14,49,14,51],[13,55,13,56],[14,39,14,40],[5,42,5,43],[12,55,12,56],[12,49,12,51],[10,49,10,51],[11,45,11,47],[12,43,12,44],[10,45,10,47],[10,43,10,44],[11,43,11,44],[10,55,10,56],[11,55,11,56],[11,49,11,51],[0,1,0,18],[4,30,4,31],[7,0,7,1],[7,10,7,11],[6,0,6,1],[5,0,5,1],[5,28,5,29],[4,10,4,11],[3,12,3,17],[6,28,6,29],[7,30,7,31],[7,28,7,29],[3,30,3,31],[3,0,3,11],[5,30,5,31],[3,28,3,29],[6,10,6,11],[6,12,6,17],[2,30,2,31],[10,75,10,76],[11,75,11,76],[12,75,12,76],[13,66,13,67],[15,75,15,76],[9,66,9,67],[5,61,5,66],[5,67,5,80],[12,66,12,67],[11,66,11,67],[10,66,10,67],[6,61,6,80],[8,71,8,80],[8,63,8,70],[7,61,7,66],[7,67,7,80],[9,75,9,76],[16,75,16,76],[17,75,17,76],[13,75,13,76],[14,75,14,76],[16,49,16,51],[16,45,16,47],[17,55,17,56],[16,66,16,67],[17,45,17,47],[17,66,17,67],[16,55,16,56],[17,49,17,52],[15,66,15,67],[14,55,14,56],[15,55,15,56],[14,45,14,47],[14,66,14,67],[15,49,15,51],[13,49,13,51],[12,35,12,36],[12,33,12,34],[11,27,11,28],[12,27,12,28],[13,27,13,28],[13,29,13,30],[15,45,15,47],[12,31,12,32],[13,35,13,36],[13,31,13,32],[15,31,15,32],[13,45,13,47],[12,45,12,47],[15,0,15,10],[15,11,15,12],[14,0,14,10],[14,11,14,12],[15,29,15,30],[14,27,14,28],[14,31,14,32],[15,33,15,34],[13,33,13,34],[14,33,14,34],[13,0,13,10],[13,11,13,12],[15,27,15,28],[12,0,12,10],[12,11,12,12],[13,37,13,38],[11,0,11,10],[11,11,11,12],[14,29,14,30],[13,39,13,40],[13,41,13,42],[10,29,10,30],[11,33,11,34],[11,29,11,30],[10,31,10,32],[10,33,10,34],[11,31,11,32],[12,29,12,30],[11,39,11,40],[11,41,11,42],[12,41,12,42],[12,39,12,40],[10,39,10,40],[10,41,10,42],[10,35,10,36],[10,37,10,38],[10,0,10,10],[20,0,20,10],[20,11,20,12],[17,0,17,10],[18,0,18,10],[18,11,18,12],[19,0,19,10],[19,11,19,12],[17,11,17,12],[16,11,16,12],[16,0,16,10],[8,0,8,10],[7,12,7,17],[8,11,8,12],[9,0,9,10],[9,11,9,12],[9,29,9,30],[9,31,9,32],[8,31,8,48],[9,37,9,38],[9,43,9,44],[9,39,9,40],[9,45,9,47],[10,11,10,12],[10,27,10,28],[1,28,1,45],[5,44,5,45],[2,28,2,29],[2,44,2,45],[2,38,2,39],[6,44,6,45],[7,44,7,45],[3,44,3,45],[4,40,4,41],[4,38,4,39],[4,42,4,43],[6,40,6,41],[6,42,6,43],[6,38,6,39],[6,30,6,31],[5,32,5,33],[5,34,5,35],[7,32,7,33],[6,34,6,35],[7,34,7,35],[6,32,6,33],[3,32,3,33],[3,34,3,35],[3,36,3,37],[3,42,3,43],[2,40,2,41],[3,38,3,39],[3,40,3,41],[2,32,2,33],[2,34,2,35],[2,36,2,37],[2,42,2,43],[4,32,4,33],[4,12,4,17],[5,12,5,17],[4,44,4,45],[9,49,9,51],[4,0,4,1],[5,10,5,11],[6,48,6,49],[4,28,4,29],[4,34,4,35],[4,36,4,37],[5,40,5,41],[8,49,8,51],[6,50,6,60],[8,53,8,62],[9,55,9,56],[7,42,7,43],[7,40,7,41],[8,22,8,30],[9,41,9,42],[8,13,8,21],[9,35,9,36],[9,33,9,34],[9,27,9,28],[0,74,0,80],[3,48,3,49],[4,48,4,49],[2,73,2,79],[1,56,1,80],[3,50,3,60],[4,50,4,60],[1,47,1,49],[1,51,1,55],[2,65,2,71],[3,72,3,73],[4,65,4,69],[2,61,2,64],[4,70,4,80],[3,76,3,80],[3,61,3,64],[3,65,3,66],[4,61,4,64],[3,74,3,75],[3,67,3,71],[29,0,29,25],[56,0,56,25],[53,51,53,80],[80,51,80,80],[27,1,27,18],[27,74,27,80],[28,28,28,45],[28,47,28,49],[28,51,28,55],[28,56,28,80],[29,28,29,29],[29,30,29,31],[29,38,29,39],[31,12,31,17],[31,28,31,29],[30,0,30,11],[30,12,30,17],[30,38,30,39],[31,36,31,37],[31,38,31,39],[30,42,30,43],[30,40,30,41],[30,36,30,37],[29,42,29,43]]}
[null,"請求書（鏡）（一般用）　",null,null,null,null,null,null,null,null,null,null,null,null,null,null,null,null,null,null,null,null,null,null,null,null,null,null,null,null,null,null,null,null,null,null,null,null,null,null,null,null,null,null,null,null,null,null,null,null,null,null,null,null,null,null,null,null,null,null,null,null,null,null,null,null,null,null,null,null,null,null,null,null,{"$f":"\"P 1/\"&COUNTA(基本情報_工事名称1, 基本情報_工事名称2, 基本情報_工事名称3)","v":"P 1/1"}]
[null,null,null,null,null,null,null,null,null,null,null,null,null,null,null,null,null,null,null,null,null,null,null,null,null,null,null,null,"変更時当社記入欄",null,null,null,null,null,null,null,null,null,null,null,null,null,null,null,null,null,null,"取引先コード",null,null,{"$f":"基本情報_取引先コード","v":999999},"　締　日　",null,null,null,null,{"$f":"基本情報_請求締日","v":"2020-07-31"}]
["丸高・みなと特定建設工事共同企業体　御中",null,null,null,null,null,null,null,null,null,null,null,null,null,null,null,null,null,null,null,null,null,null,null,null,null,null,null,null,null,null,null,null,null,null,null,null,null,null,null,null,null,null,null,null,null,null,null,null,null,null,null,null,null,null,null,null,null,null,null,null,"振込銀行",null,null,null,{"$f":"基本情報_銀行名","v":"きらやか"},null,null,null,null,null,null,"銀\n行",{"$f":"基本情報_支店名","v":"酒田"},null,null,null,null,null,null,"支\n店"]
["下記の通り御請求申し上げます。",null,null,null,null,null,null,null,null,null,null,null,{"$f":"\"税率 ( \" & (基本情報_消費税率*100) & \"% )\"","v":"税率 ( 10% )"},null,null,null,null,null,null,null,null,null,null,null,null,null,null,null,null,null,null,null,null,null,null,null,null,null,null,null,null,null,null,null,null,null,null,null,"（住所）",null,{"$f":"基本情報_住所","v":"酒田市○○○○１－１"},null,null,null,null,null,null,null,null,null,null,"銀行ｺｰﾄﾞ",null,null,null,"4桁",null,{"$f":"基本情報_銀行コード","v":508},null,null,null,null,"支店\nｺｰﾄﾞ",null,"3桁",null,{"$f":"基本情報_支店コード","v":443}]
["前月請求額",null,{"$f":"getnumketa(基本情報_前月請求額,9)","v":""},{"$f":"getnumketa(基本情報_前月請求額,8)","v":""},{"$f":"getnumketa(基本情報_前月請求額,7)","v":""},{"$f":"getnumketa(基本情報_前月請求額,6)","v":""},{"$f":"getnumketa(基本情報_前月請求額,5)","v":""},{"$f":"getnumketa(基本情報_前月請求額,4)","v":""},{"$f":"getnumketa(基本情報_前月請求額,3)","v":""},{"$f":"getnumketa(基本情報_前月請求額,2)","v":""},{"$f":"getnumketa(基本情報_前月請求額,1)","v":"0"},null,"税抜金額計",null,null,null,null,null,{"$f":"getnumketa(基本情報_合計税抜金額+基本情報_合計非課税金額,9)","v":""},{"$f":"getnumketa(基本情報_合計税抜金額+基本情報_合計非課税金額,8)","v":""},{"$f":"getnumketa(基本情報_合計税抜金額+基本情報_合計非課税金額,7)","v":""},{"$f":"getnumketa(基本情報_合計税抜金額+基本情報_合計非課税金額,6)","v":"8"},{"$f":"getnumketa(基本情報_合計税抜金額+基本情報_合計非課税金額,5)","v":"5"},{"$f":"getnumketa(基本情報_合計税抜金額+基本情報_合計非課税金額,4)","v":"1"},{"$f":"getnumketa(基本情報_合計税抜金額+基本情報_合計非課税金額,3)","v":"1"},{"$f":"getnumketa(基本情報_合計税抜金額+基本情報_合計非課税金額,2)","v":"2"},{"$f":"getnumketa(基本情報_合計税抜金額+基本情報_合計非課税金額,1)","v":"1"},null,null,null,null,null,null,null,null,null,null,null,null,null,null,null,null,null,null,null,null,null,"（社名）",null,{"$f":"基本情報_社名","v":"(株）○○建設"},null,null,null,null,null,null,null,null,null,null,"口座番号",null,null,null,{"$f":"基本情報_口座種別","v":"当　座"},null,null,null,null,{"$f":"基本情報_口座番号","v":1234567}]
["入　金　額",null,{"$f":"getnumketa(基本情報_入金額,9)","v":""},{"$f":"getnumketa(基本情報_入金額,8)","v":""},{"$f":"getnumketa(基本情報_入金額,7)","v":""},{"$f":"getnumketa(基本情報_入金額,6)","v":""},{"$f":"getnumketa(基本情報_入金額,5)","v":""},{"$f":"getnumketa(基本情報_入金額,4)","v":""},{"$f":"getnumketa(基本情報_入金額,3)","v":""},{"$f":"getnumketa(基本情報_入金額,2)","v":""},{"$f":"getnumketa(基本情報_入金額,1)","v":"0"},null,"請求明細\n消費税合計",null,null,null,null,null,{"$f":"getnumketa(基本情報_合計消費税額,9)","v":""},{"$f":"getnumketa(基本情報_合計消費税額,8)","v":""},{"$f":"getnumketa(基本情報_合計消費税額,7)","v":""},{"$f":"getnumketa(基本情報_合計消費税額,6)","v":""},{"$f":"getnumketa(基本情報_合計消費税額,5)","v":"8"},{"$f":"getnumketa(基本情報_合計消費税額,4)","v":"5"},{"$f":"getnumketa(基本情報_合計消費税額,3)","v":"0"},{"$f":"getnumketa(基本情報_合計消費税額,2)","v":"8"},{"$f":"getnumketa(基本情報_合計消費税額,1)","v":"0"},null,null,null,null,null,null,null,null,null,null,null,null,null,null,null,null,null,null,null,null,null,null,null,null,null,null,null,null,null,null,"印",null,null,null,"口座名義:漢字"]
["値　引　額",null,{"$f":"getnumketa(基本情報_値引額,9)","v":""},{"$f":"getnumketa(基本情報_値引額,8)","v":""},{"$f":"getnumketa(基本情報_値引額,7)","v":""},{"$f":"getnumketa(基本情報_値引額,6)","v":""},{"$f":"getnumketa(基本情報_値引額,5)","v":""},{"$f":"getnumketa(基本情報_値引額,4)","v":""},{"$f":"getnumketa(基本情報_値引額,3)","v":""},{"$f":"getnumketa(基本情報_値引額,2)","v":""},{"$f":"getnumketa(基本情報_値引額,1)","v":"0"},null,"税込当月請求額",null,null,null,null,null,{"$f":"getnumketa(基本情報_合計税込金額,9)","v":""},{"$f":"getnumketa(基本情報_合計税込金額,8)","v":""},{"$f":"getnumketa(基本情報_合計税込金額,7)","v":""},{"$f":"getnumketa(基本情報_合計税込金額,6)","v":"9"},{"$f":"getnumketa(基本情報_合計税込金額,5)","v":"3"},{"$f":"getnumketa(基本情報_合計税込金額,4)","v":"6"},{"$f":"getnumketa(基本情報_合計税込金額,3)","v":"2"},{"$f":"getnumketa(基本情報_合計税込金額,2)","v":"0"},{"$f":"getnumketa(基本情報_合計税込金額,1)","v":"1"},null,null,null,null,null,null,null,null,null,null,null,null,null,null,null,null,null,null,null,null,null,"（電話）",null,{"$f":"基本情報_電話番号","v":"0234 - 00 - 0000"},null,null,null,null,null,null,null,null,null,null,{"$f":"基本情報_口座名義漢字","v":"(株）○○建設"}]
["繰越金額",null,{"$f":"getnumketa(基本情報_繰越金額,9)","v":""},{"$f":"getnumketa(基本情報_繰越金額,8)","v":""},{"$f":"getnumketa(基本情報_繰越金額,7)","v":""},{"$f":"getnumketa(基本情報_繰越金額,6)","v":""},{"$f":"getnumketa(基本情報_繰越金額,5)","v":""},{"$f":"getnumketa(基本情報_繰越金額,4)","v":""},{"$f":"getnumketa(基本情報_繰越金額,3)","v":""},{"$f":"getnumketa(基本情報_繰越金額,2)","v":""},{"$f":"getnumketa(基本情報_繰越金額,1)","v":"0"},null,"税込当月総請求額",null,null,null,null,null,{"$f":"getnumketa(基本情報_合計請求額,9)","v":""},{"$f":"getnumketa(基本情報_合計請求額,8)","v":""},{"$f":"getnumketa(基本情報_合計請求額,7)","v":""},{"$f":"getnumketa(基本情報_合計請求額,6)","v":"9"},{"$f":"getnumketa(基本情報_合計請求額,5)","v":"3"},{"$f":"getnumketa(基本情報_合計請求額,4)","v":"6"},{"$f":"getnumketa(基本情報_合計請求額,3)","v":"2"},{"$f":"getnumketa(基本情報_合計請求額,2)","v":"0"},{"$f":"getnumketa(基本情報_合計請求額,1)","v":"1"},null,null,null,null,null,null,null,null,null,null,null,null,null,null,null,null,null,null,null,null,null,null,null,null,null,null,null,null,null,null,null,null,null,null,"口座名義:カナ",null,null,null,null,null,{"$f":"基本情報_口座名義カナ","v":"ｶ)ﾏﾙﾏﾙｹﾝｾﾂ"}]
["工　　　事　　　名",null,null,null,null,null,null,null,null,null,null,"ＣＫ",null,"税抜金額",null,null,null,null,null,null,null,null,"消費税",null,null,null,null,null,null,null,null,"税込金額",null,null,null,null,null,null,null,null,null,null,null,null,null,null,null,null,null,"工　　　事　　　名",null,null,"ＣＫ","税抜金額",null,null,null,null,null,null,null,null,null,"消費税",null,null,null,null,null,null,null,"税込金額"]
[{"$f":"基本情報!$B30","v":"○○○○○工事"},null,null,null,null,null,null,null,null,null,null,null,null,{"$f":"getNumKeta0(基本情報!$E30+基本情報!$F30,9)","v":""},{"$f":"getNumKeta0(基本情報!$E30+基本情報!$F30,8)","v":""},{"$f":"getNumKeta0(基本情報!$E30+基本情報!$F30,7)","v":""},{"$f":"getNumKeta0(基本情報!$E30+基本情報!$F30,6)","v":"3"},{"$f":"getNumKeta0(基本情報!$E30+基本情報!$F30,5)","v":"5"},{"$f":"getNumKeta0(基本情報!$E30+基本情報!$F30,4)","v":"1"},{"$f":"getNumKeta0(基本情報!$E30+基本情報!$F30,3)","v":"1"},{"$f":"getNumKeta0(基本情報!$E30+基本情報!$F30,2)","v":"2"},{"$f":"getNumKeta0(基本情報!$E30+基本情報!$F30,1)","v":"1"},{"$f":"getNumKeta0(基本情報!$G30,7)","v":""},{"$f":"getNumKeta0(基本情報!$G30,6)","v":""},{"$f":"getNumKeta0(基本情報!$G30,5)","v":"3"},{"$f":"getNumKeta0(基本情報!$G30,4)","v":"5"},{"$f":"getNumKeta0(基本情報!$G30,3)","v":"0"},{"$f":"getNumKeta0(基本情報!$G30,2)","v":"8"},{"$f":"getnumketa(基本情報!M31,1)","v":"0"},{"$f":"getNumKeta0(基本情報!$G30,1)","v":"0"},null,{"$f":"getNumKeta0(基本情報!$H30,9)","v":""},null,{"$f":"getNumKeta0(基本情報!$H30,8)","v":""},null,{"$f":"getNumKeta0(基本情報!$H30,7)","v":""},null,{"$f":"getNumKeta0(基本情報!$H30,6)","v":"3"},null,{"$f":"getNumKeta0(基本情報!$H30,5)","v":"8"},null,{"$f":"getNumKeta0(基本情報!$H30,4)","v":"6"},null,{"$f":"getNumKeta0(基本情報!$H30,3)","v":"2"},null,{"$f":"getNumKeta0(基本情報!$H30,2)","v":"0"},null,null,{"$f":"getNumKeta0(基本情報!$H30,1)","v":"1"},{"$f":"基本情報!$B42","v":0},null,null,null,{"$f":"getNumKeta0(基本情報!$E42+基本情報!$F42,9)","v":""},{"$f":"getNumKeta0(基本情報!$E42+基本情報!$F42,8)","v":""},{"$f":"getNumKeta0(基本情報!$E42+基本情報!$F42,7)","v":""},{"$f":"getnumketa(基本情報!AQ31,6)","v":""},{"$f":"getNumKeta0(基本情報!$E42+基本情報!$F42,6)","v":""},{"$f":"getNumKeta0(基本情報!$E42+基本情報!$F42,5)","v":""},{"$f":"getNumKeta0(基本情報!$E42+基本情報!$F42,4)","v":""},{"$f":"getNumKeta0(基本情報!$E42+基本情報!$F42,3)","v":""},{"$f":"getNumKeta0(基本情報!$E42+基本情報!$F42,2)","v":""},{"$f":"getNumKeta0(基本情報!$E42+基本情報!$F42,1)","v":""},{"$f":"getNumKeta0(基本情報!$G42,7)","v":""},{"$f":"getNumKeta0(基本情報!$G42,6)","v":""},{"$f":"getNumKeta0(基本情報!$G42,5)","v":""},{"$f":"getNumKeta0(基本情報!$G42,4)","v":""},{"$f":"getnumketa(基本情報!N43,4)","v":""},{"$f":"getNumKeta0(基本情報!$G42,3)","v":""},{"$f":"getNumKeta0(基本情報!$G42,2)","v":""},{"$f":"getNumKeta0(基本情報!$G42,1)","v":""},{"$f":"getNumKeta0(基本情報!$H42,9)","v":""},{"$f":"getNumKeta0(基本情報!$H42,8)","v":""},{"$f":"getNumKeta0(基本情報!$H42,7)","v":""},{"$f":"getNumKeta0(基本情報!$H42,6)","v":""},{"$f":"getNumKeta0(基本情報!$H42,5)","v":""},null,{"$f":"getNumKeta0(基本情報!$H42,4)","v":""},{"$f":"getNumKeta0(基本情報!$H42,3)","v":""},{"$f":"getNumKeta0(基本情報!$H42,2)","v":""},{"$f":"getNumKeta0(基本情報!$H42,1)","v":""}]
[{"$f":"基本情報!$B31","v":"×××××工事"},null,null,null,null,null,null,null,null,null,null,null,null,{"$f":"getNumKeta0(基本情報!$E31+基本情報!$F31,9)","v":""},{"$f":"getNumKeta0(基本情報!$E31+基本情報!$F31,8)","v":""},{"$f":"getNumKeta0(基本情報!$E31+基本情報!$F31,7)","v":""},{"$f":"getNumKeta0(基本情報!$E31+基本情報!$F31,6)","v":"5"},{"$f":"getNumKeta0(基本情報!$E31+基本情報!$F31,5)","v":"0"},{"$f":"getNumKeta0(基本情報!$E31+基本情報!$F31,4)","v":"0"},{"$f":"getNumKeta0(基本情報!$E31+基本情報!$F31,3)","v":"0"},{"$f":"getNumKeta0(基本情報!$E31+基本情報!$F31,2)","v":"0"},{"$f":"getNumKeta0(基本情報!$E31+基本情報!$F31,1)","v":"0"},{"$f":"getNumKeta0(基本情報!$G31,7)","v":""},{"$f":"getNumKeta0(基本情報!$G31,6)","v":""},{"$f":"getNumKeta0(基本情報!$G31,5)","v":"5"},{"$f":"getNumKeta0(基本情報!$G31,4)","v":"0"},{"$f":"getNumKeta0(基本情報!$G31,3)","v":"0"},{"$f":"getNumKeta0(基本情報!$G31,2)","v":"0"},{"$f":"getnumketa(基本情報!M32,1)","v":"0"},{"$f":"getNumKeta0(基本情報!$G31,1)","v":"0"},null,{"$f":"getNumKeta0(基本情報!$H31,9)","v":""},null,{"$f":"getNumKeta0(基本情報!$H31,8)","v":""},null,{"$f":"getNumKeta0(基本情報!$H31,7)","v":""},null,{"$f":"getNumKeta0(基本情報!$H31,6)","v":"5"},null,{"$f":"getNumKeta0(基本情報!$H31,5)","v":"5"},null,{"$f":"getNumKeta0(基本情報!$H31,4)","v":"0"},null,{"$f":"getNumKeta0(基本情報!$H31,3)","v":"0"},null,{"$f":"getNumKeta0(基本情報!$H31,2)","v":"0"},null,null,{"$f":"getNumKeta0(基本情報!$H31,1)","v":"0"},{"$f":"基本情報!$B43","v":0},null,null,null,{"$f":"getNumKeta0(基本情報!$E43+基本情報!$F43,9)","v":""},{"$f":"getNumKeta0(基本情報!$E43+基本情報!$F43,8)","v":""},{"$f":"getNumKeta0(基本情報!$E43+基本情報!$F43,7)","v":""},{"$f":"getnumketa(基本情報!AQ32,6)","v":""},{"$f":"getNumKeta0(基本情報!$E43+基本情報!$F43,6)","v":""},{"$f":"getNumKeta0(基本情報!$E43+基本情報!$F43,5)","v":""},{"$f":"getNumKeta0(基本情報!$E43+基本情報!$F43,4)","v":""},{"$f":"getNumKeta0(基本情報!$E43+基本情報!$F43,3)","v":""},{"$f":"getNumKeta0(基本情報!$E43+基本情報!$F43,2)","v":""},{"$f":"getNumKeta0(基本情報!$E43+基本情報!$F43,1)","v":""},{"$f":"getNumKeta0(基本情報!$G43,7)","v":""},{"$f":"getNumKeta0(基本情報!$G43,6)","v":""},{"$f":"getNumKeta0(基本情報!$G43,5)","v":""},{"$f":"getNumKeta0(基本情報!$G43,4)","v":""},{"$f":"getnumketa(基本情報!N44,4)","v":""},{"$f":"getNumKeta0(基本情報!$G43,3)","v":""},{"$f":"getNumKeta0(基本情報!$G43,2)","v":""},{"$f":"getNumKeta0(基本情報!$G43,1)","v":""},{"$f":"getNumKeta0(基本情報!$H43,9)","v":""},{"$f":"getNumKeta0(基本情報!$H43,8)","v":""},{"$f":"getNumKeta0(基本情報!$H43,7)","v":""},{"$f":"getNumKeta0(基本情報!$H43,6)","v":""},{"$f":"getNumKeta0(基本情報!$H43,5)","v":""},null,{"$f":"getNumKeta0(基本情報!$H43,4)","v":""},{"$f":"getNumKeta0(基本情報!$H43,3)","v":""},{"$f":"getNumKeta0(基本情報!$H43,2)","v":""},{"$f":"getNumKeta0(基本情報!$H43,1)","v":""}]
[{"$f":"基本情報!$B32","v":0},null,null,null,null,null,null,null,null,null,null,null,null,{"$f":"getNumKeta0(基本情報!$E32+基本情報!$F32,9)","v":""},{"$f":"getNumKeta0(基本情報!$E32+基本情報!$F32,8)","v":""},{"$f":"getNumKeta0(基本情報!$E32+基本情報!$F32,7)","v":""},{"$f":"getNumKeta0(基本情報!$E32+基本情報!$F32,6)","v":""},{"$f":"getNumKeta0(基本情報!$E32+基本情報!$F32,5)","v":""},{"$f":"getNumKeta0(基本情報!$E32+基本情報!$F32,4)","v":""},{"$f":"getNumKeta0(基本情報!$E32+基本情報!$F32,3)","v":""},{"$f":"getNumKeta0(基本情報!$E32+基本情報!$F32,2)","v":""},{"$f":"getNumKeta0(基本情報!$E32+基本情報!$F32,1)","v":""},{"$f":"getNumKeta0(基本情報!$G32,7)","v":""},{"$f":"getNumKeta0(基本情報!$G32,6)","v":""},{"$f":"getNumKeta0(基本情報!$G32,5)","v":""},{"$f":"getNumKeta0(基本情報!$G32,4)","v":""},{"$f":"getNumKeta0(基本情報!$G32,3)","v":""},{"$f":"getNumKeta0(基本情報!$G32,2)","v":""},{"$f":"getnumketa(基本情報!M33,1)","v":"0"},{"$f":"getNumKeta0(基本情報!$G32,1)","v":""},null,{"$f":"getNumKeta0(基本情報!$H32,9)","v":""},null,{"$f":"getNumKeta0(基本情報!$H32,8)","v":""},null,{"$f":"getNumKeta0(基本情報!$H32,7)","v":""},null,{"$f":"getNumKeta0(基本情報!$H32,6)","v":""},null,{"$f":"getNumKeta0(基本情報!$H32,5)","v":""},null,{"$f":"getNumKeta0(基本情報!$H32,4)","v":""},null,{"$f":"getNumKeta0(基本情報!$H32,3)","v":""},null,{"$f":"getNumKeta0(基本情報!$H32,2)","v":""},null,null,{"$f":"getNumKeta0(基本情報!$H32,1)","v":""},{"$f":"基本情報!$B44","v":0},null,null,null,{"$f":"getNumKeta0(基本情報!$E44+基本情報!$F44,9)","v":""},{"$f":"getNumKeta0(基本情報!$E44+基本情報!$F44,8)","v":""},{"$f":"getNumKeta0(基本情報!$E44+基本情報!$F44,7)","v":""},{"$f":"getnumketa(基本情報!AQ33,6)","v":""},{"$f":"getNumKeta0(基本情報!$E44+基本情報!$F44,6)","v":""},{"$f":"getNumKeta0(基本情報!$E44+基本情報!$F44,5)","v":""},{"$f":"getNumKeta0(基本情報!$E44+基本情報!$F44,4)","v":""},{"$f":"getNumKeta0(基本情報!$E44+基本情報!$F44,3)","v":""},{"$f":"getNumKeta0(基本情報!$E44+基本情報!$F44,2)","v":""},{"$f":"getNumKeta0(基本情報!$E44+基本情報!$F44,1)","v":""},{"$f":"getNumKeta0(基本情報!$G44,7)","v":""},{"$f":"getNumKeta0(基本情報!$G44,6)","v":""},{"$f":"getNumKeta0(基本情報!$G44,5)","v":""},{"$f":"getNumKeta0(基本情報!$G44,4)","v":""},{"$f":"getnumketa(基本情報!N45,4)","v":""},{"$f":"getNumKeta0(基本情報!$G44,3)","v":""},{"$f":"getNumKeta0(基本情報!$G44,2)","v":""},{"$f":"getNumKeta0(基本情報!$G44,1)","v":""},{"$f":"getNumKeta0(基本情報!$H44,9)","v":""},{"$f":"getNumKeta0(基本情報!$H44,8)","v":""},{"$f":"getNumKeta0(基本情報!$H44,7)","v":""},{"$f":"getNumKeta0(基本情報!$H44,6)","v":""},{"$f":"getNumKeta0(基本情報!$H44,5)","v":""},null,{"$f":"getNumKeta0(基本情報!$H44,4)","v":""},{"$f":"getNumKeta0(基本情報!$H44,3)","v":""},{"$f":"getNumKeta0(基本情報!$H44,2)","v":""},{"$f":"getNumKeta0(基本情報!$H44,1)","v":""}]
[{"$f":"基本情報!$B33","v":0},null,null,null,null,null,null,null,null,null,null,null,null,{"$f":"getNumKeta0(基本情報!$E33+基本情報!$F33,9)","v":""},{"$f":"getNumKeta0(基本情報!$E33+基本情報!$F33,8)","v":""},{"$f":"getNumKeta0(基本情報!$E33+基本情報!$F33,7)","v":""},{"$f":"getNumKeta0(基本情報!$E33+基本情報!$F33,6)","v":""},{"$f":"getNumKeta0(基本情報!$E33+基本情報!$F33,5)","v":""},{"$f":"getNumKeta0(基本情報!$E33+基本情報!$F33,4)","v":""},{"$f":"getNumKeta0(基本情報!$E33+基本情報!$F33,3)","v":""},{"$f":"getNumKeta0(基本情報!$E33+基本情報!$F33,2)","v":""},{"$f":"getNumKeta0(基本情報!$E33+基本情報!$F33,1)","v":""},{"$f":"getNumKeta0(基本情報!$G33,7)","v":""},{"$f":"getNumKeta0(基本情報!$G33,6)","v":""},{"$f":"getNumKeta0(基本情報!$G33,5)","v":""},{"$f":"getNumKeta0(基本情報!$G33,4)","v":""},{"$f":"getNumKeta0(基本情報!$G33,3)","v":""},{"$f":"getNumKeta0(基本情報!$G33,2)","v":""},{"$f":"getnumketa(基本情報!M34,1)","v":"0"},{"$f":"getNumKeta0(基本情報!$G33,1)","v":""},null,{"$f":"getNumKeta0(基本情報!$H33,9)","v":""},null,{"$f":"getNumKeta0(基本情報!$H33,8)","v":""},null,{"$f":"getNumKeta0(基本情報!$H33,7)","v":""},null,{"$f":"getNumKeta0(基本情報!$H33,6)","v":""},null,{"$f":"getNumKeta0(基本情報!$H33,5)","v":""},null,{"$f":"getNumKeta0(基本情報!$H33,4)","v":""},null,{"$f":"getNumKeta0(基本情報!$H33,3)","v":""},null,{"$f":"getNumKeta0(基本情報!$H33,2)","v":""},null,null,{"$f":"getNumKeta0(基本情報!$H33,1)","v":""},{"$f":"基本情報!$B45","v":0},null,null,null,{"$f":"getNumKeta0(基本情報!$E45+基本情報!$F45,9)","v":""},{"$f":"getNumKeta0(基本情報!$E45+基本情報!$F45,8)","v":""},{"$f":"getNumKeta0(基本情報!$E45+基本情報!$F45,7)","v":""},{"$f":"getnumketa(基本情報!AQ34,6)","v":""},{"$f":"getNumKeta0(基本情報!$E45+基本情報!$F45,6)","v":""},{"$f":"getNumKeta0(基本情報!$E45+基本情報!$F45,5)","v":""},{"$f":"getNumKeta0(基本情報!$E45+基本情報!$F45,4)","v":""},{"$f":"getNumKeta0(基本情報!$E45+基本情報!$F45,3)","v":""},{"$f":"getNumKeta0(基本情報!$E45+基本情報!$F45,2)","v":""},{"$f":"getNumKeta0(基本情報!$E45+基本情報!$F45,1)","v":""},{"$f":"getNumKeta0(基本情報!$G45,7)","v":""},{"$f":"getNumKeta0(基本情報!$G45,6)","v":""},{"$f":"getNumKeta0(基本情報!$G45,5)","v":""},{"$f":"getNumKeta0(基本情報!$G45,4)","v":""},{"$f":"getnumketa(基本情報!N46,4)","v":""},{"$f":"getNumKeta0(基本情報!$G45,3)","v":""},{"$f":"getNumKeta0(基本情報!$G45,2)","v":""},{"$f":"getNumKeta0(基本情報!$G45,1)","v":""},{"$f":"getNumKeta0(基本情報!$H45,9)","v":""},{"$f":"getNumKeta0(基本情報!$H45,8)","v":""},{"$f":"getNumKeta0(基本情報!$H45,7)","v":""},{"$f":"getNumKeta0(基本情報!$H45,6)","v":""},{"$f":"getNumKeta0(基本情報!$H45,5)","v":""},null,{"$f":"getNumKeta0(基本情報!$H45,4)","v":""},{"$f":"getNumKeta0(基本情報!$H45,3)","v":""},{"$f":"getNumKeta0(基本情報!$H45,2)","v":""},{"$f":"getNumKeta0(基本情報!$H45,1)","v":""}]
[{"$f":"基本情報!$B34","v":0},null,null,null,null,null,null,null,null,null,null,null,null,{"$f":"getNumKeta0(基本情報!$E34+基本情報!$F34,9)","v":""},{"$f":"getNumKeta0(基本情報!$E34+基本情報!$F34,8)","v":""},{"$f":"getNumKeta0(基本情報!$E34+基本情報!$F34,7)","v":""},{"$f":"getNumKeta0(基本情報!$E34+基本情報!$F34,6)","v":""},{"$f":"getNumKeta0(基本情報!$E34+基本情報!$F34,5)","v":""},{"$f":"getNumKeta0(基本情報!$E34+基本情報!$F34,4)","v":""},{"$f":"getNumKeta0(基本情報!$E34+基本情報!$F34,3)","v":""},{"$f":"getNumKeta0(基本情報!$E34+基本情報!$F34,2)","v":""},{"$f":"getNumKeta0(基本情報!$E34+基本情報!$F34,1)","v":""},{"$f":"getNumKeta0(基本情報!$G34,7)","v":""},{"$f":"getNumKeta0(基本情報!$G34,6)","v":""},{"$f":"getNumKeta0(基本情報!$G34,5)","v":""},{"$f":"getNumKeta0(基本情報!$G34,4)","v":""},{"$f":"getNumKeta0(基本情報!$G34,3)","v":""},{"$f":"getNumKeta0(基本情報!$G34,2)","v":""},{"$f":"getnumketa(基本情報!M35,1)","v":"0"},{"$f":"getNumKeta0(基本情報!$G34,1)","v":""},null,{"$f":"getNumKeta0(基本情報!$H34,9)","v":""},null,{"$f":"getNumKeta0(基本情報!$H34,8)","v":""},null,{"$f":"getNumKeta0(基本情報!$H34,7)","v":""},null,{"$f":"getNumKeta0(基本情報!$H34,6)","v":""},null,{"$f":"getNumKeta0(基本情報!$H34,5)","v":""},null,{"$f":"getNumKeta0(基本情報!$H34,4)","v":""},null,{"$f":"getNumKeta0(基本情報!$H34,3)","v":""},null,{"$f":"getNumKeta0(基本情報!$H34,2)","v":""},null,null,{"$f":"getNumKeta0(基本情報!$H34,1)","v":""},{"$f":"基本情報!$B46","v":0},null,null,null,{"$f":"getNumKeta0(基本情報!$E46+基本情報!$F46,9)","v":""},{"$f":"getNumKeta0(基本情報!$E46+基本情報!$F46,8)","v":""},{"$f":"getNumKeta0(基本情報!$E46+基本情報!$F46,7)","v":""},{"$f":"getnumketa(基本情報!AQ35,6)","v":""},{"$f":"getNumKeta0(基本情報!$E46+基本情報!$F46,6)","v":""},{"$f":"getNumKeta0(基本情報!$E46+基本情報!$F46,5)","v":""},{"$f":"getNumKeta0(基本情報!$E46+基本情報!$F46,4)","v":""},{"$f":"getNumKeta0(基本情報!$E46+基本情報!$F46,3)","v":""},{"$f":"getNumKeta0(基本情報!$E46+基本情報!$F46,2)","v":""},{"$f":"getNumKeta0(基本情報!$E46+基本情報!$F46,1)","v":""},{"$f":"getNumKeta0(基本情報!$G46,7)","v":""},{"$f":"getNumKeta0(基本情報!$G46,6)","v":""},{"$f":"getNumKeta0(基本情報!$G46,5)","v":""},{"$f":"getNumKeta0(基本情報!$G46,4)","v":""},{"$f":"getnumketa(基本情報!N47,4)","v":""},{"$f":"getNumKeta0(基本情報!$G46,3)","v":""},{"$f":"getNumKeta0(基本情報!$G46,2)","v":""},{"$f":"getNumKeta0(基本情報!$G46,1)","v":""},{"$f":"getNumKeta0(基本情報!$H46,9)","v":""},{"$f":"getNumKeta0(基本情報!$H46,8)","v":""},{"$f":"getNumKeta0(基本情報!$H46,7)","v":""},{"$f":"getNumKeta0(基本情報!$H46,6)","v":""},{"$f":"getNumKeta0(基本情報!$H46,5)","v":""},null,{"$f":"getNumKeta0(基本情報!$H46,4)","v":""},{"$f":"getNumKeta0(基本情報!$H46,3)","v":""},{"$f":"getNumKeta0(基本情報!$H46,2)","v":""},{"$f":"getNumKeta0(基本情報!$H46,1)","v":""}]
[{"$f":"基本情報!$B35","v":0},null,null,null,null,null,null,null,null,null,null,null,null,{"$f":"getNumKeta0(基本情報!$E35+基本情報!$F35,9)","v":""},{"$f":"getNumKeta0(基本情報!$E35+基本情報!$F35,8)","v":""},{"$f":"getNumKeta0(基本情報!$E35+基本情報!$F35,7)","v":""},{"$f":"getNumKeta0(基本情報!$E35+基本情報!$F35,6)","v":""},{"$f":"getNumKeta0(基本情報!$E35+基本情報!$F35,5)","v":""},{"$f":"getNumKeta0(基本情報!$E35+基本情報!$F35,4)","v":""},{"$f":"getNumKeta0(基本情報!$E35+基本情報!$F35,3)","v":""},{"$f":"getNumKeta0(基本情報!$E35+基本情報!$F35,2)","v":""},{"$f":"getNumKeta0(基本情報!$E35+基本情報!$F35,1)","v":""},{"$f":"getNumKeta0(基本情報!$G35,7)","v":""},{"$f":"getNumKeta0(基本情報!$G35,6)","v":""},{"$f":"getNumKeta0(基本情報!$G35,5)","v":""},{"$f":"getNumKeta0(基本情報!$G35,4)","v":""},{"$f":"getNumKeta0(基本情報!$G35,3)","v":""},{"$f":"getNumKeta0(基本情報!$G35,2)","v":""},{"$f":"getnumketa(基本情報!M36,1)","v":"0"},{"$f":"getNumKeta0(基本情報!$G35,1)","v":""},null,{"$f":"getNumKeta0(基本情報!$H35,9)","v":""},null,{"$f":"getNumKeta0(基本情報!$H35,8)","v":""},null,{"$f":"getNumKeta0(基本情報!$H35,7)","v":""},null,{"$f":"getNumKeta0(基本情報!$H35,6)","v":""},null,{"$f":"getNumKeta0(基本情報!$H35,5)","v":""},null,{"$f":"getNumKeta0(基本情報!$H35,4)","v":""},null,{"$f":"getNumKeta0(基本情報!$H35,3)","v":""},null,{"$f":"getNumKeta0(基本情報!$H35,2)","v":""},null,null,{"$f":"getNumKeta0(基本情報!$H35,1)","v":""},{"$f":"基本情報!$B47","v":0},null,null,null,{"$f":"getNumKeta0(基本情報!$E47+基本情報!$F47,9)","v":""},{"$f":"getNumKeta0(基本情報!$E47+基本情報!$F47,8)","v":""},{"$f":"getNumKeta0(基本情報!$E47+基本情報!$F47,7)","v":""},{"$f":"getnumketa(基本情報!AQ36,6)","v":""},{"$f":"getNumKeta0(基本情報!$E47+基本情報!$F47,6)","v":""},{"$f":"getNumKeta0(基本情報!$E47+基本情報!$F47,5)","v":""},{"$f":"getNumKeta0(基本情報!$E47+基本情報!$F47,4)","v":""},{"$f":"getNumKeta0(基本情報!$E47+基本情報!$F47,3)","v":""},{"$f":"getNumKeta0(基本情報!$E47+基本情報!$F47,2)","v":""},{"$f":"getNumKeta0(基本情報!$E47+基本情報!$F47,1)","v":""},{"$f":"getNumKeta0(基本情報!$G47,7)","v":""},{"$f":"getNumKeta0(基本情報!$G47,6)","v":""},{"$f":"getNumKeta0(基本情報!$G47,5)","v":""},{"$f":"getNumKeta0(基本情報!$G47,4)","v":""},{"$f":"getnumketa(基本情報!N48,4)","v":""},{"$f":"getNumKeta0(基本情報!$G47,3)","v":""},{"$f":"getNumKeta0(基本情報!$G47,2)","v":""},{"$f":"getNumKeta0(基本情報!$G47,1)","v":""},{"$f":"getNumKeta0(基本情報!$H47,9)","v":""},{"$f":"getNumKeta0(基本情報!$H47,8)","v":""},{"$f":"getNumKeta0(基本情報!$H47,7)","v":""},{"$f":"getNumKeta0(基本情報!$H47,6)","v":""},{"$f":"getNumKeta0(基本情報!$H47,5)","v":""},null,{"$f":"getNumKeta0(基本情報!$H47,4)","v":""},{"$f":"getNumKeta0(基本情報!$H47,3)","v":""},{"$f":"getNumKeta0(基本情報!$H47,2)","v":""},{"$f":"getNumKeta0(基本情報!$H47,1)","v":""}]
[{"$f":"基本情報!$B36","v":0},null,null,null,null,null,null,null,null,null,null,null,null,{"$f":"getNumKeta0(基本情報!$E36+基本情報!$F36,9)","v":""},{"$f":"getNumKeta0(基本情報!$E36+基本情報!$F36,8)","v":""},{"$f":"getNumKeta0(基本情報!$E36+基本情報!$F36,7)","v":""},{"$f":"getNumKeta0(基本情報!$E36+基本情報!$F36,6)","v":""},{"$f":"getNumKeta0(基本情報!$E36+基本情報!$F36,5)","v":""},{"$f":"getNumKeta0(基本情報!$E36+基本情報!$F36,4)","v":""},{"$f":"getNumKeta0(基本情報!$E36+基本情報!$F36,3)","v":""},{"$f":"getNumKeta0(基本情報!$E36+基本情報!$F36,2)","v":""},{"$f":"getNumKeta0(基本情報!$E36+基本情報!$F36,1)","v":""},{"$f":"getNumKeta0(基本情報!$G36,7)","v":""},{"$f":"getNumKeta0(基本情報!$G36,6)","v":""},{"$f":"getNumKeta0(基本情報!$G36,5)","v":""},{"$f":"getNumKeta0(基本情報!$G36,4)","v":""},{"$f":"getNumKeta0(基本情報!$G36,3)","v":""},{"$f":"getNumKeta0(基本情報!$G36,2)","v":""},{"$f":"getnumketa(基本情報!M37,1)","v":"0"},{"$f":"getNumKeta0(基本情報!$G36,1)","v":""},null,{"$f":"getNumKeta0(基本情報!$H36,9)","v":""},null,{"$f":"getNumKeta0(基本情報!$H36,8)","v":""},null,{"$f":"getNumKeta0(基本情報!$H36,7)","v":""},null,{"$f":"getNumKeta0(基本情報!$H36,6)","v":""},null,{"$f":"getNumKeta0(基本情報!$H36,5)","v":""},null,{"$f":"getNumKeta0(基本情報!$H36,4)","v":""},null,{"$f":"getNumKeta0(基本情報!$H36,3)","v":""},null,{"$f":"getNumKeta0(基本情報!$H36,2)","v":""},null,null,{"$f":"getNumKeta0(基本情報!$H36,1)","v":""},{"$f":"基本情報!$B48","v":0},null,null,null,{"$f":"getNumKeta0(基本情報!$E48+基本情報!$F48,9)","v":""},{"$f":"getNumKeta0(基本情報!$E48+基本情報!$F48,8)","v":""},{"$f":"getNumKeta0(基本情報!$E48+基本情報!$F48,7)","v":""},{"$f":"getnumketa(基本情報!AQ37,6)","v":""},{"$f":"getNumKeta0(基本情報!$E48+基本情報!$F48,6)","v":""},{"$f":"getNumKeta0(基本情報!$E48+基本情報!$F48,5)","v":""},{"$f":"getNumKeta0(基本情報!$E48+基本情報!$F48,4)","v":""},{"$f":"getNumKeta0(基本情報!$E48+基本情報!$F48,3)","v":""},{"$f":"getNumKeta0(基本情報!$E48+基本情報!$F48,2)","v":""},{"$f":"getNumKeta0(基本情報!$E48+基本情報!$F48,1)","v":""},{"$f":"getNumKeta0(基本情報!$G48,7)","v":""},{"$f":"getNumKeta0(基本情報!$G48,6)","v":""},{"$f":"getNumKeta0(基本情報!$G48,5)","v":""},{"$f":"getNumKeta0(基本情報!$G48,4)","v":""},{"$f":"getnumketa(基本情報!N49,4)","v":""},{"$f":"getNumKeta0(基本情報!$G48,3)","v":""},{"$f":"getNumKeta0(基本情報!$G48,2)","v":""},{"$f":"getNumKeta0(基本情報!$G48,1)","v":""},{"$f":"getNumKeta0(基本情報!$H48,9)","v":""},{"$f":"getNumKeta0(基本情報!$H48,8)","v":""},{"$f":"getNumKeta0(基本情報!$H48,7)","v":""},{"$f":"getNumKeta0(基本情報!$H48,6)","v":""},{"$f":"getNumKeta0(基本情報!$H48,5)","v":""},null,{"$f":"getNumKeta0(基本情報!$H48,4)","v":""},{"$f":"getNumKeta0(基本情報!$H48,3)","v":""},{"$f":"getNumKeta0(基本情報!$H48,2)","v":""},{"$f":"getNumKeta0(基本情報!$H48,1)","v":""}]
[{"$f":"基本情報!$B37","v":0},null,null,null,null,null,null,null,null,null,null,null,null,{"$f":"getNumKeta0(基本情報!$E37+基本情報!$F37,9)","v":""},{"$f":"getNumKeta0(基本情報!$E37+基本情報!$F37,8)","v":""},{"$f":"getNumKeta0(基本情報!$E37+基本情報!$F37,7)","v":""},{"$f":"getNumKeta0(基本情報!$E37+基本情報!$F37,6)","v":""},{"$f":"getNumKeta0(基本情報!$E37+基本情報!$F37,5)","v":""},{"$f":"getNumKeta0(基本情報!$E37+基本情報!$F37,4)","v":""},{"$f":"getNumKeta0(基本情報!$E37+基本情報!$F37,3)","v":""},{"$f":"getNumKeta0(基本情報!$E37+基本情報!$F37,2)","v":""},{"$f":"getNumKeta0(基本情報!$E37+基本情報!$F37,1)","v":""},{"$f":"getNumKeta0(基本情報!$G37,7)","v":""},{"$f":"getNumKeta0(基本情報!$G37,6)","v":""},{"$f":"getNumKeta0(基本情報!$G37,5)","v":""},{"$f":"getNumKeta0(基本情報!$G37,4)","v":""},{"$f":"getNumKeta0(基本情報!$G37,3)","v":""},{"$f":"getNumKeta0(基本情報!$G37,2)","v":""},{"$f":"getnumketa(基本情報!M38,1)","v":"0"},{"$f":"getNumKeta0(基本情報!$G37,1)","v":""},null,{"$f":"getNumKeta0(基本情報!$H37,9)","v":""},null,{"$f":"getNumKeta0(基本情報!$H37,8)","v":""},null,{"$f":"getNumKeta0(基本情報!$H37,7)","v":""},null,{"$f":"getNumKeta0(基本情報!$H37,6)","v":""},null,{"$f":"getNumKeta0(基本情報!$H37,5)","v":""},null,{"$f":"getNumKeta0(基本情報!$H37,4)","v":""},null,{"$f":"getNumKeta0(基本情報!$H37,3)","v":""},null,{"$f":"getNumKeta0(基本情報!$H37,2)","v":""},null,null,{"$f":"getNumKeta0(基本情報!$H37,1)","v":""},{"$f":"基本情報!$B49","v":0},null,null,null,{"$f":"getNumKeta0(基本情報!$E49+基本情報!$F49,9)","v":""},{"$f":"getNumKeta0(基本情報!$E49+基本情報!$F49,8)","v":""},{"$f":"getNumKeta0(基本情報!$E49+基本情報!$F49,7)","v":""},{"$f":"getnumketa(基本情報!AQ38,6)","v":""},{"$f":"getNumKeta0(基本情報!$E49+基本情報!$F49,6)","v":""},{"$f":"getNumKeta0(基本情報!$E49+基本情報!$F49,5)","v":""},{"$f":"getNumKeta0(基本情報!$E49+基本情報!$F49,4)","v":""},{"$f":"getNumKeta0(基本情報!$E49+基本情報!$F49,3)","v":""},{"$f":"getNumKeta0(基本情報!$E49+基本情報!$F49,2)","v":""},{"$f":"getNumKeta0(基本情報!$E49+基本情報!$F49,1)","v":""},{"$f":"getNumKeta0(基本情報!$G49,7)","v":""},{"$f":"getNumKeta0(基本情報!$G49,6)","v":""},{"$f":"getNumKeta0(基本情報!$G49,5)","v":""},{"$f":"getNumKeta0(基本情報!$G49,4)","v":""},{"$f":"getnumketa(基本情報!N50,4)","v":""},{"$f":"getNumKeta0(基本情報!$G49,3)","v":""},{"$f":"getNumKeta0(基本情報!$G49,2)","v":""},{"$f":"getNumKeta0(基本情報!$G49,1)","v":""},{"$f":"getNumKeta0(基本情報!$H49,9)","v":""},{"$f":"getNumKeta0(基本情報!$H49,8)","v":""},{"$f":"getNumKeta0(基本情報!$H49,7)","v":""},{"$f":"getNumKeta0(基本情報!$H49,6)","v":""},{"$f":"getNumKeta0(基本情報!$H49,5)","v":""},null,{"$f":"getNumKeta0(基本情報!$H49,4)","v":""},{"$f":"getNumKeta0(基本情報!$H49,3)","v":""},{"$f":"getNumKeta0(基本情報!$H49,2)","v":""},{"$f":"getNumKeta0(基本情報!$H49,1)","v":""}]
[{"$f":"基本情報!$B38","v":0},null,null,null,null,null,null,null,null,null,null,null,null,{"$f":"getNumKeta0(基本情報!$E38+基本情報!$F38,9)","v":""},{"$f":"getNumKeta0(基本情報!$E38+基本情報!$F38,8)","v":""},{"$f":"getNumKeta0(基本情報!$E38+基本情報!$F38,7)","v":""},{"$f":"getNumKeta0(基本情報!$E38+基本情報!$F38,6)","v":""},{"$f":"getNumKeta0(基本情報!$E38+基本情報!$F38,5)","v":""},{"$f":"getNumKeta0(基本情報!$E38+基本情報!$F38,4)","v":""},{"$f":"getNumKeta0(基本情報!$E38+基本情報!$F38,3)","v":""},{"$f":"getNumKeta0(基本情報!$E38+基本情報!$F38,2)","v":""},{"$f":"getNumKeta0(基本情報!$E38+基本情報!$F38,1)","v":""},{"$f":"getNumKeta0(基本情報!$G38,7)","v":""},{"$f":"getNumKeta0(基本情報!$G38,6)","v":""},{"$f":"getNumKeta0(基本情報!$G38,5)","v":""},{"$f":"getNumKeta0(基本情報!$G38,4)","v":""},{"$f":"getNumKeta0(基本情報!$G38,3)","v":""},{"$f":"getNumKeta0(基本情報!$G38,2)","v":""},{"$f":"getnumketa(基本情報!M39,1)","v":"0"},{"$f":"getNumKeta0(基本情報!$G38,1)","v":""},null,{"$f":"getNumKeta0(基本情報!$H38,9)","v":""},null,{"$f":"getNumKeta0(基本情報!$H38,8)","v":""},null,{"$f":"getNumKeta0(基本情報!$H38,7)","v":""},null,{"$f":"getNumKeta0(基本情報!$H38,6)","v":""},null,{"$f":"getNumKeta0(基本情報!$H38,5)","v":""},null,{"$f":"getNumKeta0(基本情報!$H38,4)","v":""},null,{"$f":"getNumKeta0(基本情報!$H38,3)","v":""},null,{"$f":"getNumKeta0(基本情報!$H38,2)","v":""},null,null,{"$f":"getNumKeta0(基本情報!$H38,1)","v":""},"小　　計　 ・ 　合　　計",null,null,null,{"$f":"getnumketa(基本情報_合計税抜金額1,9)","v":""},{"$f":"getnumketa(基本情報_合計税抜金額1,8)","v":""},{"$f":"getnumketa(基本情報_合計税抜金額1,7)","v":""},null,{"$f":"getnumketa(基本情報_合計税抜金額1,6)","v":"8"},{"$f":"getnumketa(基本情報_合計税抜金額1,5)","v":"5"},{"$f":"getnumketa(基本情報_合計税抜金額1,4)","v":"1"},{"$f":"getnumketa(基本情報_合計税抜金額1,3)","v":"1"},{"$f":"getnumketa(基本情報_合計税抜金額1,2)","v":"2"},{"$f":"getnumketa(基本情報_合計税抜金額1,1)","v":"1"},{"$f":"getnumketa(基本情報_合計消費税額1,7)","v":""},{"$f":"getnumketa(基本情報_合計消費税額1,6)","v":""},{"$f":"getnumketa(基本情報_合計消費税額1,5)","v":"8"},{"$f":"getnumketa(基本情報_合計消費税額1,4)","v":"5"},null,{"$f":"getnumketa(基本情報_合計消費税額1,3)","v":"0"},{"$f":"getnumketa(基本情報_合計消費税額1,2)","v":"8"},{"$f":"getnumketa(基本情報_合計消費税額1,1)","v":"0"},{"$f":"getnumketa(基本情報_合計税込金額1,9)","v":""},{"$f":"getnumketa(基本情報_合計税込金額1,8)","v":""},{"$f":"getnumketa(基本情報_合計税込金額1,7)","v":""},{"$f":"getnumketa(基本情報_合計税込金額1,6)","v":"9"},{"$f":"getnumketa(基本情報_合計税込金額1,5)","v":"3"},null,{"$f":"getnumketa(基本情報_合計税込金額1,4)","v":"6"},{"$f":"getnumketa(基本情報_合計税込金額1,3)","v":"2"},{"$f":"getnumketa(基本情報_合計税込金額1,2)","v":"0"},{"$f":"getnumketa(基本情報_合計税込金額1,1)","v":"1"}]
[{"$f":"基本情報!$B39","v":0},null,null,null,null,null,null,null,null,null,null,null,null,{"$f":"getNumKeta0(基本情報!$E39+基本情報!$F39,9)","v":""},{"$f":"getNumKeta0(基本情報!$E39+基本情報!$F39,8)","v":""},{"$f":"getNumKeta0(基本情報!$E39+基本情報!$F39,7)","v":""},{"$f":"getNumKeta0(基本情報!$E39+基本情報!$F39,6)","v":""},{"$f":"getNumKeta0(基本情報!$E39+基本情報!$F39,5)","v":""},{"$f":"getNumKeta0(基本情報!$E39+基本情報!$F39,4)","v":""},{"$f":"getNumKeta0(基本情報!$E39+基本情報!$F39,3)","v":""},{"$f":"getNumKeta0(基本情報!$E39+基本情報!$F39,2)","v":""},{"$f":"getNumKeta0(基本情報!$E39+基本情報!$F39,1)","v":""},{"$f":"getNumKeta0(基本情報!$G39,7)","v":""},{"$f":"getNumKeta0(基本情報!$G39,6)","v":""},{"$f":"getNumKeta0(基本情報!$G39,5)","v":""},{"$f":"getNumKeta0(基本情報!$G39,4)","v":""},{"$f":"getNumKeta0(基本情報!$G39,3)","v":""},{"$f":"getNumKeta0(基本情報!$G39,2)","v":""},{"$f":"getnumketa(基本情報!M40,1)","v":"0"},{"$f":"getNumKeta0(基本情報!$G39,1)","v":""},null,{"$f":"getNumKeta0(基本情報!$H39,9)","v":""},null,{"$f":"getNumKeta0(基本情報!$H39,8)","v":""},null,{"$f":"getNumKeta0(基本情報!$H39,7)","v":""},null,{"$f":"getNumKeta0(基本情報!$H39,6)","v":""},null,{"$f":"getNumKeta0(基本情報!$H39,5)","v":""},null,{"$f":"getNumKeta0(基本情報!$H39,4)","v":""},null,{"$f":"getNumKeta0(基本情報!$H39,3)","v":""},null,{"$f":"getNumKeta0(基本情報!$H39,2)","v":""},null,null,{"$f":"getNumKeta0(基本情報!$H39,1)","v":""}]
[{"$f":"基本情報!$B40","v":0},null,null,null,null,null,null,null,null,null,null,null,null,{"$f":"getNumKeta0(基本情報!$E40+基本情報!$F40,9)","v":""},{"$f":"getNumKeta0(基本情報!$E40+基本情報!$F40,8)","v":""},{"$f":"getNumKeta0(基本情報!$E40+基本情報!$F40,7)","v":""},{"$f":"getNumKeta0(基本情報!$E40+基本情報!$F40,6)","v":""},{"$f":"getNumKeta0(基本情報!$E40+基本情報!$F40,5)","v":""},{"$f":"getNumKeta0(基本情報!$E40+基本情報!$F40,4)","v":""},{"$f":"getNumKeta0(基本情報!$E40+基本情報!$F40,3)","v":""},{"$f":"getNumKeta0(基本情報!$E40+基本情報!$F40,2)","v":""},{"$f":"getNumKeta0(基本情報!$E40+基本情報!$F40,1)","v":""},{"$f":"getNumKeta0(基本情報!$G40,7)","v":""},{"$f":"getNumKeta0(基本情報!$G40,6)","v":""},{"$f":"getNumKeta0(基本情報!$G40,5)","v":""},{"$f":"getNumKeta0(基本情報!$G40,4)","v":""},{"$f":"getNumKeta0(基本情報!$G40,3)","v":""},{"$f":"getNumKeta0(基本情報!$G40,2)","v":""},{"$f":"getnumketa(基本情報!M41,1)","v":"0"},{"$f":"getNumKeta0(基本情報!$G40,1)","v":""},null,{"$f":"getNumKeta0(基本情報!$H40,9)","v":""},null,{"$f":"getNumKeta0(基本情報!$H40,8)","v":""},null,{"$f":"getNumKeta0(基本情報!$H40,7)","v":""},null,{"$f":"getNumKeta0(基本情報!$H40,6)","v":""},null,{"$f":"getNumKeta0(基本情報!$H40,5)","v":""},null,{"$f":"getNumKeta0(基本情報!$H40,4)","v":""},null,{"$f":"getNumKeta0(基本情報!$H40,3)","v":""},null,{"$f":"getNumKeta0(基本情報!$H40,2)","v":""},null,null,{"$f":"getNumKeta0(基本情報!$H40,1)","v":""}," 訂正内容"]
[{"$f":"基本情報!$B41","v":0},null,null,null,null,null,null,null,null,null,null,null,null,{"$f":"getNumKeta0(基本情報!$E41+基本情報!$F41,9)","v":""},{"$f":"getNumKeta0(基本情報!$E41+基本情報!$F41,8)","v":""},{"$f":"getNumKeta0(基本情報!$E41+基本情報!$F41,7)","v":""},{"$f":"getNumKeta0(基本情報!$E41+基本情報!$F41,6)","v":""},{"$f":"getNumKeta0(基本情報!$E41+基本情報!$F41,5)","v":""},{"$f":"getNumKeta0(基本情報!$E41+基本情報!$F41,4)","v":""},{"$f":"getNumKeta0(基本情報!$E41+基本情報!$F41,3)","v":""},{"$f":"getNumKeta0(基本情報!$E41+基本情報!$F41,2)","v":""},{"$f":"getNumKeta0(基本情報!$E41+基本情報!$F41,1)","v":""},{"$f":"getNumKeta0(基本情報!$G41,7)","v":""},{"$f":"getNumKeta0(基本情報!$G41,6)","v":""},{"$f":"getNumKeta0(基本情報!$G41,5)","v":""},{"$f":"getNumKeta0(基本情報!$G41,4)","v":""},{"$f":"getNumKeta0(基本情報!$G41,3)","v":""},{"$f":"getNumKeta0(基本情報!$G41,2)","v":""},{"$f":"getnumketa(基本情報!M42,1)","v":"0"},{"$f":"getNumKeta0(基本情報!$G41,1)","v":""},null,{"$f":"getNumKeta0(基本情報!$H41,9)","v":""},null,{"$f":"getNumKeta0(基本情報!$H41,8)","v":""},null,{"$f":"getNumKeta0(基本情報!$H41,7)","v":""},null,{"$f":"getNumKeta0(基本情報!$H41,6)","v":""},null,{"$f":"getNumKeta0(基本情報!$H41,5)","v":""},null,{"$f":"getNumKeta0(基本情報!$H41,4)","v":""},null,{"$f":"getNumKeta0(基本情報!$H41,3)","v":""},null,{"$f":"getNumKeta0(基本情報!$H41,2)","v":""},null,null,{"$f":"getNumKeta0(基本情報!$H41,1)","v":""}]
[]
[null,"（注）","１．請求書の締切日は、原則末日５日迄提出願います。又、支払は締の翌月20日となります。"]
[null,null,"　　但し、提出期限が当社休日の場合は前日とし、支払日は翌銀行営業日と致します。"]
[null,null,"　　尚、例外として4月と12月は、締日と必着日が毎年異なりますので十分ご注意ください。（別紙カレンダー参照）"]
[null,null,"　　期日迄に提出されない場合は、翌月計上となります。"]
[null,null,"２．当社への登録内容に変更を生じた場合は、速やかに「取引情報（新規・変更）届出書」を提出願います。",null,null,null,null,null,null,null,null,null,null,null,null,null,null,null,null,null,null,null,null,null,null,null,null,null,null,null,null,null,null,null,null,null,null,null,null,null,null,null,null,null,null,null,null,null,null,null,null,"貴社→経理(控)"]
[null,"請求書（鏡）（一般用）　",null,null,null,null,null,null,null,null,null,null,null,null,null,null,null,null,null,null,null,null,null,null,null,null,null,null,null,null,null,null,null,null,null,null,null,null,null,null,null,null,null,null,null,null,null,null,null,null,null,null,null,null,null,null,null,null,null,null,null,null,null,null,null,null,null,null,null,null,null,null,null,null,{"$f":"\"P 2/\"&COUNTA(基本情報_工事名称1, 基本情報_工事名称2, 基本情報_工事名称3)","v":"P 2/1"}]
[null,null,null,null,null,null,null,null,null,null,null,null,null,null,null,null,null,null,null,null,null,null,null,null,null,null,null,null,"変更時当社記入欄",null,null,null,null,null,null,null,null,null,null,null,null,null,null,null,null,null,null,"取引先コード",null,null,{"$f":"基本情報_取引先コード","v":999999},"　締　日　",null,null,null,null,{"$f":"基本情報_請求締日","v":"2020-07-31"}]
["丸高・みなと特定建設工事共同企業体　御中",null,null,null,null,null,null,null,null,null,null,null,null,null,null,null,null,null,null,null,null,null,null,null,null,null,null,null,null,null,null,null,null,null,null,null,null,null,null,null,null,null,null,null,null,null,null,null,null,null,null,null,null,null,null,null,null,null,null,null,null,"振込銀行",null,null,null,{"$f":"基本情報_銀行名","v":"きらやか"},null,null,null,null,null,null,"銀\n行",{"$f":"基本情報_支店名","v":"酒田"},null,null,null,null,null,null,"支\n店"]
["下記の通り御請求申し上げます。",null,null,null,null,null,null,null,null,null,null,null,{"$f":"\"税率 ( \" & (基本情報_消費税率*100) & \"% )\"","v":"税率 ( 10% )"},null,null,null,null,null,null,null,null,null,null,null,null,null,null,null,null,null,null,null,null,null,null,null,null,null,null,null,null,null,null,null,null,null,null,null,"（住所）",null,{"$f":"基本情報_住所","v":"酒田市○○○○１－１"},null,null,null,null,null,null,null,null,null,null,"銀行ｺｰﾄﾞ",null,null,null,"4桁",null,{"$f":"基本情報_銀行コード","v":508},null,null,null,null,"支店\nｺｰﾄﾞ",null,"3桁",null,{"$f":"基本情報_支店コード","v":443}]
["前月請求額",null,null,null,null,null,null,null,null,null,null,null,"税抜金額計",null,null,null,null,null,null,null,null,null,null,null,null,null,null,null,null,null,null,null,null,null,null,null,null,null,null,null,null,null,null,null,null,null,null,null,"（社名）",null,{"$f":"基本情報_社名","v":"(株）○○建設"},null,null,null,null,null,null,null,null,null,null,"口座番号",null,null,null,{"$f":"基本情報_口座種別","v":"当　座"},null,null,null,null,{"$f":"基本情報_口座番号","v":1234567}]
["入　金　額",null,null,null,null,null,null,null,null,null,null,null,"請求明細\n消費税合計",null,null,null,null,null,null,null,null,null,null,null,null,null,null,null,null,null,null,null,null,null,null,null,null,null,null,null,null,null,null,null,null,null,null,null,null,null,null,null,null,null,null,null,null,"印",null,null,null,"口座名義:漢字"]
["値　引　額",null,null,null,null,null,null,null,null,null,null,null,"税込当月請求額",null,null,null,null,null,null,null,null,null,null,null,null,null,null,null,null,null,null,null,null,null,null,null,null,null,null,null,null,null,null,null,null,null,null,null,"（電話）",null,{"$f":"基本情報_電話番号","v":"0234 - 00 - 0000"},null,null,null,null,null,null,null,null,null,null,{"$f":"基本情報_口座名義漢字","v":"(株）○○建設"}]
["繰越金額",null,null,null,null,null,null,null,null,null,null,null,"税込当月総請求額",null,null,null,null,null,null,null,null,null,null,null,null,null,null,null,null,null,null,null,null,null,null,null,null,null,null,null,null,null,null,null,null,null,null,null,null,null,null,null,null,null,null,null,null,null,null,null,null,"口座名義:カナ",null,null,null,null,null,{"$f":"基本情報_口座名義カナ","v":"ｶ)ﾏﾙﾏﾙｹﾝｾﾂ"}]
["工　　　事　　　名",null,null,null,null,null,null,null,null,null,null,"ＣＫ",null,"税抜金額",null,null,null,null,null,null,null,null,"消費税",null,null,null,null,null,null,null,null,"税込金額",null,null,null,null,null,null,null,null,null,null,null,null,null,null,null,null,null,"工　　　事　　　名",null,null,"ＣＫ","税抜金額",null,null,null,null,null,null,null,null,null,"消費税",null,null,null,null,null,null,null,"税込金額"]
[{"$f":"基本情報!$B50","v":0},null,null,null,null,null,null,null,null,null,null,null,null,{"$f":"getNumKeta0(基本情報!$E50+基本情報!$F50,9)","v":""},{"$f":"getNumKeta0(基本情報!$E50+基本情報!$F50,8)","v":""},{"$f":"getNumKeta0(基本情報!$E50+基本情報!$F50,7)","v":""},{"$f":"getNumKeta0(基本情報!$E50+基本情報!$F50,6)","v":""},{"$f":"getNumKeta0(基本情報!$E50+基本情報!$F50,5)","v":""},{"$f":"getNumKeta0(基本情報!$E50+基本情報!$F50,4)","v":""},{"$f":"getNumKeta0(基本情報!$E50+基本情報!$F50,3)","v":""},{"$f":"getNumKeta0(基本情報!$E50+基本情報!$F50,2)","v":""},{"$f":"getNumKeta0(基本情報!$E50+基本情報!$F50,1)","v":""},{"$f":"getNumKeta0(基本情報!$G50,7)","v":""},{"$f":"getNumKeta0(基本情報!$G50,6)","v":""},{"$f":"getNumKeta0(基本情報!$G50,5)","v":""},{"$f":"getNumKeta0(基本情報!$G50,4)","v":""},{"$f":"getNumKeta0(基本情報!$G50,3)","v":""},{"$f":"getNumKeta0(基本情報!$G50,2)","v":""},{"$f":"getnumketa(基本情報!M58,1)","v":"0"},{"$f":"getNumKeta0(基本情報!$G50,1)","v":""},null,{"$f":"getNumKeta0(基本情報!$H50,9)","v":""},null,{"$f":"getNumKeta0(基本情報!$H50,8)","v":""},null,{"$f":"getNumKeta0(基本情報!$H50,7)","v":""},null,{"$f":"getNumKeta0(基本情報!$H50,6)","v":""},null,{"$f":"getNumKeta0(基本情報!$H50,5)","v":""},null,{"$f":"getNumKeta0(基本情報!$H50,4)","v":""},null,{"$f":"getNumKeta0(基本情報!$H50,3)","v":""},null,{"$f":"getNumKeta0(基本情報!$H50,2)","v":""},null,null,{"$f":"getNumKeta0(基本情報!$H50,1)","v":""},{"$f":"基本情報!$B62","v":0},null,null,null,{"$f":"getNumKeta0(基本情報!$E62+基本情報!$F62,9)","v":""},{"$f":"getNumKeta0(基本情報!$E62+基本情報!$F62,8)","v":""},{"$f":"getNumKeta0(基本情報!$E62+基本情報!$F62,7)","v":""},{"$f":"getnumketa(基本情報!AQ58,6)","v":""},{"$f":"getNumKeta0(基本情報!$E62+基本情報!$F62,6)","v":""},{"$f":"getNumKeta0(基本情報!$E62+基本情報!$F62,5)","v":""},{"$f":"getNumKeta0(基本情報!$E62+基本情報!$F62,4)","v":""},{"$f":"getNumKeta0(基本情報!$E62+基本情報!$F62,3)","v":""},{"$f":"getNumKeta0(基本情報!$E62+基本情報!$F62,2)","v":""},{"$f":"getNumKeta0(基本情報!$E62+基本情報!$F62,1)","v":""},{"$f":"getNumKeta0(基本情報!$G62,7)","v":""},{"$f":"getNumKeta0(基本情報!$G62,6)","v":""},{"$f":"getNumKeta0(基本情報!$G62,5)","v":""},{"$f":"getNumKeta0(基本情報!$G62,4)","v":""},{"$f":"getnumketa(基本情報!N70,4)","v":""},{"$f":"getNumKeta0(基本情報!$G62,3)","v":""},{"$f":"getNumKeta0(基本情報!$G62,2)","v":""},{"$f":"getNumKeta0(基本情報!$G62,1)","v":""},{"$f":"getNumKeta0(基本情報!$H62,9)","v":""},{"$f":"getNumKeta0(基本情報!$H62,8)","v":""},{"$f":"getNumKeta0(基本情報!$H62,7)","v":""},{"$f":"getNumKeta0(基本情報!$H62,6)","v":""},{"$f":"getNumKeta0(基本情報!$H62,5)","v":""},null,{"$f":"getNumKeta0(基本情報!$H62,4)","v":""},{"$f":"getNumKeta0(基本情報!$H62,3)","v":""},{"$f":"getNumKeta0(基本情報!$H62,2)","v":""},{"$f":"getNumKeta0(基本情報!$H62,1)","v":""}]
[{"$f":"基本情報!$B51","v":0},null,null,null,null,null,null,null,null,null,null,null,null,{"$f":"getNumKeta0(基本情報!$E51+基本情報!$F51,9)","v":""},{"$f":"getNumKeta0(基本情報!$E51+基本情報!$F51,8)","v":""},{"$f":"getNumKeta0(基本情報!$E51+基本情報!$F51,7)","v":""},{"$f":"getNumKeta0(基本情報!$E51+基本情報!$F51,6)","v":""},{"$f":"getNumKeta0(基本情報!$E51+基本情報!$F51,5)","v":""},{"$f":"getNumKeta0(基本情報!$E51+基本情報!$F51,4)","v":""},{"$f":"getNumKeta0(基本情報!$E51+基本情報!$F51,3)","v":""},{"$f":"getNumKeta0(基本情報!$E51+基本情報!$F51,2)","v":""},{"$f":"getNumKeta0(基本情報!$E51+基本情報!$F51,1)","v":""},{"$f":"getNumKeta0(基本情報!$G51,7)","v":""},{"$f":"getNumKeta0(基本情報!$G51,6)","v":""},{"$f":"getNumKeta0(基本情報!$G51,5)","v":""},{"$f":"getNumKeta0(基本情報!$G51,4)","v":""},{"$f":"getNumKeta0(基本情報!$G51,3)","v":""},{"$f":"getNumKeta0(基本情報!$G51,2)","v":""},{"$f":"getnumketa(基本情報!M59,1)","v":"0"},{"$f":"getNumKeta0(基本情報!$G51,1)","v":""},null,{"$f":"getNumKeta0(基本情報!$H51,9)","v":""},null,{"$f":"getNumKeta0(基本情報!$H51,8)","v":""},null,{"$f":"getNumKeta0(基本情報!$H51,7)","v":""},null,{"$f":"getNumKeta0(基本情報!$H51,6)","v":""},null,{"$f":"getNumKeta0(基本情報!$H51,5)","v":""},null,{"$f":"getNumKeta0(基本情報!$H51,4)","v":""},null,{"$f":"getNumKeta0(基本情報!$H51,3)","v":""},null,{"$f":"getNumKeta0(基本情報!$H51,2)","v":""},null,null,{"$f":"getNumKeta0(基本情報!$H51,1)","v":""},{"$f":"基本情報!$B63","v":0},null,null,null,{"$f":"getNumKeta0(基本情報!$E63+基本情報!$F63,9)","v":""},{"$f":"getNumKeta0(基本情報!$E63+基本情報!$F63,8)","v":""},{"$f":"getNumKeta0(基本情報!$E63+基本情報!$F63,7)","v":""},{"$f":"getnumketa(基本情報!AQ59,6)","v":""},{"$f":"getNumKeta0(基本情報!$E63+基本情報!$F63,6)","v":""},{"$f":"getNumKeta0(基本情報!$E63+基本情報!$F63,5)","v":""},{"$f":"getNumKeta0(基本情報!$E63+基本情報!$F63,4)","v":""},{"$f":"getNumKeta0(基本情報!$E63+基本情報!$F63,3)","v":""},{"$f":"getNumKeta0(基本情報!$E63+基本情報!$F63,2)","v":""},{"$f":"getNumKeta0(基本情報!$E63+基本情報!$F63,1)","v":""},{"$f":"getNumKeta0(基本情報!$G63,7)","v":""},{"$f":"getNumKeta0(基本情報!$G63,6)","v":""},{"$f":"getNumKeta0(基本情報!$G63,5)","v":""},{"$f":"getNumKeta0(基本情報!$G63,4)","v":""},{"$f":"getnumketa(基本情報!N71,4)","v":""},{"$f":"getNumKeta0(基本情報!$G63,3)","v":""},{"$f":"getNumKeta0(基本情報!$G63,2)","v":""},{"$f":"getNumKeta0(基本情報!$G63,1)","v":""},{"$f":"getNumKeta0(基本情報!$H63,9)","v":""},{"$f":"getNumKeta0(基本情報!$H63,8)","v":""},{"$f":"getNumKeta0(基本情報!$H63,7)","v":""},{"$f":"getNumKeta0(基本情報!$H63,6)","v":""},{"$f":"getNumKeta0(基本情報!$H63,5)","v":""},null,{"$f":"getNumKeta0(基本情報!$H63,4)","v":""},{"$f":"getNumKeta0(基本情報!$H63,3)","v":""},{"$f":"getNumKeta0(基本情報!$H63,2)","v":""},{"$f":"getNumKeta0(基本情報!$H63,1)","v":""}]
[{"$f":"基本情報!$B52","v":0},null,null,null,null,null,null,null,null,null,null,null,null,{"$f":"getNumKeta0(基本情報!$E52+基本情報!$F52,9)","v":""},{"$f":"getNumKeta0(基本情報!$E52+基本情報!$F52,8)","v":""},{"$f":"getNumKeta0(基本情報!$E52+基本情報!$F52,7)","v":""},{"$f":"getNumKeta0(基本情報!$E52+基本情報!$F52,6)","v":""},{"$f":"getNumKeta0(基本情報!$E52+基本情報!$F52,5)","v":""},{"$f":"getNumKeta0(基本情報!$E52+基本情報!$F52,4)","v":""},{"$f":"getNumKeta0(基本情報!$E52+基本情報!$F52,3)","v":""},{"$f":"getNumKeta0(基本情報!$E52+基本情報!$F52,2)","v":""},{"$f":"getNumKeta0(基本情報!$E52+基本情報!$F52,1)","v":""},{"$f":"getNumKeta0(基本情報!$G52,7)","v":""},{"$f":"getNumKeta0(基本情報!$G52,6)","v":""},{"$f":"getNumKeta0(基本情報!$G52,5)","v":""},{"$f":"getNumKeta0(基本情報!$G52,4)","v":""},{"$f":"getNumKeta0(基本情報!$G52,3)","v":""},{"$f":"getNumKeta0(基本情報!$G52,2)","v":""},{"$f":"getnumketa(基本情報!M60,1)","v":"0"},{"$f":"getNumKeta0(基本情報!$G52,1)","v":""},null,{"$f":"getNumKeta0(基本情報!$H52,9)","v":""},null,{"$f":"getNumKeta0(基本情報!$H52,8)","v":""},null,{"$f":"getNumKeta0(基本情報!$H52,7)","v":""},null,{"$f":"getNumKeta0(基本情報!$H52,6)","v":""},null,{"$f":"getNumKeta0(基本情報!$H52,5)","v":""},null,{"$f":"getNumKeta0(基本情報!$H52,4)","v":""},null,{"$f":"getNumKeta0(基本情報!$H52,3)","v":""},null,{"$f":"getNumKeta0(基本情報!$H52,2)","v":""},null,null,{"$f":"getNumKeta0(基本情報!$H52,1)","v":""},{"$f":"基本情報!$B64","v":0},null,null,null,{"$f":"getNumKeta0(基本情報!$E64+基本情報!$F64,9)","v":""},{"$f":"getNumKeta0(基本情報!$E64+基本情報!$F64,8)","v":""},{"$f":"getNumKeta0(基本情報!$E64+基本情報!$F64,7)","v":""},{"$f":"getnumketa(基本情報!AQ60,6)","v":""},{"$f":"getNumKeta0(基本情報!$E64+基本情報!$F64,6)","v":""},{"$f":"getNumKeta0(基本情報!$E64+基本情報!$F64,5)","v":""},{"$f":"getNumKeta0(基本情報!$E64+基本情報!$F64,4)","v":""},{"$f":"getNumKeta0(基本情報!$E64+基本情報!$F64,3)","v":""},{"$f":"getNumKeta0(基本情報!$E64+基本情報!$F64,2)","v":""},{"$f":"getNumKeta0(基本情報!$E64+基本情報!$F64,1)","v":""},{"$f":"getNumKeta0(基本情報!$G64,7)","v":""},{"$f":"getNumKeta0(基本情報!$G64,6)","v":""},{"$f":"getNumKeta0(基本情報!$G64,5)","v":""},{"$f":"getNumKeta0(基本情報!$G64,4)","v":""},{"$f":"getnumketa(基本情報!N72,4)","v":""},{"$f":"getNumKeta0(基本情報!$G64,3)","v":""},{"$f":"getNumKeta0(基本情報!$G64,2)","v":""},{"$f":"getNumKeta0(基本情報!$G64,1)","v":""},{"$f":"getNumKeta0(基本情報!$H64,9)","v":""},{"$f":"getNumKeta0(基本情報!$H64,8)","v":""},{"$f":"getNumKeta0(基本情報!$H64,7)","v":""},{"$f":"getNumKeta0(基本情報!$H64,6)","v":""},{"$f":"getNumKeta0(基本情報!$H64,5)","v":""},null,{"$f":"getNumKeta0(基本情報!$H64,4)","v":""},{"$f":"getNumKeta0(基本情報!$H64,3)","v":""},{"$f":"getNumKeta0(基本情報!$H64,2)","v":""},{"$f":"getNumKeta0(基本情報!$H64,1)","v":""}]
[{"$f":"基本情報!$B53","v":0},null,null,null,null,null,null,null,null,null,null,null,null,{"$f":"getNumKeta0(基本情報!$E53+基本情報!$F53,9)","v":""},{"$f":"getNumKeta0(基本情報!$E53+基本情報!$F53,8)","v":""},{"$f":"getNumKeta0(基本情報!$E53+基本情報!$F53,7)","v":""},{"$f":"getNumKeta0(基本情報!$E53+基本情報!$F53,6)","v":""},{"$f":"getNumKeta0(基本情報!$E53+基本情報!$F53,5)","v":""},{"$f":"getNumKeta0(基本情報!$E53+基本情報!$F53,4)","v":""},{"$f":"getNumKeta0(基本情報!$E53+基本情報!$F53,3)","v":""},{"$f":"getNumKeta0(基本情報!$E53+基本情報!$F53,2)","v":""},{"$f":"getNumKeta0(基本情報!$E53+基本情報!$F53,1)","v":""},{"$f":"getNumKeta0(基本情報!$G53,7)","v":""},{"$f":"getNumKeta0(基本情報!$G53,6)","v":""},{"$f":"getNumKeta0(基本情報!$G53,5)","v":""},{"$f":"getNumKeta0(基本情報!$G53,4)","v":""},{"$f":"getNumKeta0(基本情報!$G53,3)","v":""},{"$f":"getNumKeta0(基本情報!$G53,2)","v":""},{"$f":"getnumketa(基本情報!M61,1)","v":"0"},{"$f":"getNumKeta0(基本情報!$G53,1)","v":""},null,{"$f":"getNumKeta0(基本情報!$H53,9)","v":""},null,{"$f":"getNumKeta0(基本情報!$H53,8)","v":""},null,{"$f":"getNumKeta0(基本情報!$H53,7)","v":""},null,{"$f":"getNumKeta0(基本情報!$H53,6)","v":""},null,{"$f":"getNumKeta0(基本情報!$H53,5)","v":""},null,{"$f":"getNumKeta0(基本情報!$H53,4)","v":""},null,{"$f":"getNumKeta0(基本情報!$H53,3)","v":""},null,{"$f":"getNumKeta0(基本情報!$H53,2)","v":""},null,null,{"$f":"getNumKeta0(基本情報!$H53,1)","v":""},{"$f":"基本情報!$B65","v":0},null,null,null,{"$f":"getNumKeta0(基本情報!$E65+基本情報!$F65,9)","v":""},{"$f":"getNumKeta0(基本情報!$E65+基本情報!$F65,8)","v":""},{"$f":"getNumKeta0(基本情報!$E65+基本情報!$F65,7)","v":""},{"$f":"getnumketa(基本情報!AQ61,6)","v":""},{"$f":"getNumKeta0(基本情報!$E65+基本情報!$F65,6)","v":""},{"$f":"getNumKeta0(基本情報!$E65+基本情報!$F65,5)","v":""},{"$f":"getNumKeta0(基本情報!$E65+基本情報!$F65,4)","v":""},{"$f":"getNumKeta0(基本情報!$E65+基本情報!$F65,3)","v":""},{"$f":"getNumKeta0(基本情報!$E65+基本情報!$F65,2)","v":""},{"$f":"getNumKeta0(基本情報!$E65+基本情報!$F65,1)","v":""},{"$f":"getNumKeta0(基本情報!$G65,7)","v":""},{"$f":"getNumKeta0(基本情報!$G65,6)","v":""},{"$f":"getNumKeta0(基本情報!$G65,5)","v":""},{"$f":"getNumKeta0(基本情報!$G65,4)","v":""},{"$f":"getnumketa(基本情報!N73,4)","v":""},{"$f":"getNumKeta0(基本情報!$G65,3)","v":""},{"$f":"getNumKeta0(基本情報!$G65,2)","v":""},{"$f":"getNumKeta0(基本情報!$G65,1)","v":""},{"$f":"getNumKeta0(基本情報!$H65,9)","v":""},{"$f":"getNumKeta0(基本情報!$H65,8)","v":""},{"$f":"getNumKeta0(基本情報!$H65,7)","v":""},{"$f":"getNumKeta0(基本情報!$H65,6)","v":""},{"$f":"getNumKeta0(基本情報!$H65,5)","v":""},null,{"$f":"getNumKeta0(基本情報!$H65,4)","v":""},{"$f":"getNumKeta0(基本情報!$H65,3)","v":""},{"$f":"getNumKeta0(基本情報!$H65,2)","v":""},{"$f":"getNumKeta0(基本情報!$H65,1)","v":""}]
[{"$f":"基本情報!$B54","v":0},null,null,null,null,null,null,null,null,null,null,null,null,{"$f":"getNumKeta0(基本情報!$E54+基本情報!$F54,9)","v":""},{"$f":"getNumKeta0(基本情報!$E54+基本情報!$F54,8)","v":""},{"$f":"getNumKeta0(基本情報!$E54+基本情報!$F54,7)","v":""},{"$f":"getNumKeta0(基本情報!$E54+基本情報!$F54,6)","v":""},{"$f":"getNumKeta0(基本情報!$E54+基本情報!$F54,5)","v":""},{"$f":"getNumKeta0(基本情報!$E54+基本情報!$F54,4)","v":""},{"$f":"getNumKeta0(基本情報!$E54+基本情報!$F54,3)","v":""},{"$f":"getNumKeta0(基本情報!$E54+基本情報!$F54,2)","v":""},{"$f":"getNumKeta0(基本情報!$E54+基本情報!$F54,1)","v":""},{"$f":"getNumKeta0(基本情報!$G54,7)","v":""},{"$f":"getNumKeta0(基本情報!$G54,6)","v":""},{"$f":"getNumKeta0(基本情報!$G54,5)","v":""},{"$f":"getNumKeta0(基本情報!$G54,4)","v":""},{"$f":"getNumKeta0(基本情報!$G54,3)","v":""},{"$f":"getNumKeta0(基本情報!$G54,2)","v":""},{"$f":"getnumketa(基本情報!M62,1)","v":"0"},{"$f":"getNumKeta0(基本情報!$G54,1)","v":""},null,{"$f":"getNumKeta0(基本情報!$H54,9)","v":""},null,{"$f":"getNumKeta0(基本情報!$H54,8)","v":""},null,{"$f":"getNumKeta0(基本情報!$H54,7)","v":""},null,{"$f":"getNumKeta0(基本情報!$H54,6)","v":""},null,{"$f":"getNumKeta0(基本情報!$H54,5)","v":""},null,{"$f":"getNumKeta0(基本情報!$H54,4)","v":""},null,{"$f":"getNumKeta0(基本情報!$H54,3)","v":""},null,{"$f":"getNumKeta0(基本情報!$H54,2)","v":""},null,null,{"$f":"getNumKeta0(基本情報!$H54,1)","v":""},{"$f":"基本情報!$B66","v":0},null,null,null,{"$f":"getNumKeta0(基本情報!$E66+基本情報!$F66,9)","v":""},{"$f":"getNumKeta0(基本情報!$E66+基本情報!$F66,8)","v":""},{"$f":"getNumKeta0(基本情報!$E66+基本情報!$F66,7)","v":""},{"$f":"getnumketa(基本情報!AQ62,6)","v":""},{"$f":"getNumKeta0(基本情報!$E66+基本情報!$F66,6)","v":""},{"$f":"getNumKeta0(基本情報!$E66+基本情報!$F66,5)","v":""},{"$f":"getNumKeta0(基本情報!$E66+基本情報!$F66,4)","v":""},{"$f":"getNumKeta0(基本情報!$E66+基本情報!$F66,3)","v":""},{"$f":"getNumKeta0(基本情報!$E66+基本情報!$F66,2)","v":""},{"$f":"getNumKeta0(基本情報!$E66+基本情報!$F66,1)","v":""},{"$f":"getNumKeta0(基本情報!$G66,7)","v":""},{"$f":"getNumKeta0(基本情報!$G66,6)","v":""},{"$f":"getNumKeta0(基本情報!$G66,5)","v":""},{"$f":"getNumKeta0(基本情報!$G66,4)","v":""},{"$f":"getnumketa(基本情報!N74,4)","v":""},{"$f":"getNumKeta0(基本情報!$G66,3)","v":""},{"$f":"getNumKeta0(基本情報!$G66,2)","v":""},{"$f":"getNumKeta0(基本情報!$G66,1)","v":""},{"$f":"getNumKeta0(基本情報!$H66,9)","v":""},{"$f":"getNumKeta0(基本情報!$H66,8)","v":""},{"$f":"getNumKeta0(基本情報!$H66,7)","v":""},{"$f":"getNumKeta0(基本情報!$H66,6)","v":""},{"$f":"getNumKeta0(基本情報!$H66,5)","v":""},null,{"$f":"getNumKeta0(基本情報!$H66,4)","v":""},{"$f":"getNumKeta0(基本情報!$H66,3)","v":""},{"$f":"getNumKeta0(基本情報!$H66,2)","v":""},{"$f":"getNumKeta0(基本情報!$H66,1)","v":""}]
[{"$f":"基本情報!$B55","v":0},null,null,null,null,null,null,null,null,null,null,null,null,{"$f":"getNumKeta0(基本情報!$E55+基本情報!$F55,9)","v":""},{"$f":"getNumKeta0(基本情報!$E55+基本情報!$F55,8)","v":""},{"$f":"getNumKeta0(基本情報!$E55+基本情報!$F55,7)","v":""},{"$f":"getNumKeta0(基本情報!$E55+基本情報!$F55,6)","v":""},{"$f":"getNumKeta0(基本情報!$E55+基本情報!$F55,5)","v":""},{"$f":"getNumKeta0(基本情報!$E55+基本情報!$F55,4)","v":""},{"$f":"getNumKeta0(基本情報!$E55+基本情報!$F55,3)","v":""},{"$f":"getNumKeta0(基本情報!$E55+基本情報!$F55,2)","v":""},{"$f":"getNumKeta0(基本情報!$E55+基本情報!$F55,1)","v":""},{"$f":"getNumKeta0(基本情報!$G55,7)","v":""},{"$f":"getNumKeta0(基本情報!$G55,6)","v":""},{"$f":"getNumKeta0(基本情報!$G55,5)","v":""},{"$f":"getNumKeta0(基本情報!$G55,4)","v":""},{"$f":"getNumKeta0(基本情報!$G55,3)","v":""},{"$f":"getNumKeta0(基本情報!$G55,2)","v":""},{"$f":"getnumketa(基本情報!M63,1)","v":"0"},{"$f":"getNumKeta0(基本情報!$G55,1)","v":""},null,{"$f":"getNumKeta0(基本情報!$H55,9)","v":""},null,{"$f":"getNumKeta0(基本情報!$H55,8)","v":""},null,{"$f":"getNumKeta0(基本情報!$H55,7)","v":""},null,{"$f":"getNumKeta0(基本情報!$H55,6)","v":""},null,{"$f":"getNumKeta0(基本情報!$H55,5)","v":""},null,{"$f":"getNumKeta0(基本情報!$H55,4)","v":""},null,{"$f":"getNumKeta0(基本情報!$H55,3)","v":""},null,{"$f":"getNumKeta0(基本情報!$H55,2)","v":""},null,null,{"$f":"getNumKeta0(基本情報!$H55,1)","v":""},{"$f":"基本情報!$B67","v":0},null,null,null,{"$f":"getNumKeta0(基本情報!$E67+基本情報!$F67,9)","v":""},{"$f":"getNumKeta0(基本情報!$E67+基本情報!$F67,8)","v":""},{"$f":"getNumKeta0(基本情報!$E67+基本情報!$F67,7)","v":""},{"$f":"getnumketa(基本情報!AQ63,6)","v":""},{"$f":"getNumKeta0(基本情報!$E67+基本情報!$F67,6)","v":""},{"$f":"getNumKeta0(基本情報!$E67+基本情報!$F67,5)","v":""},{"$f":"getNumKeta0(基本情報!$E67+基本情報!$F67,4)","v":""},{"$f":"getNumKeta0(基本情報!$E67+基本情報!$F67,3)","v":""},{"$f":"getNumKeta0(基本情報!$E67+基本情報!$F67,2)","v":""},{"$f":"getNumKeta0(基本情報!$E67+基本情報!$F67,1)","v":""},{"$f":"getNumKeta0(基本情報!$G67,7)","v":""},{"$f":"getNumKeta0(基本情報!$G67,6)","v":""},{"$f":"getNumKeta0(基本情報!$G67,5)","v":""},{"$f":"getNumKeta0(基本情報!$G67,4)","v":""},{"$f":"getnumketa(基本情報!N75,4)","v":""},{"$f":"getNumKeta0(基本情報!$G67,3)","v":""},{"$f":"getNumKeta0(基本情報!$G67,2)","v":""},{"$f":"getNumKeta0(基本情報!$G67,1)","v":""},{"$f":"getNumKeta0(基本情報!$H67,9)","v":""},{"$f":"getNumKeta0(基本情報!$H67,8)","v":""},{"$f":"getNumKeta0(基本情報!$H67,7)","v":""},{"$f":"getNumKeta0(基本情報!$H67,6)","v":""},{"$f":"getNumKeta0(基本情報!$H67,5)","v":""},null,{"$f":"getNumKeta0(基本情報!$H67,4)","v":""},{"$f":"getNumKeta0(基本情報!$H67,3)","v":""},{"$f":"getNumKeta0(基本情報!$H67,2)","v":""},{"$f":"getNumKeta0(基本情報!$H67,1)","v":""}]
[{"$f":"基本情報!$B56","v":0},null,null,null,null,null,null,null,null,null,null,null,null,{"$f":"getNumKeta0(基本情報!$E56+基本情報!$F56,9)","v":""},{"$f":"getNumKeta0(基本情報!$E56+基本情報!$F56,8)","v":""},{"$f":"getNumKeta0(基本情報!$E56+基本情報!$F56,7)","v":""},{"$f":"getNumKeta0(基本情報!$E56+基本情報!$F56,6)","v":""},{"$f":"getNumKeta0(基本情報!$E56+基本情報!$F56,5)","v":""},{"$f":"getNumKeta0(基本情報!$E56+基本情報!$F56,4)","v":""},{"$f":"getNumKeta0(基本情報!$E56+基本情報!$F56,3)","v":""},{"$f":"getNumKeta0(基本情報!$E56+基本情報!$F56,2)","v":""},{"$f":"getNumKeta0(基本情報!$E56+基本情報!$F56,1)","v":""},{"$f":"getNumKeta0(基本情報!$G56,7)","v":""},{"$f":"getNumKeta0(基本情報!$G56,6)","v":""},{"$f":"getNumKeta0(基本情報!$G56,5)","v":""},{"$f":"getNumKeta0(基本情報!$G56,4)","v":""},{"$f":"getNumKeta0(基本情報!$G56,3)","v":""},{"$f":"getNumKeta0(基本情報!$G56,2)","v":""},{"$f":"getnumketa(基本情報!M64,1)","v":"0"},{"$f":"getNumKeta0(基本情報!$G56,1)","v":""},null,{"$f":"getNumKeta0(基本情報!$H56,9)","v":""},null,{"$f":"getNumKeta0(基本情報!$H56,8)","v":""},null,{"$f":"getNumKeta0(基本情報!$H56,7)","v":""},null,{"$f":"getNumKeta0(基本情報!$H56,6)","v":""},null,{"$f":"getNumKeta0(基本情報!$H56,5)","v":""},null,{"$f":"getNumKeta0(基本情報!$H56,4)","v":""},null,{"$f":"getNumKeta0(基本情報!$H56,3)","v":""},null,{"$f":"getNumKeta0(基本情報!$H56,2)","v":""},null,null,{"$f":"getNumKeta0(基本情報!$H56,1)","v":""},{"$f":"基本情報!$B68","v":0},null,null,null,{"$f":"getNumKeta0(基本情報!$E68+基本情報!$F68,9)","v":""},{"$f":"getNumKeta0(基本情報!$E68+基本情報!$F68,8)","v":""},{"$f":"getNumKeta0(基本情報!$E68+基本情報!$F68,7)","v":""},{"$f":"getnumketa(基本情報!AQ64,6)","v":""},{"$f":"getNumKeta0(基本情報!$E68+基本情報!$F68,6)","v":""},{"$f":"getNumKeta0(基本情報!$E68+基本情報!$F68,5)","v":""},{"$f":"getNumKeta0(基本情報!$E68+基本情報!$F68,4)","v":""},{"$f":"getNumKeta0(基本情報!$E68+基本情報!$F68,3)","v":""},{"$f":"getNumKeta0(基本情報!$E68+基本情報!$F68,2)","v":""},{"$f":"getNumKeta0(基本情報!$E68+基本情報!$F68,1)","v":""},{"$f":"getNumKeta0(基本情報!$G68,7)","v":""},{"$f":"getNumKeta0(基本情報!$G68,6)","v":""},{"$f":"getNumKeta0(基本情報!$G68,5)","v":""},{"$f":"getNumKeta0(基本情報!$G68,4)","v":""},{"$f":"getnumketa(基本情報!N76,4)","v":""},{"$f":"getNumKeta0(基本情報!$G68,3)","v":""},{"$f":"getNumKeta0(基本情報!$G68,2)","v":""},{"$f":"getNumKeta0(基本情報!$G68,1)","v":""},{"$f":"getNumKeta0(基本情報!$H68,9)","v":""},{"$f":"getNumKeta0(基本情報!$H68,8)","v":""},{"$f":"getNumKeta0(基本情報!$H68,7)","v":""},{"$f":"getNumKeta0(基本情報!$H68,6)","v":""},{"$f":"getNumKeta0(基本情報!$H68,5)","v":""},null,{"$f":"getNumKeta0(基本情報!$H68,4)","v":""},{"$f":"getNumKeta0(基本情報!$H68,3)","v":""},{"$f":"getNumKeta0(基本情報!$H68,2)","v":""},{"$f":"getNumKeta0(基本情報!$H68,1)","v":""}]
[{"$f":"基本情報!$B57","v":0},null,null,null,null,null,null,null,null,null,null,null,null,{"$f":"getNumKeta0(基本情報!$E57+基本情報!$F57,9)","v":""},{"$f":"getNumKeta0(基本情報!$E57+基本情報!$F57,8)","v":""},{"$f":"getNumKeta0(基本情報!$E57+基本情報!$F57,7)","v":""},{"$f":"getNumKeta0(基本情報!$E57+基本情報!$F57,6)","v":""},{"$f":"getNumKeta0(基本情報!$E57+基本情報!$F57,5)","v":""},{"$f":"getNumKeta0(基本情報!$E57+基本情報!$F57,4)","v":""},{"$f":"getNumKeta0(基本情報!$E57+基本情報!$F57,3)","v":""},{"$f":"getNumKeta0(基本情報!$E57+基本情報!$F57,2)","v":""},{"$f":"getNumKeta0(基本情報!$E57+基本情報!$F57,1)","v":""},{"$f":"getNumKeta0(基本情報!$G57,7)","v":""},{"$f":"getNumKeta0(基本情報!$G57,6)","v":""},{"$f":"getNumKeta0(基本情報!$G57,5)","v":""},{"$f":"getNumKeta0(基本情報!$G57,4)","v":""},{"$f":"getNumKeta0(基本情報!$G57,3)","v":""},{"$f":"getNumKeta0(基本情報!$G57,2)","v":""},{"$f":"getnumketa(基本情報!M65,1)","v":"0"},{"$f":"getNumKeta0(基本情報!$G57,1)","v":""},null,{"$f":"getNumKeta0(基本情報!$H57,9)","v":""},null,{"$f":"getNumKeta0(基本情報!$H57,8)","v":""},null,{"$f":"getNumKeta0(基本情報!$H57,7)","v":""},null,{"$f":"getNumKeta0(基本情報!$H57,6)","v":""},null,{"$f":"getNumKeta0(基本情報!$H57,5)","v":""},null,{"$f":"getNumKeta0(基本情報!$H57,4)","v":""},null,{"$f":"getNumKeta0(基本情報!$H57,3)","v":""},null,{"$f":"getNumKeta0(基本情報!$H57,2)","v":""},null,null,{"$f":"getNumKeta0(基本情報!$H57,1)","v":""},{"$f":"基本情報!$B69","v":0},null,null,null,{"$f":"getNumKeta0(基本情報!$E69+基本情報!$F69,9)","v":""},{"$f":"getNumKeta0(基本情報!$E69+基本情報!$F69,8)","v":""},{"$f":"getNumKeta0(基本情報!$E69+基本情報!$F69,7)","v":""},{"$f":"getnumketa(基本情報!AQ65,6)","v":""},{"$f":"getNumKeta0(基本情報!$E69+基本情報!$F69,6)","v":""},{"$f":"getNumKeta0(基本情報!$E69+基本情報!$F69,5)","v":""},{"$f":"getNumKeta0(基本情報!$E69+基本情報!$F69,4)","v":""},{"$f":"getNumKeta0(基本情報!$E69+基本情報!$F69,3)","v":""},{"$f":"getNumKeta0(基本情報!$E69+基本情報!$F69,2)","v":""},{"$f":"getNumKeta0(基本情報!$E69+基本情報!$F69,1)","v":""},{"$f":"getNumKeta0(基本情報!$G69,7)","v":""},{"$f":"getNumKeta0(基本情報!$G69,6)","v":""},{"$f":"getNumKeta0(基本情報!$G69,5)","v":""},{"$f":"getNumKeta0(基本情報!$G69,4)","v":""},{"$f":"getnumketa(基本情報!N77,4)","v":""},{"$f":"getNumKeta0(基本情報!$G69,3)","v":""},{"$f":"getNumKeta0(基本情報!$G69,2)","v":""},{"$f":"getNumKeta0(基本情報!$G69,1)","v":""},{"$f":"getNumKeta0(基本情報!$H69,9)","v":""},{"$f":"getNumKeta0(基本情報!$H69,8)","v":""},{"$f":"getNumKeta0(基本情報!$H69,7)","v":""},{"$f":"getNumKeta0(基本情報!$H69,6)","v":""},{"$f":"getNumKeta0(基本情報!$H69,5)","v":""},null,{"$f":"getNumKeta0(基本情報!$H69,4)","v":""},{"$f":"getNumKeta0(基本情報!$H69,3)","v":""},{"$f":"getNumKeta0(基本情報!$H69,2)","v":""},{"$f":"getNumKeta0(基本情報!$H69,1)","v":""}]
[{"$f":"基本情報!$B58","v":0},null,null,null,null,null,null,null,null,null,null,null,null,{"$f":"getNumKeta0(基本情報!$E58+基本情報!$F58,9)","v":""},{"$f":"getNumKeta0(基本情報!$E58+基本情報!$F58,8)","v":""},{"$f":"getNumKeta0(基本情報!$E58+基本情報!$F58,7)","v":""},{"$f":"getNumKeta0(基本情報!$E58+基本情報!$F58,6)","v":""},{"$f":"getNumKeta0(基本情報!$E58+基本情報!$F58,5)","v":""},{"$f":"getNumKeta0(基本情報!$E58+基本情報!$F58,4)","v":""},{"$f":"getNumKeta0(基本情報!$E58+基本情報!$F58,3)","v":""},{"$f":"getNumKeta0(基本情報!$E58+基本情報!$F58,2)","v":""},{"$f":"getNumKeta0(基本情報!$E58+基本情報!$F58,1)","v":""},{"$f":"getNumKeta0(基本情報!$G58,7)","v":""},{"$f":"getNumKeta0(基本情報!$G58,6)","v":""},{"$f":"getNumKeta0(基本情報!$G58,5)","v":""},{"$f":"getNumKeta0(基本情報!$G58,4)","v":""},{"$f":"getNumKeta0(基本情報!$G58,3)","v":""},{"$f":"getNumKeta0(基本情報!$G58,2)","v":""},{"$f":"getnumketa(基本情報!M66,1)","v":"0"},{"$f":"getNumKeta0(基本情報!$G58,1)","v":""},null,{"$f":"getNumKeta0(基本情報!$H58,9)","v":""},null,{"$f":"getNumKeta0(基本情報!$H58,8)","v":""},null,{"$f":"getNumKeta0(基本情報!$H58,7)","v":""},null,{"$f":"getNumKeta0(基本情報!$H58,6)","v":""},null,{"$f":"getNumKeta0(基本情報!$H58,5)","v":""},null,{"$f":"getNumKeta0(基本情報!$H58,4)","v":""},null,{"$f":"getNumKeta0(基本情報!$H58,3)","v":""},null,{"$f":"getNumKeta0(基本情報!$H58,2)","v":""},null,null,{"$f":"getNumKeta0(基本情報!$H58,1)","v":""},"小　　計　 ・ 　合　　計",null,null,null,{"$f":"getnumketa(基本情報_合計税抜金額2,9)","v":""},{"$f":"getnumketa(基本情報_合計税抜金額2,8)","v":""},{"$f":"getnumketa(基本情報_合計税抜金額2,7)","v":""},null,{"$f":"getnumketa(基本情報_合計税抜金額2,6)","v":""},{"$f":"getnumketa(基本情報_合計税抜金額2,5)","v":""},{"$f":"getnumketa(基本情報_合計税抜金額2,4)","v":""},{"$f":"getnumketa(基本情報_合計税抜金額2,3)","v":""},{"$f":"getnumketa(基本情報_合計税抜金額2,2)","v":""},{"$f":"getnumketa(基本情報_合計税抜金額2,1)","v":"0"},{"$f":"getnumketa(基本情報_合計消費税額2,7)","v":""},{"$f":"getnumketa(基本情報_合計消費税額2,6)","v":""},{"$f":"getnumketa(基本情報_合計消費税額2,5)","v":""},{"$f":"getnumketa(基本情報_合計消費税額2,4)","v":""},null,{"$f":"getnumketa(基本情報_合計消費税額2,3)","v":""},{"$f":"getnumketa(基本情報_合計消費税額2,2)","v":""},{"$f":"getnumketa(基本情報_合計消費税額2,1)","v":"0"},{"$f":"getnumketa(基本情報_合計税込金額2,9)","v":""},{"$f":"getnumketa(基本情報_合計税込金額2,8)","v":""},{"$f":"getnumketa(基本情報_合計税込金額2,7)","v":""},{"$f":"getnumketa(基本情報_合計税込金額2,6)","v":""},{"$f":"getnumketa(基本情報_合計税込金額2,5)","v":""},null,{"$f":"getnumketa(基本情報_合計税込金額2,4)","v":""},{"$f":"getnumketa(基本情報_合計税込金額2,3)","v":""},{"$f":"getnumketa(基本情報_合計税込金額2,2)","v":""},{"$f":"getnumketa(基本情報_合計税込金額2,1)","v":"0"}]
[{"$f":"基本情報!$B59","v":0},null,null,null,null,null,null,null,null,null,null,null,null,{"$f":"getNumKeta0(基本情報!$E59+基本情報!$F59,9)","v":""},{"$f":"getNumKeta0(基本情報!$E59+基本情報!$F59,8)","v":""},{"$f":"getNumKeta0(基本情報!$E59+基本情報!$F59,7)","v":""},{"$f":"getNumKeta0(基本情報!$E59+基本情報!$F59,6)","v":""},{"$f":"getNumKeta0(基本情報!$E59+基本情報!$F59,5)","v":""},{"$f":"getNumKeta0(基本情報!$E59+基本情報!$F59,4)","v":""},{"$f":"getNumKeta0(基本情報!$E59+基本情報!$F59,3)","v":""},{"$f":"getNumKeta0(基本情報!$E59+基本情報!$F59,2)","v":""},{"$f":"getNumKeta0(基本情報!$E59+基本情報!$F59,1)","v":""},{"$f":"getNumKeta0(基本情報!$G59,7)","v":""},{"$f":"getNumKeta0(基本情報!$G59,6)","v":""},{"$f":"getNumKeta0(基本情報!$G59,5)","v":""},{"$f":"getNumKeta0(基本情報!$G59,4)","v":""},{"$f":"getNumKeta0(基本情報!$G59,3)","v":""},{"$f":"getNumKeta0(基本情報!$G59,2)","v":""},{"$f":"getnumketa(基本情報!M67,1)","v":"0"},{"$f":"getNumKeta0(基本情報!$G59,1)","v":""},null,{"$f":"getNumKeta0(基本情報!$H59,9)","v":""},null,{"$f":"getNumKeta0(基本情報!$H59,8)","v":""},null,{"$f":"getNumKeta0(基本情報!$H59,7)","v":""},null,{"$f":"getNumKeta0(基本情報!$H59,6)","v":""},null,{"$f":"getNumKeta0(基本情報!$H59,5)","v":""},null,{"$f":"getNumKeta0(基本情報!$H59,4)","v":""},null,{"$f":"getNumKeta0(基本情報!$H59,3)","v":""},null,{"$f":"getNumKeta0(基本情報!$H59,2)","v":""},null,null,{"$f":"getNumKeta0(基本情報!$H59,1)","v":""}]
[{"$f":"基本情報!$B60","v":0},null,null,null,null,null,null,null,null,null,null,null,null,{"$f":"getNumKeta0(基本情報!$E60+基本情報!$F60,9)","v":""},{"$f":"getNumKeta0(基本情報!$E60+基本情報!$F60,8)","v":""},{"$f":"getNumKeta0(基本情報!$E60+基本情報!$F60,7)","v":""},{"$f":"getNumKeta0(基本情報!$E60+基本情報!$F60,6)","v":""},{"$f":"getNumKeta0(基本情報!$E60+基本情報!$F60,5)","v":""},{"$f":"getNumKeta0(基本情報!$E60+基本情報!$F60,4)","v":""},{"$f":"getNumKeta0(基本情報!$E60+基本情報!$F60,3)","v":""},{"$f":"getNumKeta0(基本情報!$E60+基本情報!$F60,2)","v":""},{"$f":"getNumKeta0(基本情報!$E60+基本情報!$F60,1)","v":""},{"$f":"getNumKeta0(基本情報!$G60,7)","v":""},{"$f":"getNumKeta0(基本情報!$G60,6)","v":""},{"$f":"getNumKeta0(基本情報!$G60,5)","v":""},{"$f":"getNumKeta0(基本情報!$G60,4)","v":""},{"$f":"getNumKeta0(基本情報!$G60,3)","v":""},{"$f":"getNumKeta0(基本情報!$G60,2)","v":""},{"$f":"getnumketa(基本情報!M68,1)","v":"0"},{"$f":"getNumKeta0(基本情報!$G60,1)","v":""},null,{"$f":"getNumKeta0(基本情報!$H60,9)","v":""},null,{"$f":"getNumKeta0(基本情報!$H60,8)","v":""},null,{"$f":"getNumKeta0(基本情報!$H60,7)","v":""},null,{"$f":"getNumKeta0(基本情報!$H60,6)","v":""},null,{"$f":"getNumKeta0(基本情報!$H60,5)","v":""},null,{"$f":"getNumKeta0(基本情報!$H60,4)","v":""},null,{"$f":"getNumKeta0(基本情報!$H60,3)","v":""},null,{"$f":"getNumKeta0(基本情報!$H60,2)","v":""},null,null,{"$f":"getNumKeta0(基本情報!$H60,1)","v":""}," 訂正内容"]
[{"$f":"基本情報!$B61","v":0},null,null,null,null,null,null,null,null,null,null,null,null,{"$f":"getNumKeta0(基本情報!$E61+基本情報!$F61,9)","v":""},{"$f":"getNumKeta0(基本情報!$E61+基本情報!$F61,8)","v":""},{"$f":"getNumKeta0(基本情報!$E61+基本情報!$F61,7)","v":""},{"$f":"getNumKeta0(基本情報!$E61+基本情報!$F61,6)","v":""},{"$f":"getNumKeta0(基本情報!$E61+基本情報!$F61,5)","v":""},{"$f":"getNumKeta0(基本情報!$E61+基本情報!$F61,4)","v":""},{"$f":"getNumKeta0(基本情報!$E61+基本情報!$F61,3)","v":""},{"$f":"getNumKeta0(基本情報!$E61+基本情報!$F61,2)","v":""},{"$f":"getNumKeta0(基本情報!$E61+基本情報!$F61,1)","v":""},{"$f":"getNumKeta0(基本情報!$G61,7)","v":""},{"$f":"getNumKeta0(基本情報!$G61,6)","v":""},{"$f":"getNumKeta0(基本情報!$G61,5)","v":""},{"$f":"getNumKeta0(基本情報!$G61,4)","v":""},{"$f":"getNumKeta0(基本情報!$G61,3)","v":""},{"$f":"getNumKeta0(基本情報!$G61,2)","v":""},{"$f":"getnumketa(基本情報!M69,1)","v":"0"},{"$f":"getNumKeta0(基本情報!$G61,1)","v":""},null,{"$f":"getNumKeta0(基本情報!$H61,9)","v":""},null,{"$f":"getNumKeta0(基本情報!$H61,8)","v":""},null,{"$f":"getNumKeta0(基本情報!$H61,7)","v":""},null,{"$f":"getNumKeta0(基本情報!$H61,6)","v":""},null,{"$f":"getNumKeta0(基本情報!$H61,5)","v":""},null,{"$f":"getNumKeta0(基本情報!$H61,4)","v":""},null,{"$f":"getNumKeta0(基本情報!$H61,3)","v":""},null,{"$f":"getNumKeta0(基本情報!$H61,2)","v":""},null,null,{"$f":"getNumKeta0(基本情報!$H61,1)","v":""}]
[]
[null,"（注）","１．請求書の締切日は、原則末日５日迄提出願います。又、支払は締の翌月20日となります。"]
[null,null,"　　但し、提出期限が当社休日の場合は前日とし、支払日は翌銀行営業日と致します。"]
[null,null,"　　尚、例外として4月と12月は、締日と必着日が毎年異なりますので十分ご注意ください。（別紙カレンダー参照）"]
[null,null,"　　期日迄に提出されない場合は、翌月計上となります。"]
[null,null,"２．当社への登録内容に変更を生じた場合は、速やかに「取引情報（新規・変更）届出書」を提出願います。",null,null,null,null,null,null,null,null,null,null,null,null,null,null,null,null,null,null,null,null,null,null,null,null,null,null,null,null,null,null,null,null,null,null,null,null,null,null,null,null,null,null,null,null,null,null,null,null,"貴社→経理(控)"]
[null,"請求書（鏡）（一般用）　",null,null,null,null,null,null,null,null,null,null,null,null,null,null,null,null,null,null,null,null,null,null,null,null,null,null,null,null,null,null,null,null,null,null,null,null,null,null,null,null,null,null,null,null,null,null,null,null,null,null,null,null,null,null,null,null,null,null,null,null,null,null,null,null,null,null,null,null,null,null,null,null,{"$f":"\"P 3/\"&COUNTA(基本情報_工事名称1, 基本情報_工事名称2, 基本情報_工事名称3)","v":"P 3/1"}]
[null,null,null,null,null,null,null,null,null,null,null,null,null,null,null,null,null,null,null,null,null,null,null,null,null,null,null,null,"変更時当社記入欄",null,null,null,null,null,null,null,null,null,null,null,null,null,null,null,null,null,null,"取引先コード",null,null,{"$f":"基本情報_取引先コード","v":999999},"　締　日　",null,null,null,null,{"$f":"基本情報_請求締日","v":"2020-07-31"}]
["丸高・みなと特定建設工事共同企業体　御中",null,null,null,null,null,null,null,null,null,null,null,null,null,null,null,null,null,null,null,null,null,null,null,null,null,null,null,null,null,null,null,null,null,null,null,null,null,null,null,null,null,null,null,null,null,null,null,null,null,null,null,null,null,null,null,null,null,null,null,null,"振込銀行",null,null,null,{"$f":"基本情報_銀行名","v":"きらやか"},null,null,null,null,null,null,"銀\n行",{"$f":"基本情報_支店名","v":"酒田"},null,null,null,null,null,null,"支\n店"]
["下記の通り御請求申し上げます。",null,null,null,null,null,null,null,null,null,null,null,{"$f":"\"税率 ( \" & (基本情報_消費税率*100) & \"% )\"","v":"税率 ( 10% )"},null,null,null,null,null,null,null,null,null,null,null,null,null,null,null,null,null,null,null,null,null,null,null,null,null,null,null,null,null,null,null,null,null,null,null,"（住所）",null,{"$f":"基本情報_住所","v":"酒田市○○○○１－１"},null,null,null,null,null,null,null,null,null,null,"銀行ｺｰﾄﾞ",null,null,null,"4桁",null,{"$f":"基本情報_銀行コード","v":508},null,null,null,null,"支店\nｺｰﾄﾞ",null,"3桁",null,{"$f":"基本情報_支店コード","v":443}]
["前月請求額",null,null,null,null,null,null,null,null,null,null,null,"税抜金額計",null,null,null,null,null,null,null,null,null,null,null,null,null,null,null,null,null,null,null,null,null,null,null,null,null,null,null,null,null,null,null,null,null,null,null,"（社名）",null,{"$f":"基本情報_社名","v":"(株）○○建設"},null,null,null,null,null,null,null,null,null,null,"口座番号",null,null,null,{"$f":"基本情報_口座種別","v":"当　座"},null,null,null,null,{"$f":"基本情報_口座番号","v":1234567}]
["入　金　額",null,null,null,null,null,null,null,null,null,null,null,"請求明細\n消費税合計",null,null,null,null,null,null,null,null,null,null,null,null,null,null,null,null,null,null,null,null,null,null,null,null,null,null,null,null,null,null,null,null,null,null,null,null,null,null,null,null,null,null,null,null,"印",null,null,null,"口座名義:漢字"]
["値　引　額",null,null,null,null,null,null,null,null,null,null,null,"税込当月請求額",null,null,null,null,null,null,null,null,null,null,null,null,null,null,null,null,null,null,null,null,null,null,null,null,null,null,null,null,null,null,null,null,null,null,null,"（電話）",null,{"$f":"基本情報_電話番号","v":"0234 - 00 - 0000"},null,null,null,null,null,null,null,null,null,null,{"$f":"基本情報_口座名義漢字","v":"(株）○○建設"}]
["繰越金額",null,null,null,null,null,null,null,null,null,null,null,"税込当月総請求額",null,null,null,null,null,null,null,null,null,null,null,null,null,null,null,null,null,null,null,null,null,null,null,null,null,null,null,null,null,null,null,null,null,null,null,null,null,null,null,null,null,null,null,null,null,null,null,null,"口座名義:カナ",null,null,null,null,null,{"$f":"基本情報_口座名義カナ","v":"ｶ)ﾏﾙﾏﾙｹﾝｾﾂ"}]
["工　　　事　　　名",null,null,null,null,null,null,null,null,null,null,"ＣＫ",null,"税抜金額",null,null,null,null,null,null,null,null,"消費税",null,null,null,null,null,null,null,null,"税込金額",null,null,null,null,null,null,null,null,null,null,null,null,null,null,null,null,null,"工　　　事　　　名",null,null,"ＣＫ","税抜金額",null,null,null,null,null,null,null,null,null,"消費税",null,null,null,null,null,null,null,"税込金額"]
[{"$f":"基本情報!$B70","v":0},null,null,null,null,null,null,null,null,null,null,null,null,{"$f":"getNumKeta0(基本情報!$E70+基本情報!$F70,9)","v":""},{"$f":"getNumKeta0(基本情報!$E70+基本情報!$F70,8)","v":""},{"$f":"getNumKeta0(基本情報!$E70+基本情報!$F70,7)","v":""},{"$f":"getNumKeta0(基本情報!$E70+基本情報!$F70,6)","v":""},{"$f":"getNumKeta0(基本情報!$E70+基本情報!$F70,5)","v":""},{"$f":"getNumKeta0(基本情報!$E70+基本情報!$F70,4)","v":""},{"$f":"getNumKeta0(基本情報!$E70+基本情報!$F70,3)","v":""},{"$f":"getNumKeta0(基本情報!$E70+基本情報!$F70,2)","v":""},{"$f":"getNumKeta0(基本情報!$E70+基本情報!$F70,1)","v":""},{"$f":"getNumKeta0(基本情報!$G70,7)","v":""},{"$f":"getNumKeta0(基本情報!$G70,6)","v":""},{"$f":"getNumKeta0(基本情報!$G70,5)","v":""},{"$f":"getNumKeta0(基本情報!$G70,4)","v":""},{"$f":"getNumKeta0(基本情報!$G70,3)","v":""},{"$f":"getNumKeta0(基本情報!$G70,2)","v":""},{"$f":"getnumketa(基本情報!M85,1)","v":"0"},{"$f":"getNumKeta0(基本情報!$G70,1)","v":""},null,{"$f":"getNumKeta0(基本情報!$H70,9)","v":""},null,{"$f":"getNumKeta0(基本情報!$H70,8)","v":""},null,{"$f":"getNumKeta0(基本情報!$H70,7)","v":""},null,{"$f":"getNumKeta0(基本情報!$H70,6)","v":""},null,{"$f":"getNumKeta0(基本情報!$H70,5)","v":""},null,{"$f":"getNumKeta0(基本情報!$H70,4)","v":""},null,{"$f":"getNumKeta0(基本情報!$H70,3)","v":""},null,{"$f":"getNumKeta0(基本情報!$H70,2)","v":""},null,null,{"$f":"getNumKeta0(基本情報!$H70,1)","v":""},{"$f":"基本情報!$B82","v":0},null,null,null,{"$f":"getNumKeta0(基本情報!$E82+基本情報!$F82,9)","v":""},{"$f":"getNumKeta0(基本情報!$E82+基本情報!$F82,8)","v":""},{"$f":"getNumKeta0(基本情報!$E82+基本情報!$F82,7)","v":""},{"$f":"getnumketa(基本情報!AQ85,6)","v":""},{"$f":"getNumKeta0(基本情報!$E82+基本情報!$F82,6)","v":""},{"$f":"getNumKeta0(基本情報!$E82+基本情報!$F82,5)","v":""},{"$f":"getNumKeta0(基本情報!$E82+基本情報!$F82,4)","v":""},{"$f":"getNumKeta0(基本情報!$E82+基本情報!$F82,3)","v":""},{"$f":"getNumKeta0(基本情報!$E82+基本情報!$F82,2)","v":""},{"$f":"getNumKeta0(基本情報!$E82+基本情報!$F82,1)","v":""},{"$f":"getNumKeta0(基本情報!$G82,7)","v":""},{"$f":"getNumKeta0(基本情報!$G82,6)","v":""},{"$f":"getNumKeta0(基本情報!$G82,5)","v":""},{"$f":"getNumKeta0(基本情報!$G82,4)","v":""},{"$f":"getnumketa(基本情報!N97,4)","v":""},{"$f":"getNumKeta0(基本情報!$G82,3)","v":""},{"$f":"getNumKeta0(基本情報!$G82,2)","v":""},{"$f":"getNumKeta0(基本情報!$G82,1)","v":""},{"$f":"getNumKeta0(基本情報!$H82,9)","v":""},{"$f":"getNumKeta0(基本情報!$H82,8)","v":""},{"$f":"getNumKeta0(基本情報!$H82,7)","v":""},{"$f":"getNumKeta0(基本情報!$H82,6)","v":""},{"$f":"getNumKeta0(基本情報!$H82,5)","v":""},null,{"$f":"getNumKeta0(基本情報!$H82,4)","v":""},{"$f":"getNumKeta0(基本情報!$H82,3)","v":""},{"$f":"getNumKeta0(基本情報!$H82,2)","v":""},{"$f":"getNumKeta0(基本情報!$H82,1)","v":""}]
[{"$f":"基本情報!$B71","v":0},null,null,null,null,null,null,null,null,null,null,null,null,{"$f":"getNumKeta0(基本情報!$E71+基本情報!$F71,9)","v":""},{"$f":"getNumKeta0(基本情報!$E71+基本情報!$F71,8)","v":""},{"$f":"getNumKeta0(基本情報!$E71+基本情報!$F71,7)","v":""},{"$f":"getNumKeta0(基本情報!$E71+基本情報!$F71,6)","v":""},{"$f":"getNumKeta0(基本情報!$E71+基本情報!$F71,5)","v":""},{"$f":"getNumKeta0(基本情報!$E71+基本情報!$F71,4)","v":""},{"$f":"getNumKeta0(基本情報!$E71+基本情報!$F71,3)","v":""},{"$f":"getNumKeta0(基本情報!$E71+基本情報!$F71,2)","v":""},{"$f":"getNumKeta0(基本情報!$E71+基本情報!$F71,1)","v":""},{"$f":"getNumKeta0(基本情報!$G71,7)","v":""},{"$f":"getNumKeta0(基本情報!$G71,6)","v":""},{"$f":"getNumKeta0(基本情報!$G71,5)","v":""},{"$f":"getNumKeta0(基本情報!$G71,4)","v":""},{"$f":"getNumKeta0(基本情報!$G71,3)","v":""},{"$f":"getNumKeta0(基本情報!$G71,2)","v":""},{"$f":"getnumketa(基本情報!M86,1)","v":"0"},{"$f":"getNumKeta0(基本情報!$G71,1)","v":""},null,{"$f":"getNumKeta0(基本情報!$H71,9)","v":""},null,{"$f":"getNumKeta0(基本情報!$H71,8)","v":""},null,{"$f":"getNumKeta0(基本情報!$H71,7)","v":""},null,{"$f":"getNumKeta0(基本情報!$H71,6)","v":""},null,{"$f":"getNumKeta0(基本情報!$H71,5)","v":""},null,{"$f":"getNumKeta0(基本情報!$H71,4)","v":""},null,{"$f":"getNumKeta0(基本情報!$H71,3)","v":""},null,{"$f":"getNumKeta0(基本情報!$H71,2)","v":""},null,null,{"$f":"getNumKeta0(基本情報!$H71,1)","v":""},{"$f":"基本情報!$B83","v":0},null,null,null,{"$f":"getNumKeta0(基本情報!$E83+基本情報!$F83,9)","v":""},{"$f":"getNumKeta0(基本情報!$E83+基本情報!$F83,8)","v":""},{"$f":"getNumKeta0(基本情報!$E83+基本情報!$F83,7)","v":""},{"$f":"getnumketa(基本情報!AQ86,6)","v":""},{"$f":"getNumKeta0(基本情報!$E83+基本情報!$F83,6)","v":""},{"$f":"getNumKeta0(基本情報!$E83+基本情報!$F83,5)","v":""},{"$f":"getNumKeta0(基本情報!$E83+基本情報!$F83,4)","v":""},{"$f":"getNumKeta0(基本情報!$E83+基本情報!$F83,3)","v":""},{"$f":"getNumKeta0(基本情報!$E83+基本情報!$F83,2)","v":""},{"$f":"getNumKeta0(基本情報!$E83+基本情報!$F83,1)","v":""},{"$f":"getNumKeta0(基本情報!$G83,7)","v":""},{"$f":"getNumKeta0(基本情報!$G83,6)","v":""},{"$f":"getNumKeta0(基本情報!$G83,5)","v":""},{"$f":"getNumKeta0(基本情報!$G83,4)","v":""},{"$f":"getnumketa(基本情報!N98,4)","v":""},{"$f":"getNumKeta0(基本情報!$G83,3)","v":""},{"$f":"getNumKeta0(基本情報!$G83,2)","v":""},{"$f":"getNumKeta0(基本情報!$G83,1)","v":""},{"$f":"getNumKeta0(基本情報!$H83,9)","v":""},{"$f":"getNumKeta0(基本情報!$H83,8)","v":""},{"$f":"getNumKeta0(基本情報!$H83,7)","v":""},{"$f":"getNumKeta0(基本情報!$H83,6)","v":""},{"$f":"getNumKeta0(基本情報!$H83,5)","v":""},null,{"$f":"getNumKeta0(基本情報!$H83,4)","v":""},{"$f":"getNumKeta0(基本情報!$H83,3)","v":""},{"$f":"getNumKeta0(基本情報!$H83,2)","v":""},{"$f":"getNumKeta0(基本情報!$H83,1)","v":""}]
[{"$f":"基本情報!$B72","v":0},null,null,null,null,null,null,null,null,null,null,null,null,{"$f":"getNumKeta0(基本情報!$E72+基本情報!$F72,9)","v":""},{"$f":"getNumKeta0(基本情報!$E72+基本情報!$F72,8)","v":""},{"$f":"getNumKeta0(基本情報!$E72+基本情報!$F72,7)","v":""},{"$f":"getNumKeta0(基本情報!$E72+基本情報!$F72,6)","v":""},{"$f":"getNumKeta0(基本情報!$E72+基本情報!$F72,5)","v":""},{"$f":"getNumKeta0(基本情報!$E72+基本情報!$F72,4)","v":""},{"$f":"getNumKeta0(基本情報!$E72+基本情報!$F72,3)","v":""},{"$f":"getNumKeta0(基本情報!$E72+基本情報!$F72,2)","v":""},{"$f":"getNumKeta0(基本情報!$E72+基本情報!$F72,1)","v":""},{"$f":"getNumKeta0(基本情報!$G72,7)","v":""},{"$f":"getNumKeta0(基本情報!$G72,6)","v":""},{"$f":"getNumKeta0(基本情報!$G72,5)","v":""},{"$f":"getNumKeta0(基本情報!$G72,4)","v":""},{"$f":"getNumKeta0(基本情報!$G72,3)","v":""},{"$f":"getNumKeta0(基本情報!$G72,2)","v":""},{"$f":"getnumketa(基本情報!M87,1)","v":"0"},{"$f":"getNumKeta0(基本情報!$G72,1)","v":""},null,{"$f":"getNumKeta0(基本情報!$H72,9)","v":""},null,{"$f":"getNumKeta0(基本情報!$H72,8)","v":""},null,{"$f":"getNumKeta0(基本情報!$H72,7)","v":""},null,{"$f":"getNumKeta0(基本情報!$H72,6)","v":""},null,{"$f":"getNumKeta0(基本情報!$H72,5)","v":""},null,{"$f":"getNumKeta0(基本情報!$H72,4)","v":""},null,{"$f":"getNumKeta0(基本情報!$H72,3)","v":""},null,{"$f":"getNumKeta0(基本情報!$H72,2)","v":""},null,null,{"$f":"getNumKeta0(基本情報!$H72,1)","v":""},{"$f":"基本情報!$B84","v":0},null,null,null,{"$f":"getNumKeta0(基本情報!$E84+基本情報!$F84,9)","v":""},{"$f":"getNumKeta0(基本情報!$E84+基本情報!$F84,8)","v":""},{"$f":"getNumKeta0(基本情報!$E84+基本情報!$F84,7)","v":""},{"$f":"getnumketa(基本情報!AQ87,6)","v":""},{"$f":"getNumKeta0(基本情報!$E84+基本情報!$F84,6)","v":""},{"$f":"getNumKeta0(基本情報!$E84+基本情報!$F84,5)","v":""},{"$f":"getNumKeta0(基本情報!$E84+基本情報!$F84,4)","v":""},{"$f":"getNumKeta0(基本情報!$E84+基本情報!$F84,3)","v":""},{"$f":"getNumKeta0(基本情報!$E84+基本情報!$F84,2)","v":""},{"$f":"getNumKeta0(基本情報!$E84+基本情報!$F84,1)","v":""},{"$f":"getNumKeta0(基本情報!$G84,7)","v":""},{"$f":"getNumKeta0(基本情報!$G84,6)","v":""},{"$f":"getNumKeta0(基本情報!$G84,5)","v":""},{"$f":"getNumKeta0(基本情報!$G84,4)","v":""},{"$f":"getnumketa(基本情報!N99,4)","v":""},{"$f":"getNumKeta0(基本情報!$G84,3)","v":""},{"$f":"getNumKeta0(基本情報!$G84,2)","v":""},{"$f":"getNumKeta0(基本情報!$G84,1)","v":""},{"$f":"getNumKeta0(基本情報!$H84,9)","v":""},{"$f":"getNumKeta0(基本情報!$H84,8)","v":""},{"$f":"getNumKeta0(基本情報!$H84,7)","v":""},{"$f":"getNumKeta0(基本情報!$H84,6)","v":""},{"$f":"getNumKeta0(基本情報!$H84,5)","v":""},null,{"$f":"getNumKeta0(基本情報!$H84,4)","v":""},{"$f":"getNumKeta0(基本情報!$H84,3)","v":""},{"$f":"getNumKeta0(基本情報!$H84,2)","v":""},{"$f":"getNumKeta0(基本情報!$H84,1)","v":""}]
[{"$f":"基本情報!$B73","v":0},null,null,null,null,null,null,null,null,null,null,null,null,{"$f":"getNumKeta0(基本情報!$E73+基本情報!$F73,9)","v":""},{"$f":"getNumKeta0(基本情報!$E73+基本情報!$F73,8)","v":""},{"$f":"getNumKeta0(基本情報!$E73+基本情報!$F73,7)","v":""},{"$f":"getNumKeta0(基本情報!$E73+基本情報!$F73,6)","v":""},{"$f":"getNumKeta0(基本情報!$E73+基本情報!$F73,5)","v":""},{"$f":"getNumKeta0(基本情報!$E73+基本情報!$F73,4)","v":""},{"$f":"getNumKeta0(基本情報!$E73+基本情報!$F73,3)","v":""},{"$f":"getNumKeta0(基本情報!$E73+基本情報!$F73,2)","v":""},{"$f":"getNumKeta0(基本情報!$E73+基本情報!$F73,1)","v":""},{"$f":"getNumKeta0(基本情報!$G73,7)","v":""},{"$f":"getNumKeta0(基本情報!$G73,6)","v":""},{"$f":"getNumKeta0(基本情報!$G73,5)","v":""},{"$f":"getNumKeta0(基本情報!$G73,4)","v":""},{"$f":"getNumKeta0(基本情報!$G73,3)","v":""},{"$f":"getNumKeta0(基本情報!$G73,2)","v":""},{"$f":"getnumketa(基本情報!M88,1)","v":"0"},{"$f":"getNumKeta0(基本情報!$G73,1)","v":""},null,{"$f":"getNumKeta0(基本情報!$H73,9)","v":""},null,{"$f":"getNumKeta0(基本情報!$H73,8)","v":""},null,{"$f":"getNumKeta0(基本情報!$H73,7)","v":""},null,{"$f":"getNumKeta0(基本情報!$H73,6)","v":""},null,{"$f":"getNumKeta0(基本情報!$H73,5)","v":""},null,{"$f":"getNumKeta0(基本情報!$H73,4)","v":""},null,{"$f":"getNumKeta0(基本情報!$H73,3)","v":""},null,{"$f":"getNumKeta0(基本情報!$H73,2)","v":""},null,null,{"$f":"getNumKeta0(基本情報!$H73,1)","v":""},{"$f":"基本情報!$B85","v":0},null,null,null,{"$f":"getNumKeta0(基本情報!$E85+基本情報!$F85,9)","v":""},{"$f":"getNumKeta0(基本情報!$E85+基本情報!$F85,8)","v":""},{"$f":"getNumKeta0(基本情報!$E85+基本情報!$F85,7)","v":""},{"$f":"getnumketa(基本情報!AQ88,6)","v":""},{"$f":"getNumKeta0(基本情報!$E85+基本情報!$F85,6)","v":""},{"$f":"getNumKeta0(基本情報!$E85+基本情報!$F85,5)","v":""},{"$f":"getNumKeta0(基本情報!$E85+基本情報!$F85,4)","v":""},{"$f":"getNumKeta0(基本情報!$E85+基本情報!$F85,3)","v":""},{"$f":"getNumKeta0(基本情報!$E85+基本情報!$F85,2)","v":""},{"$f":"getNumKeta0(基本情報!$E85+基本情報!$F85,1)","v":""},{"$f":"getNumKeta0(基本情報!$G85,7)","v":""},{"$f":"getNumKeta0(基本情報!$G85,6)","v":""},{"$f":"getNumKeta0(基本情報!$G85,5)","v":""},{"$f":"getNumKeta0(基本情報!$G85,4)","v":""},{"$f":"getnumketa(基本情報!N100,4)","v":""},{"$f":"getNumKeta0(基本情報!$G85,3)","v":""},{"$f":"getNumKeta0(基本情報!$G85,2)","v":""},{"$f":"getNumKeta0(基本情報!$G85,1)","v":""},{"$f":"getNumKeta0(基本情報!$H85,9)","v":""},{"$f":"getNumKeta0(基本情報!$H85,8)","v":""},{"$f":"getNumKeta0(基本情報!$H85,7)","v":""},{"$f":"getNumKeta0(基本情報!$H85,6)","v":""},{"$f":"getNumKeta0(基本情報!$H85,5)","v":""},null,{"$f":"getNumKeta0(基本情報!$H85,4)","v":""},{"$f":"getNumKeta0(基本情報!$H85,3)","v":""},{"$f":"getNumKeta0(基本情報!$H85,2)","v":""},{"$f":"getNumKeta0(基本情報!$H85,1)","v":""}]
[{"$f":"基本情報!$B74","v":0},null,null,null,null,null,null,null,null,null,null,null,null,{"$f":"getNumKeta0(基本情報!$E74+基本情報!$F74,9)","v":""},{"$f":"getNumKeta0(基本情報!$E74+基本情報!$F74,8)","v":""},{"$f":"getNumKeta0(基本情報!$E74+基本情報!$F74,7)","v":""},{"$f":"getNumKeta0(基本情報!$E74+基本情報!$F74,6)","v":""},{"$f":"getNumKeta0(基本情報!$E74+基本情報!$F74,5)","v":""},{"$f":"getNumKeta0(基本情報!$E74+基本情報!$F74,4)","v":""},{"$f":"getNumKeta0(基本情報!$E74+基本情報!$F74,3)","v":""},{"$f":"getNumKeta0(基本情報!$E74+基本情報!$F74,2)","v":""},{"$f":"getNumKeta0(基本情報!$E74+基本情報!$F74,1)","v":""},{"$f":"getNumKeta0(基本情報!$G74,7)","v":""},{"$f":"getNumKeta0(基本情報!$G74,6)","v":""},{"$f":"getNumKeta0(基本情報!$G74,5)","v":""},{"$f":"getNumKeta0(基本情報!$G74,4)","v":""},{"$f":"getNumKeta0(基本情報!$G74,3)","v":""},{"$f":"getNumKeta0(基本情報!$G74,2)","v":""},{"$f":"getnumketa(基本情報!M89,1)","v":"0"},{"$f":"getNumKeta0(基本情報!$G74,1)","v":""},null,{"$f":"getNumKeta0(基本情報!$H74,9)","v":""},null,{"$f":"getNumKeta0(基本情報!$H74,8)","v":""},null,{"$f":"getNumKeta0(基本情報!$H74,7)","v":""},null,{"$f":"getNumKeta0(基本情報!$H74,6)","v":""},null,{"$f":"getNumKeta0(基本情報!$H74,5)","v":""},null,{"$f":"getNumKeta0(基本情報!$H74,4)","v":""},null,{"$f":"getNumKeta0(基本情報!$H74,3)","v":""},null,{"$f":"getNumKeta0(基本情報!$H74,2)","v":""},null,null,{"$f":"getNumKeta0(基本情報!$H74,1)","v":""},{"$f":"基本情報!$B86","v":0},null,null,null,{"$f":"getNumKeta0(基本情報!$E86+基本情報!$F86,9)","v":""},{"$f":"getNumKeta0(基本情報!$E86+基本情報!$F86,8)","v":""},{"$f":"getNumKeta0(基本情報!$E86+基本情報!$F86,7)","v":""},{"$f":"getnumketa(基本情報!AQ89,6)","v":""},{"$f":"getNumKeta0(基本情報!$E86+基本情報!$F86,6)","v":""},{"$f":"getNumKeta0(基本情報!$E86+基本情報!$F86,5)","v":""},{"$f":"getNumKeta0(基本情報!$E86+基本情報!$F86,4)","v":""},{"$f":"getNumKeta0(基本情報!$E86+基本情報!$F86,3)","v":""},{"$f":"getNumKeta0(基本情報!$E86+基本情報!$F86,2)","v":""},{"$f":"getNumKeta0(基本情報!$E86+基本情報!$F86,1)","v":""},{"$f":"getNumKeta0(基本情報!$G86,7)","v":""},{"$f":"getNumKeta0(基本情報!$G86,6)","v":""},{"$f":"getNumKeta0(基本情報!$G86,5)","v":""},{"$f":"getNumKeta0(基本情報!$G86,4)","v":""},{"$f":"getnumketa(基本情報!N101,4)","v":""},{"$f":"getNumKeta0(基本情報!$G86,3)","v":""},{"$f":"getNumKeta0(基本情報!$G86,2)","v":""},{"$f":"getNumKeta0(基本情報!$G86,1)","v":""},{"$f":"getNumKeta0(基本情報!$H86,9)","v":""},{"$f":"getNumKeta0(基本情報!$H86,8)","v":""},{"$f":"getNumKeta0(基本情報!$H86,7)","v":""},{"$f":"getNumKeta0(基本情報!$H86,6)","v":""},{"$f":"getNumKeta0(基本情報!$H86,5)","v":""},null,{"$f":"getNumKeta0(基本情報!$H86,4)","v":""},{"$f":"getNumKeta0(基本情報!$H86,3)","v":""},{"$f":"getNumKeta0(基本情報!$H86,2)","v":""},{"$f":"getNumKeta0(基本情報!$H86,1)","v":""}]
[{"$f":"基本情報!$B75","v":0},null,null,null,null,null,null,null,null,null,null,null,null,{"$f":"getNumKeta0(基本情報!$E75+基本情報!$F75,9)","v":""},{"$f":"getNumKeta0(基本情報!$E75+基本情報!$F75,8)","v":""},{"$f":"getNumKeta0(基本情報!$E75+基本情報!$F75,7)","v":""},{"$f":"getNumKeta0(基本情報!$E75+基本情報!$F75,6)","v":""},{"$f":"getNumKeta0(基本情報!$E75+基本情報!$F75,5)","v":""},{"$f":"getNumKeta0(基本情報!$E75+基本情報!$F75,4)","v":""},{"$f":"getNumKeta0(基本情報!$E75+基本情報!$F75,3)","v":""},{"$f":"getNumKeta0(基本情報!$E75+基本情報!$F75,2)","v":""},{"$f":"getNumKeta0(基本情報!$E75+基本情報!$F75,1)","v":""},{"$f":"getNumKeta0(基本情報!$G75,7)","v":""},{"$f":"getNumKeta0(基本情報!$G75,6)","v":""},{"$f":"getNumKeta0(基本情報!$G75,5)","v":""},{"$f":"getNumKeta0(基本情報!$G75,4)","v":""},{"$f":"getNumKeta0(基本情報!$G75,3)","v":""},{"$f":"getNumKeta0(基本情報!$G75,2)","v":""},{"$f":"getnumketa(基本情報!M90,1)","v":"0"},{"$f":"getNumKeta0(基本情報!$G75,1)","v":""},null,{"$f":"getNumKeta0(基本情報!$H75,9)","v":""},null,{"$f":"getNumKeta0(基本情報!$H75,8)","v":""},null,{"$f":"getNumKeta0(基本情報!$H75,7)","v":""},null,{"$f":"getNumKeta0(基本情報!$H75,6)","v":""},null,{"$f":"getNumKeta0(基本情報!$H75,5)","v":""},null,{"$f":"getNumKeta0(基本情報!$H75,4)","v":""},null,{"$f":"getNumKeta0(基本情報!$H75,3)","v":""},null,{"$f":"getNumKeta0(基本情報!$H75,2)","v":""},null,null,{"$f":"getNumKeta0(基本情報!$H75,1)","v":""},{"$f":"基本情報!$B87","v":0},null,null,null,{"$f":"getNumKeta0(基本情報!$E87+基本情報!$F87,9)","v":""},{"$f":"getNumKeta0(基本情報!$E87+基本情報!$F87,8)","v":""},{"$f":"getNumKeta0(基本情報!$E87+基本情報!$F87,7)","v":""},{"$f":"getnumketa(基本情報!AQ90,6)","v":""},{"$f":"getNumKeta0(基本情報!$E87+基本情報!$F87,6)","v":""},{"$f":"getNumKeta0(基本情報!$E87+基本情報!$F87,5)","v":""},{"$f":"getNumKeta0(基本情報!$E87+基本情報!$F87,4)","v":""},{"$f":"getNumKeta0(基本情報!$E87+基本情報!$F87,3)","v":""},{"$f":"getNumKeta0(基本情報!$E87+基本情報!$F87,2)","v":""},{"$f":"getNumKeta0(基本情報!$E87+基本情報!$F87,1)","v":""},{"$f":"getNumKeta0(基本情報!$G87,7)","v":""},{"$f":"getNumKeta0(基本情報!$G87,6)","v":""},{"$f":"getNumKeta0(基本情報!$G87,5)","v":""},{"$f":"getNumKeta0(基本情報!$G87,4)","v":""},{"$f":"getnumketa(基本情報!N102,4)","v":""},{"$f":"getNumKeta0(基本情報!$G87,3)","v":""},{"$f":"getNumKeta0(基本情報!$G87,2)","v":""},{"$f":"getNumKeta0(基本情報!$G87,1)","v":""},{"$f":"getNumKeta0(基本情報!$H87,9)","v":""},{"$f":"getNumKeta0(基本情報!$H87,8)","v":""},{"$f":"getNumKeta0(基本情報!$H87,7)","v":""},{"$f":"getNumKeta0(基本情報!$H87,6)","v":""},{"$f":"getNumKeta0(基本情報!$H87,5)","v":""},null,{"$f":"getNumKeta0(基本情報!$H87,4)","v":""},{"$f":"getNumKeta0(基本情報!$H87,3)","v":""},{"$f":"getNumKeta0(基本情報!$H87,2)","v":""},{"$f":"getNumKeta0(基本情報!$H87,1)","v":""}]
[{"$f":"基本情報!$B76","v":0},null,null,null,null,null,null,null,null,null,null,null,null,{"$f":"getNumKeta0(基本情報!$E76+基本情報!$F76,9)","v":""},{"$f":"getNumKeta0(基本情報!$E76+基本情報!$F76,8)","v":""},{"$f":"getNumKeta0(基本情報!$E76+基本情報!$F76,7)","v":""},{"$f":"getNumKeta0(基本情報!$E76+基本情報!$F76,6)","v":""},{"$f":"getNumKeta0(基本情報!$E76+基本情報!$F76,5)","v":""},{"$f":"getNumKeta0(基本情報!$E76+基本情報!$F76,4)","v":""},{"$f":"getNumKeta0(基本情報!$E76+基本情報!$F76,3)","v":""},{"$f":"getNumKeta0(基本情報!$E76+基本情報!$F76,2)","v":""},{"$f":"getNumKeta0(基本情報!$E76+基本情報!$F76,1)","v":""},{"$f":"getNumKeta0(基本情報!$G76,7)","v":""},{"$f":"getNumKeta0(基本情報!$G76,6)","v":""},{"$f":"getNumKeta0(基本情報!$G76,5)","v":""},{"$f":"getNumKeta0(基本情報!$G76,4)","v":""},{"$f":"getNumKeta0(基本情報!$G76,3)","v":""},{"$f":"getNumKeta0(基本情報!$G76,2)","v":""},{"$f":"getnumketa(基本情報!M91,1)","v":"0"},{"$f":"getNumKeta0(基本情報!$G76,1)","v":""},null,{"$f":"getNumKeta0(基本情報!$H76,9)","v":""},null,{"$f":"getNumKeta0(基本情報!$H76,8)","v":""},null,{"$f":"getNumKeta0(基本情報!$H76,7)","v":""},null,{"$f":"getNumKeta0(基本情報!$H76,6)","v":""},null,{"$f":"getNumKeta0(基本情報!$H76,5)","v":""},null,{"$f":"getNumKeta0(基本情報!$H76,4)","v":""},null,{"$f":"getNumKeta0(基本情報!$H76,3)","v":""},null,{"$f":"getNumKeta0(基本情報!$H76,2)","v":""},null,null,{"$f":"getNumKeta0(基本情報!$H76,1)","v":""},{"$f":"基本情報!$B88","v":0},null,null,null,{"$f":"getNumKeta0(基本情報!$E88+基本情報!$F88,9)","v":""},{"$f":"getNumKeta0(基本情報!$E88+基本情報!$F88,8)","v":""},{"$f":"getNumKeta0(基本情報!$E88+基本情報!$F88,7)","v":""},{"$f":"getnumketa(基本情報!AQ91,6)","v":""},{"$f":"getNumKeta0(基本情報!$E88+基本情報!$F88,6)","v":""},{"$f":"getNumKeta0(基本情報!$E88+基本情報!$F88,5)","v":""},{"$f":"getNumKeta0(基本情報!$E88+基本情報!$F88,4)","v":""},{"$f":"getNumKeta0(基本情報!$E88+基本情報!$F88,3)","v":""},{"$f":"getNumKeta0(基本情報!$E88+基本情報!$F88,2)","v":""},{"$f":"getNumKeta0(基本情報!$E88+基本情報!$F88,1)","v":""},{"$f":"getNumKeta0(基本情報!$G88,7)","v":""},{"$f":"getNumKeta0(基本情報!$G88,6)","v":""},{"$f":"getNumKeta0(基本情報!$G88,5)","v":""},{"$f":"getNumKeta0(基本情報!$G88,4)","v":""},{"$f":"getnumketa(基本情報!N103,4)","v":""},{"$f":"getNumKeta0(基本情報!$G88,3)","v":""},{"$f":"getNumKeta0(基本情報!$G88,2)","v":""},{"$f":"getNumKeta0(基本情報!$G88,1)","v":""},{"$f":"getNumKeta0(基本情報!$H88,9)","v":""},{"$f":"getNumKeta0(基本情報!$H88,8)","v":""},{"$f":"getNumKeta0(基本情報!$H88,7)","v":""},{"$f":"getNumKeta0(基本情報!$H88,6)","v":""},{"$f":"getNumKeta0(基本情報!$H88,5)","v":""},null,{"$f":"getNumKeta0(基本情報!$H88,4)","v":""},{"$f":"getNumKeta0(基本情報!$H88,3)","v":""},{"$f":"getNumKeta0(基本情報!$H88,2)","v":""},{"$f":"getNumKeta0(基本情報!$H88,1)","v":""}]
[{"$f":"基本情報!$B77","v":0},null,null,null,null,null,null,null,null,null,null,null,null,{"$f":"getNumKeta0(基本情報!$E77+基本情報!$F77,9)","v":""},{"$f":"getNumKeta0(基本情報!$E77+基本情報!$F77,8)","v":""},{"$f":"getNumKeta0(基本情報!$E77+基本情報!$F77,7)","v":""},{"$f":"getNumKeta0(基本情報!$E77+基本情報!$F77,6)","v":""},{"$f":"getNumKeta0(基本情報!$E77+基本情報!$F77,5)","v":""},{"$f":"getNumKeta0(基本情報!$E77+基本情報!$F77,4)","v":""},{"$f":"getNumKeta0(基本情報!$E77+基本情報!$F77,3)","v":""},{"$f":"getNumKeta0(基本情報!$E77+基本情報!$F77,2)","v":""},{"$f":"getNumKeta0(基本情報!$E77+基本情報!$F77,1)","v":""},{"$f":"getNumKeta0(基本情報!$G77,7)","v":""},{"$f":"getNumKeta0(基本情報!$G77,6)","v":""},{"$f":"getNumKeta0(基本情報!$G77,5)","v":""},{"$f":"getNumKeta0(基本情報!$G77,4)","v":""},{"$f":"getNumKeta0(基本情報!$G77,3)","v":""},{"$f":"getNumKeta0(基本情報!$G77,2)","v":""},{"$f":"getnumketa(基本情報!M92,1)","v":"0"},{"$f":"getNumKeta0(基本情報!$G77,1)","v":""},null,{"$f":"getNumKeta0(基本情報!$H77,9)","v":""},null,{"$f":"getNumKeta0(基本情報!$H77,8)","v":""},null,{"$f":"getNumKeta0(基本情報!$H77,7)","v":""},null,{"$f":"getNumKeta0(基本情報!$H77,6)","v":""},null,{"$f":"getNumKeta0(基本情報!$H77,5)","v":""},null,{"$f":"getNumKeta0(基本情報!$H77,4)","v":""},null,{"$f":"getNumKeta0(基本情報!$H77,3)","v":""},null,{"$f":"getNumKeta0(基本情報!$H77,2)","v":""},null,null,{"$f":"getNumKeta0(基本情報!$H77,1)","v":""},{"$f":"基本情報!$B89","v":0},null,null,null,{"$f":"getNumKeta0(基本情報!$E89+基本情報!$F89,9)","v":""},{"$f":"getNumKeta0(基本情報!$E89+基本情報!$F89,8)","v":""},{"$f":"getNumKeta0(基本情報!$E89+基本情報!$F89,7)","v":""},{"$f":"getnumketa(基本情報!AQ92,6)","v":""},{"$f":"getNumKeta0(基本情報!$E89+基本情報!$F89,6)","v":""},{"$f":"getNumKeta0(基本情報!$E89+基本情報!$F89,5)","v":""},{"$f":"getNumKeta0(基本情報!$E89+基本情報!$F89,4)","v":""},{"$f":"getNumKeta0(基本情報!$E89+基本情報!$F89,3)","v":""},{"$f":"getNumKeta0(基本情報!$E89+基本情報!$F89,2)","v":""},{"$f":"getNumKeta0(基本情報!$E89+基本情報!$F89,1)","v":""},{"$f":"getNumKeta0(基本情報!$G89,7)","v":""},{"$f":"getNumKeta0(基本情報!$G89,6)","v":""},{"$f":"getNumKeta0(基本情報!$G89,5)","v":""},{"$f":"getNumKeta0(基本情報!$G89,4)","v":""},{"$f":"getnumketa(基本情報!N104,4)","v":""},{"$f":"getNumKeta0(基本情報!$G89,3)","v":""},{"$f":"getNumKeta0(基本情報!$G89,2)","v":""},{"$f":"getNumKeta0(基本情報!$G89,1)","v":""},{"$f":"getNumKeta0(基本情報!$H89,9)","v":""},{"$f":"getNumKeta0(基本情報!$H89,8)","v":""},{"$f":"getNumKeta0(基本情報!$H89,7)","v":""},{"$f":"getNumKeta0(基本情報!$H89,6)","v":""},{"$f":"getNumKeta0(基本情報!$H89,5)","v":""},null,{"$f":"getNumKeta0(基本情報!$H89,4)","v":""},{"$f":"getNumKeta0(基本情報!$H89,3)","v":""},{"$f":"getNumKeta0(基本情報!$H89,2)","v":""},{"$f":"getNumKeta0(基本情報!$H89,1)","v":""}]
[{"$f":"基本情報!$B78","v":0},null,null,null,null,null,null,null,null,null,null,null,null,{"$f":"getNumKeta0(基本情報!$E78+基本情報!$F78,9)","v":""},{"$f":"getNumKeta0(基本情報!$E78+基本情報!$F78,8)","v":""},{"$f":"getNumKeta0(基本情報!$E78+基本情報!$F78,7)","v":""},{"$f":"getNumKeta0(基本情報!$E78+基本情報!$F78,6)","v":""},{"$f":"getNumKeta0(基本情報!$E78+基本情報!$F78,5)","v":""},{"$f":"getNumKeta0(基本情報!$E78+基本情報!$F78,4)","v":""},{"$f":"getNumKeta0(基本情報!$E78+基本情報!$F78,3)","v":""},{"$f":"getNumKeta0(基本情報!$E78+基本情報!$F78,2)","v":""},{"$f":"getNumKeta0(基本情報!$E78+基本情報!$F78,1)","v":""},{"$f":"getNumKeta0(基本情報!$G78,7)","v":""},{"$f":"getNumKeta0(基本情報!$G78,6)","v":""},{"$f":"getNumKeta0(基本情報!$G78,5)","v":""},{"$f":"getNumKeta0(基本情報!$G78,4)","v":""},{"$f":"getNumKeta0(基本情報!$G78,3)","v":""},{"$f":"getNumKeta0(基本情報!$G78,2)","v":""},{"$f":"getnumketa(基本情報!M93,1)","v":"0"},{"$f":"getNumKeta0(基本情報!$G78,1)","v":""},null,{"$f":"getNumKeta0(基本情報!$H78,9)","v":""},null,{"$f":"getNumKeta0(基本情報!$H78,8)","v":""},null,{"$f":"getNumKeta0(基本情報!$H78,7)","v":""},null,{"$f":"getNumKeta0(基本情報!$H78,6)","v":""},null,{"$f":"getNumKeta0(基本情報!$H78,5)","v":""},null,{"$f":"getNumKeta0(基本情報!$H78,4)","v":""},null,{"$f":"getNumKeta0(基本情報!$H78,3)","v":""},null,{"$f":"getNumKeta0(基本情報!$H78,2)","v":""},null,null,{"$f":"getNumKeta0(基本情報!$H78,1)","v":""},"小　　計　 ・ 　合　　計",null,null,null,{"$f":"getnumketa(基本情報_合計税抜金額3,9)","v":""},{"$f":"getnumketa(基本情報_合計税抜金額3,8)","v":""},{"$f":"getnumketa(基本情報_合計税抜金額3,7)","v":""},null,{"$f":"getnumketa(基本情報_合計税抜金額3,6)","v":""},{"$f":"getnumketa(基本情報_合計税抜金額3,5)","v":""},{"$f":"getnumketa(基本情報_合計税抜金額3,4)","v":""},{"$f":"getnumketa(基本情報_合計税抜金額3,3)","v":""},{"$f":"getnumketa(基本情報_合計税抜金額3,2)","v":""},{"$f":"getnumketa(基本情報_合計税抜金額3,1)","v":"0"},{"$f":"getnumketa(基本情報_合計消費税額3,7)","v":""},{"$f":"getnumketa(基本情報_合計消費税額3,6)","v":""},{"$f":"getnumketa(基本情報_合計消費税額3,5)","v":""},{"$f":"getnumketa(基本情報_合計消費税額3,4)","v":""},null,{"$f":"getnumketa(基本情報_合計消費税額3,3)","v":""},{"$f":"getnumketa(基本情報_合計消費税額3,2)","v":""},{"$f":"getnumketa(基本情報_合計消費税額3,1)","v":"0"},{"$f":"getnumketa(基本情報_合計税込金額3,9)","v":""},{"$f":"getnumketa(基本情報_合計税込金額3,8)","v":""},{"$f":"getnumketa(基本情報_合計税込金額3,7)","v":""},{"$f":"getnumketa(基本情報_合計税込金額3,6)","v":""},{"$f":"getnumketa(基本情報_合計税込金額3,5)","v":""},null,{"$f":"getnumketa(基本情報_合計税込金額3,4)","v":""},{"$f":"getnumketa(基本情報_合計税込金額3,3)","v":""},{"$f":"getnumketa(基本情報_合計税込金額3,2)","v":""},{"$f":"getnumketa(基本情報_合計税込金額3,1)","v":"0"}]
[{"$f":"基本情報!$B79","v":0},null,null,null,null,null,null,null,null,null,null,null,null,{"$f":"getNumKeta0(基本情報!$E79+基本情報!$F79,9)","v":""},{"$f":"getNumKeta0(基本情報!$E79+基本情報!$F79,8)","v":""},{"$f":"getNumKeta0(基本情報!$E79+基本情報!$F79,7)","v":""},{"$f":"getNumKeta0(基本情報!$E79+基本情報!$F79,6)","v":""},{"$f":"getNumKeta0(基本情報!$E79+基本情報!$F79,5)","v":""},{"$f":"getNumKeta0(基本情報!$E79+基本情報!$F79,4)","v":""},{"$f":"getNumKeta0(基本情報!$E79+基本情報!$F79,3)","v":""},{"$f":"getNumKeta0(基本情報!$E79+基本情報!$F79,2)","v":""},{"$f":"getNumKeta0(基本情報!$E79+基本情報!$F79,1)","v":""},{"$f":"getNumKeta0(基本情報!$G79,7)","v":""},{"$f":"getNumKeta0(基本情報!$G79,6)","v":""},{"$f":"getNumKeta0(基本情報!$G79,5)","v":""},{"$f":"getNumKeta0(基本情報!$G79,4)","v":""},{"$f":"getNumKeta0(基本情報!$G79,3)","v":""},{"$f":"getNumKeta0(基本情報!$G79,2)","v":""},{"$f":"getnumketa(基本情報!M94,1)","v":"0"},{"$f":"getNumKeta0(基本情報!$G79,1)","v":""},null,{"$f":"getNumKeta0(基本情報!$H79,9)","v":""},null,{"$f":"getNumKeta0(基本情報!$H79,8)","v":""},null,{"$f":"getNumKeta0(基本情報!$H79,7)","v":""},null,{"$f":"getNumKeta0(基本情報!$H79,6)","v":""},null,{"$f":"getNumKeta0(基本情報!$H79,5)","v":""},null,{"$f":"getNumKeta0(基本情報!$H79,4)","v":""},null,{"$f":"getNumKeta0(基本情報!$H79,3)","v":""},null,{"$f":"getNumKeta0(基本情報!$H79,2)","v":""},null,null,{"$f":"getNumKeta0(基本情報!$H79,1)","v":""}]
[{"$f":"基本情報!$B80","v":0},null,null,null,null,null,null,null,null,null,null,null,null,{"$f":"getNumKeta0(基本情報!$E80+基本情報!$F80,9)","v":""},{"$f":"getNumKeta0(基本情報!$E80+基本情報!$F80,8)","v":""},{"$f":"getNumKeta0(基本情報!$E80+基本情報!$F80,7)","v":""},{"$f":"getNumKeta0(基本情報!$E80+基本情報!$F80,6)","v":""},{"$f":"getNumKeta0(基本情報!$E80+基本情報!$F80,5)","v":""},{"$f":"getNumKeta0(基本情報!$E80+基本情報!$F80,4)","v":""},{"$f":"getNumKeta0(基本情報!$E80+基本情報!$F80,3)","v":""},{"$f":"getNumKeta0(基本情報!$E80+基本情報!$F80,2)","v":""},{"$f":"getNumKeta0(基本情報!$E80+基本情報!$F80,1)","v":""},{"$f":"getNumKeta0(基本情報!$G80,7)","v":""},{"$f":"getNumKeta0(基本情報!$G80,6)","v":""},{"$f":"getNumKeta0(基本情報!$G80,5)","v":""},{"$f":"getNumKeta0(基本情報!$G80,4)","v":""},{"$f":"getNumKeta0(基本情報!$G80,3)","v":""},{"$f":"getNumKeta0(基本情報!$G80,2)","v":""},{"$f":"getnumketa(基本情報!M95,1)","v":"0"},{"$f":"getNumKeta0(基本情報!$G80,1)","v":""},null,{"$f":"getNumKeta0(基本情報!$H80,9)","v":""},null,{"$f":"getNumKeta0(基本情報!$H80,8)","v":""},null,{"$f":"getNumKeta0(基本情報!$H80,7)","v":""},null,{"$f":"getNumKeta0(基本情報!$H80,6)","v":""},null,{"$f":"getNumKeta0(基本情報!$H80,5)","v":""},null,{"$f":"getNumKeta0(基本情報!$H80,4)","v":""},null,{"$f":"getNumKeta0(基本情報!$H80,3)","v":""},null,{"$f":"getNumKeta0(基本情報!$H80,2)","v":""},null,null,{"$f":"getNumKeta0(基本情報!$H80,1)","v":""}," 訂正内容"]
[{"$f":"基本情報!$B81","v":0},null,null,null,null,null,null,null,null,null,null,null,null,{"$f":"getNumKeta0(基本情報!$E81+基本情報!$F81,9)","v":""},{"$f":"getNumKeta0(基本情報!$E81+基本情報!$F81,8)","v":""},{"$f":"getNumKeta0(基本情報!$E81+基本情報!$F81,7)","v":""},{"$f":"getNumKeta0(基本情報!$E81+基本情報!$F81,6)","v":""},{"$f":"getNumKeta0(基本情報!$E81+基本情報!$F81,5)","v":""},{"$f":"getNumKeta0(基本情報!$E81+基本情報!$F81,4)","v":""},{"$f":"getNumKeta0(基本情報!$E81+基本情報!$F81,3)","v":""},{"$f":"getNumKeta0(基本情報!$E81+基本情報!$F81,2)","v":""},{"$f":"getNumKeta0(基本情報!$E81+基本情報!$F81,1)","v":""},{"$f":"getNumKeta0(基本情報!$G81,7)","v":""},{"$f":"getNumKeta0(基本情報!$G81,6)","v":""},{"$f":"getNumKeta0(基本情報!$G81,5)","v":""},{"$f":"getNumKeta0(基本情報!$G81,4)","v":""},{"$f":"getNumKeta0(基本情報!$G81,3)","v":""},{"$f":"getNumKeta0(基本情報!$G81,2)","v":""},{"$f":"getnumketa(基本情報!M96,1)","v":"0"},{"$f":"getNumKeta0(基本情報!$G81,1)","v":""},null,{"$f":"getNumKeta0(基本情報!$H81,9)","v":""},null,{"$f":"getNumKeta0(基本情報!$H81,8)","v":""},null,{"$f":"getNumKeta0(基本情報!$H81,7)","v":""},null,{"$f":"getNumKeta0(基本情報!$H81,6)","v":""},null,{"$f":"getNumKeta0(基本情報!$H81,5)","v":""},null,{"$f":"getNumKeta0(基本情報!$H81,4)","v":""},null,{"$f":"getNumKeta0(基本情報!$H81,3)","v":""},null,{"$f":"getNumKeta0(基本情報!$H81,2)","v":""},null,null,{"$f":"getNumKeta0(基本情報!$H81,1)","v":""}]
[]
[null,"（注）","１．請求書の締切日は、原則末日５日迄提出願います。又、支払は締の翌月20日となります。"]
[null,null,"　　但し、提出期限が当社休日の場合は前日とし、支払日は翌銀行営業日と致します。"]
[null,null,"　　尚、例外として4月と12月は、締日と必着日が毎年異なりますので十分ご注意ください。（別紙カレンダー参照）"]
[null,null,"　　期日迄に提出されない場合は、翌月計上となります。"]
[null,null,"２．当社への登録内容に変更を生じた場合は、速やかに「取引情報（新規・変更）届出書」を提出願います。",null,null,null,null,null,null,null,null,null,null,null,null,null,null,null,null,null,null,null,null,null,null,null,null,null,null,null,null,null,null,null,null,null,null,null,null,null,null,null,null,null,null,null,null,null,null,null,null,"貴社→経理(控)"]

{"sheet":"請求書レイアウト","index":5,"n_rows":0,"n_cols":0,"rows_kept":0,"cut":false,"hidden":true,"merged":[[26,51,26,80],[53,51,53,80],[80,51,80,80],[27,1,27,18],[27,74,27,80],[28,28,28,45],[28,47,28,49],[28,51,28,55],[28,56,28,80],[29,28,29,29],[29,30,29,31],[29,73,29,79],[30,76,30,80],[30,74,30,75],[30,65,30,66],[30,67,30,71],[30,72,30,73],[29,61,29,64],[29,32,29,33],[30,61,30,64],[29,65,29,71],[29,42,29,43],[32,0,32,1],[32,10,32,11],[6,30,6,31],[2,34,2,35],[4,38,4,39],[3,32,3,33],[4,32,4,33],[2,32,2,33],[2,36,2,37],[0,74,0,80],[3,48,3,49],[4,48,4,49],[3,50,3,60],[4,50,4,60],[2,73,2,79],[3,74,3,75],[2,44,2,45],[2,38,2,39],[2,40,2,41],[2,42,2,43],[3,38,3,39],[6,48,6,49],[5,57,5,60],[6,50,6,60],[1,56,1,80],[1,47,1,49],[20,49,20,80],[17,49,17,52],[18,49,18,52],[7,61,7,66],[7,67,7,80],[6,36,6,37],[5,67,5,80],[9,66,9,67],[5,36,5,37],[5,44,5,45],[9,43,9,44],[6,61,6,80],[8,63,8,70],[8,53,8,62],[9,49,9,51],[9,75,9,76],[9,55,9,56],[12,55,12,56],[18,75,18,76],[19,49,19,50],[19,51,19,80],[15,66,15,67],[15,75,15,76],[16,75,16,76],[17,75,17,76],[17,66,17,67],[16,55,16,56],[18,66,18,67],[16,66,16,67],[14,75,14,76],[15,49,15,51],[15,55,15,56],[13,75,13,76],[1,51,1,55],[2,65,2,71],[2,61,2,64],[4,0,4,1],[5,10,5,11],[4,10,4,11],[4,36,4,37],[4,28,4,29],[5,34,5,35],[4,44,4,45],[5,61,5,66],[4,61,4,64],[4,65,4,69],[4,70,4,80],[3,76,3,80],[3,61,3,64],[3,65,3,66],[3,44,3,45],[3,67,3,71],[3,72,3,73],[2,28,2,29],[4,40,4,41],[2,30,2,31],[2,0,2,25],[8,22,8,30],[6,12,6,17],[7,36,7,37],[6,44,6,45],[7,42,7,43],[11,11,11,12],[7,0,7,1],[7,10,7,11],[9,0,9,10],[9,11,9,12],[10,0,10,10],[9,29,9,30],[11,45,11,47],[9,37,9,38],[7,40,7,41],[6,34,6,35],[7,44,7,45],[9,31,9,32],[8,31,8,48],[9,41,9,42],[9,33,9,34],[9,35,9,36],[9,45,9,47],[6,0,6,1],[8,0,8,10],[6,10,6,11],[8,11,8,12],[7,12,7,17],[10,11,10,12],[11,0,11,10],[14,0,14,10],[14,11,14,12],[12,0,12,10],[12,11,12,12],[13,0,13,10],[13,11,13,12],[8,13,8,21],[16,0,16,10],[16,11,16,12],[20,0,20,10],[20,11,20,12],[17,0,17,10],[18,0,18,10],[18,11,18,12],[19,0,19,10],[19,11,19,12],[17,11,17,12],[15,11,15,12],[15,0,15,10],[10,43,10,44],[11,31,11,32],[10,33,10,34],[10,35,10,36],[14,43,14,44],[11,27,11,28],[14,35,14,36],[13,29,13,30],[13,43,13,44],[11,43,11,44],[12,43,12,44],[11,41,11,42],[12,39,12,40],[12,35,12,36],[13,41,13,42],[11,35,11,36],[10,37,10,38],[14,27,14,28],[12,29,12,30],[11,29,11,30],[10,27,10,28],[12,27,12,28],[14,37,14,38],[14,29,14,30],[14,31,14,32],[13,27,13,28],[12,31,12,32],[13,35,13,36],[20,31,20,32],[20,33,20,34],[19,31,19,32],[18,31,18,32],[19,27,19,28],[19,29,19,30],[18,27,18,28],[17,27,17,28],[16,27,16,28],[18,29,18,30],[20,27,20,28],[20,29,20,30],[16,29,16,30],[17,29,17,30],[17,31,17,32],[15,37,15,38],[17,37,17,38],[15,39,15,40],[16,35,16,36],[19,33,19,34],[20,35,20,36],[20,37,20,38],[19,37,19,38],[19,35,19,36],[20,45,20,47],[18,39,18,40],[18,41,18,42],[19,45,19,47],[19,43,19,44],[18,43,18,44],[19,39,19,40],[19,41,19,42],[20,41,20,42],[20,43,20,44],[20,39,20,40],[18,37,18,38],[17,39,17,40],[17,41,17,42],[16,41,16,42],[16,39,16,40],[16,37,16,38],[11,55,11,56],[11,66,11,67],[14,49,14,51],[14,55,14,56],[10,55,10,56],[18,35,18,36],[16,33,16,34],[17,33,17,34],[16,31,16,32],[17,35,17,36],[18,33,18,34],[18,45,18,47],[16,43,16,44],[17,43,17,44],[13,39,13,40],[13,31,13,32],[13,33,13,34],[11,39,11,40],[12,33,12,34],[10,39,10,40],[14,39,14,40],[14,33,14,34],[10,41,10,42],[12,41,12,42],[10,75,10,76],[11,75,11,76],[12,66,12,67],[12,75,12,76],[13,66,13,67],[8,49,8,51],[8,71,8,80],[18,55,18,56],[17,45,17,47],[16,49,16,51],[13,55,13,56],[17,55,17,56],[16,45,16,47],[14,45,14,47],[15,45,15,47],[13,45,13,47],[14,66,14,67],[10,66,10,67],[10,45,10,47],[12,49,12,51],[10,49,10,51],[13,49,13,51],[12,45,12,47],[11,49,11,51],[0,1,0,18],[6,40,6,41],[6,42,6,43],[5,28,5,29],[5,30,5,31],[3,36,3,37],[3,40,3,41],[4,34,4,35],[3,30,3,31],[5,32,5,33],[3,42,3,43],[6,38,6,39],[5,38,5,39],[5,40,5,41],[5,42,5,43],[1,28,1,45],[6,28,6,29],[5,0,5,1],[3,0,3,11],[3,12,3,17],[4,12,4,17],[5,12,5,17],[3,28,3,29],[4,30,4,31],[7,30,7,31],[7,32,7,33],[7,28,7,29],[3,34,3,35],[7,38,7,39],[7,34,7,35],[4,42,4,43],[6,32,6,33],[15,43,15,44],[15,35,15,36],[15,33,15,34],[15,41,15,42],[9,39,9,40],[14,41,14,42],[15,27,15,28],[9,27,9,28],[11,37,11,38],[12,37,12,38],[10,29,10,30],[11,33,11,34],[15,29,15,30],[15,31,15,32],[10,31,10,32],[13,37,13,38],[32,12,32,17],[29,44,29,45],[29,40,29,41],[29,34,29,35],[29,36,29,37],[29,38,29,39],[30,50,30,60],[30,40,30,41],[30,42,30,43],[30,44,30,45],[30,38,30,39],[30,48,30,49],[32,28,32,29],[32,34,32,35],[32,36,32,37],[32,30,32,31],[32,32,32,33],[29,0,29,25],[30,0,30,11],[30,12,30,17],[30,28,30,29],[30,30,30,31],[31,36,31,37],[31,34,31,35],[30,32,30,33],[30,34,30,35],[30,36,30,37],[31,0,31,1],[31,10,31,11],[31,12,31,17],[31,28,31,29],[31,30,31,31],[31,32,31,33],[31,70,31,80],[32,57,32,60],[32,61,32,66],[32,67,32,80],[31,50,31,60],[31,61,31,64],[33,50,33,60],[33,61,33,80],[33,36,33,37],[33,38,33,39],[33,40,33,41],[33,42,33,43],[33,44,33,45],[33,48,33,49],[31,65,31,69],[32,38,32,39],[32,40,32,41],[31,44,31,45],[31,48,31,49],[32,42,32,43],[32,44,32,45],[31,38,31,39],[31,40,31,41],[31,42,31,43],[33,0,33,1],[33,10,33,11],[33,12,33,17],[33,28,33,29],[34,34,34,35],[34,36,34,37],[33,30,33,31],[33,32,33,33],[33,34,33,35],[34,0,34,1],[34,10,34,11],[34,12,34,17],[34,28,34,29],[34,40,34,41],[34,42,34,43],[35,31,35,48],[36,41,36,42],[36,43,36,44],[36,45,36,47],[34,44,34,45],[34,30,34,31],[34,32,34,33],[36,39,36,40],[34,38,34,39],[35,22,35,30],[35,49,35,51],[36,49,36,51],[36,0,36,10],[36,11,36,12],[36,27,36,28],[36,29,36,30],[35,0,35,10],[35,11,35,12],[35,13,35,21],[36,33,36,34],[36,35,36,36],[36,37,36,38],[36,31,36,32],[34,61,34,66],[36,55,36,56],[36,66,36,67],[34,67,34,80],[35,53,35,62],[35,63,35,70],[35,71,35,80],[36,75,36,76],[38,75,38,76],[37,75,37,76],[38,66,38,67],[37,66,37,67],[37,0,37,10],[37,11,37,12],[37,27,37,28],[37,29,37,30],[37,55,37,56],[38,37,38,38],[38,39,38,40],[37,49,37,51],[37,43,37,44],[37,45,37,47],[37,37,37,38],[37,41,37,42],[38,0,38,10],[38,11,38,12],[38,27,38,28],[38,29,38,30],[38,31,38,32],[38,55,38,56],[38,33,38,34],[38,35,38,36],[37,31,37,32],[37,33,37,34],[37,35,37,36],[37,39,37,40],[39,33,39,34],[39,66,39,67],[39,37,39,38],[39,39,39,40],[39,41,39,42],[39,43,39,44],[39,45,39,47],[39,49,39,51],[38,41,38,42],[38,43,38,44],[38,45,38,47],[38,49,38,51],[40,37,40,38],[40,39,40,40],[40,75,40,76],[40,41,40,42],[40,43,40,44],[40,45,40,47],[40,49,40,51],[39,75,39,76],[40,0,40,10],[40,11,40,12],[40,27,40,28],[40,29,40,30],[40,31,40,32],[40,55,40,56],[40,66,40,67],[40,33,40,34],[40,35,40,36],[39,0,39,10],[39,11,39,12],[39,27,39,28],[39,29,39,30],[39,35,39,36],[39,55,39,56],[39,31,39,32],[41,0,41,10],[41,11,41,12],[41,27,41,28],[41,29,41,30],[41,35,41,36],[41,55,41,56],[41,31,41,32],[41,33,41,34],[41,66,41,67],[41,37,41,38],[41,39,41,40],[41,41,41,42],[41,43,41,44],[41,45,41,47],[41,49,41,51],[41,75,41,76],[42,31,42,32],[42,55,42,56],[43,39,43,40],[43,41,43,42],[43,43,43,44],[43,45,43,47],[42,33,42,34],[43,75,43,76],[43,66,43,67],[43,55,43,56],[42,35,42,36],[42,37,42,38],[42,39,42,40],[42,75,42,76],[42,41,42,42],[42,43,42,44],[42,45,42,47],[42,49,42,51],[42,66,42,67],[42,0,42,10],[42,11,42,12],[42,27,42,28],[42,29,42,30],[43,49,43,51],[43,0,43,10],[43,11,43,12],[43,27,43,28],[43,29,43,30],[43,35,43,36],[43,37,43,38],[43,31,43,32],[43,33,43,34],[44,0,44,10],[44,11,44,12],[44,27,44,28],[44,29,44,30],[44,39,44,40],[44,75,44,76],[44,41,44,42],[44,43,44,44],[44,45,44,47],[44,49,44,52],[44,31,44,32],[44,55,44,56],[44,66,44,67],[44,33,44,34],[44,35,44,36],[44,37,44,38],[45,66,45,67],[45,37,45,38],[45,39,45,40],[45,41,45,42],[45,43,45,44],[45,35,45,36],[45,33,45,34],[47,41,47,42],[46,51,46,80],[45,45,45,47],[45,49,45,52],[45,55,45,56],[46,45,46,47],[46,49,46,50],[45,75,45,76],[46,37,46,38],[46,35,46,36],[45,0,45,10],[45,11,45,12],[45,27,45,28],[45,29,45,30],[47,31,47,32],[46,0,46,10],[46,11,46,12],[46,27,46,28],[46,29,46,30],[46,31,46,32],[45,31,45,32],[54,1,54,18],[47,45,47,47],[47,33,47,34],[47,35,47,36],[47,37,47,38],[47,39,47,40],[47,43,47,44],[56,28,56,29],[56,32,56,33],[56,30,56,31],[56,34,56,35],[56,36,56,37],[56,38,56,39],[47,0,47,10],[47,11,47,12],[47,27,47,28],[47,29,47,30],[54,74,54,80],[55,47,55,49],[55,51,55,55],[55,56,55,80],[46,39,46,40],[46,33,46,34],[55,28,55,45],[47,49,47,80],[46,41,46,42],[46,43,46,44],[57,12,57,17],[57,28,57,29],[56,73,56,79],[56,65,56,71],[56,40,56,41],[56,42,56,43],[56,44,56,45],[56,61,56,64],[57,48,57,49],[57,40,57,41],[57,72,57,73],[57,36,57,37],[57,38,57,39],[57,30,57,31],[56,0,56,25],[58,50,58,60],[58,61,58,64],[57,76,57,80],[57,74,57,75],[60,32,60,33],[57,50,57,60],[60,34,60,35],[58,0,58,1],[58,10,58,11],[58,12,58,17],[58,28,58,29],[57,0,57,11],[57,67,57,71],[58,42,58,43],[58,65,58,69],[57,32,57,33],[57,34,57,35],[57,65,57,66],[58,44,58,45],[57,42,57,43],[57,44,57,45],[57,61,57,64],[58,48,58,49],[58,70,58,80],[58,36,58,37],[58,38,58,39],[58,40,58,41],[59,42,59,43],[62,31,62,48],[61,44,61,45],[61,30,61,31],[61,32,61,33],[59,34,59,35],[59,36,59,37],[59,30,59,31],[62,22,62,30],[59,32,59,33],[60,28,60,29],[59,44,59,45],[61,28,61,29],[61,42,61,43],[59,38,59,39],[59,40,59,41],[61,34,61,35],[58,30,58,31],[58,32,58,33],[58,34,58,35],[60,61,60,80],[60,36,60,37],[60,38,60,39],[60,40,60,41],[60,42,60,43],[60,44,60,45],[60,48,60,49],[60,50,60,60],[59,0,59,1],[59,10,59,11],[59,12,59,17],[59,28,59,29],[59,57,59,60],[59,61,59,66],[59,67,59,80],[63,0,63,10],[63,11,63,12],[63,27,63,28],[63,29,63,30],[63,31,63,32],[60,0,60,1],[60,10,60,11],[60,12,60,17],[62,0,62,10],[62,11,62,12],[62,13,62,21],[61,0,61,1],[61,10,61,11],[61,12,61,17],[60,30,60,31],[62,49,62,51],[63,33,63,34],[61,67,61,80],[62,53,62,62],[62,63,62,70],[62,71,62,80],[63,55,63,56],[63,66,63,67],[63,75,63,76],[63,35,63,36],[63,37,63,38],[63,39,63,40],[63,41,63,42],[63,43,63,44],[63,45,63,47],[63,49,63,51],[61,36,61,37],[61,38,61,39],[61,61,61,66],[61,40,61,41],[64,0,64,10],[64,11,64,12],[64,27,64,28],[64,29,64,30],[64,31,64,32],[64,33,64,34],[64,35,64,36],[64,55,64,56],[64,66,64,67],[64,37,64,38],[64,39,64,40],[64,41,64,42],[64,43,64,44],[64,45,64,47],[64,49,64,51],[65,0,65,10],[65,11,65,12],[65,27,65,28],[65,29,65,30],[65,31,65,32],[65,55,65,56],[65,66,65,67],[65,33,65,34],[65,35,65,36],[65,37,65,38],[65,39,65,40],[65,75,65,76],[65,41,65,42],[65,43,65,44],[65,45,65,47],[65,49,65,51],[64,75,64,76],[66,75,66,76],[67,0,67,10],[67,11,67,12],[67,27,67,28],[67,29,67,30],[67,31,67,32],[67,55,67,56],[67,66,67,67],[67,33,67,34],[67,35,67,36],[66,0,66,10],[66,11,66,12],[66,27,66,28],[66,29,66,30],[66,35,66,36],[66,55,66,56],[66,31,66,32],[66,33,66,34],[66,66,66,67],[66,37,66,38],[66,39,66,40],[66,41,66,42],[66,43,66,44],[66,45,66,47],[66,49,66,51],[68,37,68,38],[68,39,68,40],[68,41,68,42],[68,43,68,44],[68,45,68,47],[68,49,68,51],[67,37,67,38],[67,39,67,40],[67,75,67,76],[67,41,67,42],[67,43,67,44],[67,45,67,47],[67,49,67,51],[69,75,69,76],[69,41,69,42],[69,43,69,44],[69,45,69,47],[69,49,69,51],[68,75,68,76],[69,0,69,10],[69,11,69,12],[69,27,69,28],[69,29,69,30],[69,31,69,32],[69,55,69,56],[69,66,69,67],[69,33,69,34],[69,35,69,36],[68,0,68,10],[68,11,68,12],[68,27,68,28],[68,29,68,30],[68,35,68,36],[68,55,68,56],[68,31,68,32],[68,33,68,34],[68,66,68,67],[70,33,70,34],[70,66,70,67],[70,37,70,38],[70,39,70,40],[70,41,70,42],[70,43,70,44],[70,45,70,47],[70,49,70,51],[69,37,69,38],[69,39,69,40],[71,37,71,38],[71,39,71,40],[71,75,71,76],[71,41,71,42],[71,43,71,44],[71,45,71,47],[71,49,71,52],[70,75,70,76],[71,0,71,10],[71,11,71,12],[71,27,71,28],[71,29,71,30],[71,31,71,32],[71,55,71,56],[71,66,71,67],[71,33,71,34],[71,35,71,36],[70,0,70,10],[70,11,70,12],[70,27,70,28],[70,29,70,30],[70,35,70,36],[70,55,70,56],[70,31,70,32],[72,0,72,10],[72,11,72,12],[72,27,72,28],[72,29,72,30],[72,43,72,44],[72,35,72,36],[72,31,72,32],[72,33,72,34],[72,75,72,76],[73,35,73,36],[73,51,73,80],[72,66,72,67],[72,37,72,38],[72,39,72,40],[72,41,72,42],[72,45,72,47],[72,49,72,52],[72,55,72,56],[73,45,73,47],[74,49,74,80],[73,49,73,50],[74,45,74,47],[74,0,74,10],[74,11,74,12],[74,27,74,28],[74,29,74,30],[74,31,74,32],[74,41,74,42],[74,33,74,34],[74,35,74,36],[74,37,74,38],[73,0,73,10],[73,11,73,12],[73,27,73,28],[73,29,73,30],[74,39,74,40],[74,43,74,44],[73,31,73,32],[73,33,73,34],[73,41,73,42],[73,43,73,44],[73,37,73,38],[73,39,73,40]]}

{"sheet":"請求書","index":6,"n_rows":27,"n_cols":81,"rows_kept":27,"cut":false,"hidden":false,"merged":[[20,39,20,40],[20,41,20,42],[20,43,20,44],[20,45,20,47],[20,49,20,80],[26,51,26,80],[19,49,19,50],[19,51,19,80],[20,0,20,10],[20,11,20,12],[20,27,20,28],[20,29,20,30],[20,31,20,32],[20,33,20,34],[20,35,20,36],[20,37,20,38],[19,35,19,36],[19,37,19,38],[19,39,19,40],[19,41,19,42],[19,43,19,44],[19,45,19,47],[18,49,18,52],[18,55,18,56],[18,66,18,67],[18,75,18,76],[19,0,19,10],[19,11,19,12],[19,27,19,28],[19,29,19,30],[19,31,19,32],[19,33,19,34],[18,35,18,36],[18,37,18,38],[18,39,18,40],[18,41,18,42],[18,43,18,44],[18,45,18,47],[17,49,17,52],[17,55,17,56],[17,66,17,67],[17,75,17,76],[18,0,18,10],[18,11,18,12],[18,27,18,28],[18,29,18,30],[18,31,18,32],[18,33,18,34],[17,35,17,36],[17,37,17,38],[17,39,17,40],[17,41,17,42],[17,43,17,44],[17,45,17,47],[16,49,16,51],[16,55,16,56],[16,66,16,67],[16,75,16,76],[17,0,17,10],[17,11,17,12],[17,27,17,28],[17,29,17,30],[17,31,17,32],[17,33,17,34],[16,35,16,36],[16,37,16,38],[16,39,16,40],[16,41,16,42],[16,43,16,44],[16,45,16,47],[15,49,15,51],[15,55,15,56],[15,66,15,67],[15,75,15,76],[16,0,16,10],[16,11,16,12],[16,27,16,28],[16,29,16,30],[16,31,16,32],[16,33,16,34],[15,35,15,36],[15,37,15,38],[15,39,15,40],[15,41,15,42],[15,43,15,44],[15,45,15,47],[14,49,14,51],[14,55,14,56],[14,66,14,67],[14,75,14,76],[15,0,15,10],[15,11,15,12],[15,27,15,28],[15,29,15,30],[15,31,15,32],[15,33,15,34],[14,35,14,36],[14,37,14,38],[14,39,14,40],[14,41,14,42],[14,43,14,44],[14,45,14,47],[13,49,13,51],[13,55,13,56],[13,66,13,67],[13,75,13,76],[14,0,14,10],[14,11,14,12],[14,27,14,28],[14,29,14,30],[14,31,14,32],[14,33,14,34],[13,35,13,36],[13,37,13,38],[13,39,13,40],[13,41,13,42],[13,43,13,44],[13,45,13,47],[12,49,12,51],[12,55,12,56],[12,66,12,67],[12,75,12,76],[13,0,13,10],[13,11,13,12],[13,27,13,28],[13,29,13,30],[13,31,13,32],[13,33,13,34],[12,35,12,36],[12,37,12,38],[12,39,12,40],[12,41,12,42],[12,43,12,44],[12,45,12,47],[11,49,11,51],[11,55,11,56],[11,66,11,67],[11,75,11,76],[12,0,12,10],[12,11,12,12],[12,27,12,28],[12,29,12,30],[12,31,12,32],[12,33,12,34],[11,35,11,36],[11,37,11,38],[11,39,11,40],[11,41,11,42],[11,43,11,44],[11,45,11,47],[10,49,10,51],[10,55,10,56],[10,66,10,67],[10,75,10,76],[11,0,11,10],[11,11,11,12],[11,27,11,28],[11,29,11,30],[11,31,11,32],[11,33,11,34],[10,35,10,36],[10,37,10,38],[10,39,10,40],[10,41,10,42],[10,43,10,44],[10,45,10,47],[9,49,9,51],[9,55,9,56],[9,66,9,67],[9,75,9,76],[10,0,10,10],[10,11,10,12],[10,27,10,28],[10,29,10,30],[10,31,10,32],[10,33,10,34],[9,35,9,36],[9,37,9,38],[9,39,9,40],[9,41,9,42],[9,43,9,44],[9,45,9,47],[9,0,9,10],[9,11,9,12],[9,27,9,28],[9,29,9,30],[9,31,9,32],[9,33,9,34],[7,67,7,80],[8,0,8,10],[8,11,8,12],[8,13,8,21],[8,22,8,30],[8,31,8,48],[8,49,8,51],[8,53,8,62],[8,63,8,70],[8,71,8,80],[7,36,7,37],[7,38,7,39],[7,40,7,41],[7,42,7,43],[7,44,7,45],[7,61,7,66],[6,48,6,49],[6,50,6,60],[6,61,6,80],[7,0,7,1],[7,10,7,11],[7,12,7,17],[7,28,7,29],[7,30,7,31],[7,32,7,33],[7,34,7,35],[6,34,6,35],[6,36,6,37],[6,38,6,39],[6,40,6,41],[6,42,6,43],[6,44,6,45],[5,44,5,45],[5,57,5,60],[5,61,5,66],[5,67,5,80],[6,0,6,1],[6,10,6,11],[6,12,6,17],[6,28,6,29],[6,30,6,31],[6,32,6,33],[5,32,5,33],[5,34,5,35],[5,36,5,37],[5,38,5,39],[5,40,5,41],[5,42,5,43],[4,48,4,49],[4,50,4,60],[4,61,4,64],[4,65,4,69],[4,70,4,80],[5,0,5,1],[5,10,5,11],[5,12,5,17],[5,28,5,29],[5,30,5,31],[4,34,4,35],[4,36,4,37],[4,38,4,39],[4,40,4,41],[4,42,4,43],[4,44,4,45],[3,67,3,71],[3,72,3,73],[3,74,3,75],[3,76,3,80],[4,0,4,1],[4,10,4,11],[4,12,4,17],[4,28,4,29],[4,30,4,31],[4,32,4,33],[3,42,3,43],[3,44,3,45],[3,48,3,49],[3,50,3,60],[3,61,3,64],[3,65,3,66],[2,73,2,79],[3,0,3,11],[3,12,3,17],[3,28,3,29],[3,30,3,31],[3,32,3,33],[3,34,3,35],[3,36,3,37],[3,38,3,39],[3,40,3,41],[2,38,2,39],[2,40,2,41],[2,42,2,43],[2,44,2,45],[2,61,2,64],[2,65,2,71],[2,0,2,25],[2,28,2,29],[2,30,2,31],[2,32,2,33],[2,34,2,35],[2,36,2,37],[0,1,0,18],[0,74,0,80],[1,28,1,45],[1,47,1,49],[1,51,1,55],[1,56,1,80]]}
[null,"請求書（鏡）（一般用）　",null,null,null,null,null,null,null,null,null,null,null,null,null,null,null,null,null,null,null,null,null,null,null,null,null,null,null,null,null,null,null,null,null,null,null,null,null,null,null,null,null,null,null,null,null,null,null,null,null,null,null,null,null,null,null,null,null,null,null,null,null,null,null,null,null,null,null,null,null,null,null,null,"P 1/1"]
[null,null,null,null,null,null,null,null,null,null,null,null,null,null,null,null,null,null,null,null,null,null,null,null,null,null,null,null,"変更時当社記入欄",null,null,null,null,null,null,null,null,null,null,null,null,null,null,null,null,null,null,"取引先コード",null,null,999999,"　締　日　",null,null,null,null,"2020-07-31"]
["丸高・みなと特定建設工事共同企業体　御中",null,null,null,null,null,null,null,null,null,null,null,null,null,null,null,null,null,null,null,null,null,null,null,null,null,null,null,null,null,null,null,null,null,null,null,null,null,null,null,null,null,null,null,null,null,null,null,null,null,null,null,null,null,null,null,null,null,null,null,null,"振込銀行",null,null,null,"きらやか",null,null,null,null,null,null,"銀\n行","酒田",null,null,null,null,null,null,"支\n店"]
["下記の通り御請求申し上げます。",null,null,null,null,null,null,null,null,null,null,null,"税率 ( 10% )",null,null,null,null,null,null,null,null,null,null,null,null,null,null,null,null,null,null,null,null,null,null,null,null,null,null,null,null,null,null,null,null,null,null,null,"（住所）",null,"酒田市○○○○１－１",null,null,null,null,null,null,null,null,null,null,"銀行ｺｰﾄﾞ",null,null,null,"4桁",null,508,null,null,null,null,"支店\nｺｰﾄﾞ",null,"3桁",null,443]
["前月請求額",null,null,null,null,null,null,null,null,null,0,null,"税抜金額計",null,null,null,null,null,null,null,null,8,5,1,1,2,1,null,null,null,null,null,null,null,null,null,null,null,null,null,null,null,null,null,null,null,null,null,"（社名）",null,"(株）○○建設",null,null,null,null,null,null,null,null,null,null,"口座番号",null,null,null,"当　座",null,null,null,null,1234567]
["入　金　額",null,null,null,null,null,null,null,null,null,0,null,"請求明細\n消費税合計",null,null,null,null,null,null,null,null,null,8,5,0,8,0,null,null,null,null,null,null,null,null,null,null,null,null,null,null,null,null,null,null,null,null,null,null,null,null,null,null,null,null,null,null,"印",null,null,null,"口座名義:漢字"]
["値　引　額",null,null,null,null,null,null,null,null,null,0,null,"税込当月請求額",null,null,null,null,null,null,null,null,9,3,6,2,0,1,null,null,null,null,null,null,null,null,null,null,null,null,null,null,null,null,null,null,null,null,null,"（電話）",null,"0234 - 00 - 0000",null,null,null,null,null,null,null,null,null,null,"(株）○○建設"]
["繰越金額",null,null,null,null,null,null,null,null,null,0,null,"税込当月総請求額",null,null,null,null,null,null,null,null,9,3,6,2,0,1,null,null,null,null,null,null,null,null,null,null,null,null,null,null,null,null,null,null,null,null,null,null,null,null,null,null,null,null,null,null,null,null,null,null,"口座名義:カナ",null,null,null,null,null,"ｶ)ﾏﾙﾏﾙｹﾝｾﾂ"]
["工　　　事　　　名",null,null,null,null,null,null,null,null,null,null,"ＣＫ",null,"税抜金額",null,null,null,null,null,null,null,null,"消費税",null,null,null,null,null,null,null,null,"税込金額",null,null,null,null,null,null,null,null,null,null,null,null,null,null,null,null,null,"工　　　事　　　名",null,null,"ＣＫ","税抜金額",null,null,null,null,null,null,null,null,null,"消費税",null,null,null,null,null,null,null,"税込金額"]
["○○○○○工事",null,null,null,null,null,null,null,null,null,null,null,null,null,null,null,3,5,1,1,2,1,null,null,3,5,0,8,null,0,null,null,null,null,null,null,null,3,null,8,null,6,null,2,null,0,null,null,1,0]
["×××××工事",null,null,null,null,null,null,null,null,null,null,null,null,null,null,null,5,0,0,0,0,0,null,null,5,0,0,0,null,0,null,null,null,null,null,null,null,5,null,5,null,0,null,0,null,0,null,null,0,0]
[0,null,null,null,null,null,null,null,null,null,null,null,null,null,null,null,null,null,null,null,null,null,null,null,null,null,null,null,null,null,null,null,null,null,null,null,null,null,null,null,null,null,null,null,null,null,null,null,null,0]
[0,null,null,null,null,null,null,null,null,null,null,null,null,null,null,null,null,null,null,null,null,null,null,null,null,null,null,null,null,null,null,null,null,null,null,null,null,null,null,null,null,null,null,null,null,null,null,null,null,0]
[0,null,null,null,null,null,null,null,null,null,null,null,null,null,null,null,null,null,null,null,null,null,null,null,null,null,null,null,null,null,null,null,null,null,null,null,null,null,null,null,null,null,null,null,null,null,null,null,null,0]
[0,null,null,null,null,null,null,null,null,null,null,null,null,null,null,null,null,null,null,null,null,null,null,null,null,null,null,null,null,null,null,null,null,null,null,null,null,null,null,null,null,null,null,null,null,null,null,null,null,0]
[0,null,null,null,null,null,null,null,null,null,null,null,null,null,null,null,null,null,null,null,null,null,null,null,null,null,null,null,null,null,null,null,null,null,null,null,null,null,null,null,null,null,null,null,null,null,null,null,null,0]
[0,null,null,null,null,null,null,null,null,null,null,null,null,null,null,null,null,null,null,null,null,null,null,null,null,null,null,null,null,null,null,null,null,null,null,null,null,null,null,null,null,null,null,null,null,null,null,null,null,0]
[0,null,null,null,null,null,null,null,null,null,null,null,null,null,null,null,null,null,null,null,null,null,null,null,null,null,null,null,null,null,null,null,null,null,null,null,null,null,null,null,null,null,null,null,null,null,null,null,null,"小　　計　 ・ 　合　　計",null,null,null,null,null,null,null,8,5,1,1,2,1,null,null,8,5,null,0,8,0,null,null,null,9,3,null,6,2,0,1]
[0]
[0,null,null,null,null,null,null,null,null,null,null,null,null,null,null,null,null,null,null,null,null,null,null,null,null,null,null,null,null,null,null,null,null,null,null,null,null,null,null,null,null,null,null,null,null,null,null,null,null," 訂正内容"]
[0]
[]
[null,"（注）","１．請求書の締切日は、原則末日５日迄提出願います。又、支払は締の翌月20日となります。"]
[null,null,"　　但し、提出期限が当社休日の場合は前日とし、支払日は翌銀行営業日と致します。"]
[null,null,"　　尚、例外として4月と12月は、締日と必着日が毎年異なりますので十分ご注意ください。（別紙カレンダー参照）"]
[null,null,"　　期日迄に提出されない場合は、翌月計上となります。"]
[null,null,"２．当社への登録内容に変更を生じた場合は、速やかに「取引情報（新規・変更）届出書」を提出願います。",null,null,null,null,null,null,null,null,null,null,null,null,null,null,null,null,null,null,null,null,null,null,null,null,null,null,null,null,null,null,null,null,null,null,null,null,null,null,null,null,null,null,null,null,null,null,null,null,"貴社→経理(控)"]

{"sheet":"請求明細レイアウト","index":7,"n_rows":3,"n_cols":66,"rows_kept":3,"cut":false,"hidden":true,"merged":[[44,22,44,33],[44,44,44,52],[42,22,42,33],[42,44,42,52],[39,99,39,108],[38,58,38,60],[38,61,38,64],[42,100,42,108],[43,100,43,108],[42,78,42,89],[43,22,43,29],[43,30,43,33],[43,78,43,85],[43,86,43,89],[45,78,45,108],[40,99,40,108],[41,99,41,108],[35,58,35,60],[35,61,35,64],[35,99,35,108],[38,43,38,52],[37,43,37,52],[41,43,41,52],[40,43,40,52],[43,44,43,52],[35,43,35,52],[36,99,36,108],[37,58,37,60],[37,61,37,64],[37,99,37,108],[36,58,36,60],[36,61,36,64],[38,99,38,108],[39,58,39,60],[45,22,45,52],[44,100,44,108],[44,78,44,89],[39,43,39,52],[34,99,34,108],[41,58,41,60],[41,61,41,64],[40,58,40,60],[7,81,10,108],[11,81,24,83],[11,84,15,108],[13,57,18,59],[13,60,18,67],[16,106,20,108],[29,61,29,64],[29,99,29,108],[28,61,28,64],[28,99,28,108],[13,71,16,76],[19,60,24,61],[13,77,16,79],[16,84,20,105],[27,99,27,108],[27,61,27,64],[21,84,24,108],[39,61,39,64],[40,61,40,64],[30,99,30,108],[32,99,32,108],[33,61,33,64],[33,99,33,108],[32,58,32,60],[32,43,32,52],[28,43,28,52],[17,71,24,76],[17,77,24,79],[26,90,26,98],[29,58,29,60],[31,99,31,108],[26,99,26,108],[26,58,26,60],[26,61,26,64],[26,65,26,76],[26,78,26,89],[19,57,24,59],[31,58,31,60],[31,61,31,64],[31,43,31,52],[28,58,28,60],[33,58,33,60],[30,61,30,64],[36,2,36,4],[32,61,32,64],[36,43,36,52],[36,5,36,8],[28,2,28,4],[26,5,26,8],[26,2,26,4],[31,5,31,8],[27,2,27,4],[28,5,28,8],[27,5,27,8],[35,2,35,4],[30,43,30,52],[29,43,29,52],[27,58,27,60],[30,58,30,60],[34,2,34,4],[33,2,33,4],[29,2,29,4],[32,2,32,4],[30,2,30,4],[31,2,31,4],[30,5,30,8],[32,5,32,8],[41,2,41,4],[38,2,38,4],[40,2,40,4],[39,2,39,4],[40,5,40,8],[38,5,38,8],[37,2,37,4],[0,100,0,108],[1,59,5,62],[1,81,3,83],[1,84,6,93],[1,94,6,96],[1,97,6,108],[4,81,6,83],[41,5,41,8],[0,44,0,52],[35,5,35,8],[39,5,39,8],[37,5,37,8],[29,5,29,8],[34,5,34,8],[33,5,33,8],[13,21,16,23],[26,9,26,20],[34,61,34,64],[7,1,11,14],[7,57,11,70],[34,58,34,60],[34,43,34,52],[27,43,27,52],[33,43,33,52],[13,1,18,3],[17,21,24,23],[19,1,24,3],[17,15,24,20],[19,4,24,5],[13,15,16,20],[2,65,5,69],[13,4,18,11],[4,25,6,27],[1,28,6,37],[26,34,26,42],[26,43,26,52],[1,25,3,27],[26,22,26,33],[11,28,15,52],[16,50,20,52],[1,38,6,40],[1,41,6,52],[7,25,10,52],[16,28,20,49],[21,28,24,52],[11,25,24,27],[2,9,5,13],[1,3,5,6]]}
[]
[]
[null,null,null,null,null,null,null,null,null,"提出用",null,null,null,null,null,null,null,null,null,null,null,null,null,null,null,null,null,null,null,null,null,null,null,null,null,null,null,null,null,null,null,null,null,null,null,null,null,null,null,null,null,null,null,null,null,null,null,null,null,null,null,null,null,null,null,"提出用"]

{"sheet":"請求明細","index":8,"n_rows":93,"n_cols":107,"rows_kept":93,"cut":false,"hidden":false,"merged":[[91,22,91,33],[91,44,91,52],[91,78,91,89],[91,100,91,108],[92,22,92,52],[92,78,92,108],[89,22,89,33],[89,44,89,52],[89,78,89,89],[89,100,89,108],[90,22,90,29],[90,30,90,33],[90,44,90,52],[90,78,90,85],[90,86,90,89],[90,100,90,108],[88,2,88,4],[88,5,88,8],[88,43,88,52],[88,58,88,60],[88,61,88,64],[88,99,88,108],[87,2,87,4],[87,5,87,8],[87,43,87,52],[87,58,87,60],[87,61,87,64],[87,99,87,108],[86,2,86,4],[86,5,86,8],[86,43,86,52],[86,58,86,60],[86,61,86,64],[86,99,86,108],[85,2,85,4],[85,5,85,8],[85,43,85,52],[85,58,85,60],[85,61,85,64],[85,99,85,108],[84,2,84,4],[84,5,84,8],[84,43,84,52],[84,58,84,60],[84,61,84,64],[84,99,84,108],[83,2,83,4],[83,5,83,8],[83,43,83,52],[83,58,83,60],[83,61,83,64],[83,99,83,108],[82,2,82,4],[82,5,82,8],[82,43,82,52],[82,58,82,60],[82,61,82,64],[82,99,82,108],[81,2,81,4],[81,5,81,8],[81,43,81,52],[81,58,81,60],[81,61,81,64],[81,99,81,108],[80,2,80,4],[80,5,80,8],[80,43,80,52],[80,58,80,60],[80,61,80,64],[80,99,80,108],[79,2,79,4],[79,5,79,8],[79,43,79,52],[79,58,79,60],[79,61,79,64],[79,99,79,108],[78,2,78,4],[78,5,78,8],[78,43,78,52],[78,58,78,60],[78,61,78,64],[78,99,78,108],[77,2,77,4],[77,5,77,8],[77,43,77,52],[77,58,77,60],[77,61,77,64],[77,99,77,108],[76,2,76,4],[76,5,76,8],[76,43,76,52],[76,58,76,60],[76,61,76,64],[76,99,76,108],[75,2,75,4],[75,5,75,8],[75,43,75,52],[75,58,75,60],[75,61,75,64],[75,99,75,108],[74,2,74,4],[74,5,74,8],[74,43,74,52],[74,58,74,60],[74,61,74,64],[74,99,74,108],[73,58,73,60],[73,61,73,64],[73,65,73,76],[73,78,73,89],[73,90,73,98],[73,99,73,108],[73,2,73,4],[73,5,73,8],[73,9,73,20],[73,22,73,33],[73,34,73,42],[73,43,73,52],[66,1,71,3],[66,4,71,5],[66,57,71,59],[66,60,71,61],[68,28,71,52],[68,84,71,108],[63,84,67,105],[63,106,67,108],[64,15,71,20],[64,21,71,23],[64,71,71,76],[64,77,71,79],[60,15,63,20],[60,21,63,23],[60,57,65,59],[60,60,65,67],[60,71,63,76],[60,77,63,79],[63,28,67,49],[63,50,67,52],[54,1,58,14],[54,25,57,52],[54,57,58,70],[54,81,57,108],[58,25,71,27],[58,28,62,52],[58,81,71,83],[58,84,62,108],[60,1,65,3],[60,4,65,11],[48,94,53,96],[48,97,53,108],[49,9,52,13],[49,65,52,69],[51,25,53,27],[51,81,53,83],[47,44,47,52],[47,100,47,108],[48,3,52,6],[48,25,50,27],[48,28,53,37],[48,38,53,40],[48,41,53,52],[48,59,52,62],[48,81,50,83],[48,84,53,93],[44,22,44,33],[44,44,44,52],[44,78,44,89],[44,100,44,108],[45,22,45,52],[45,78,45,108],[42,22,42,33],[42,44,42,52],[42,78,42,89],[42,100,42,108],[43,22,43,29],[43,30,43,33],[43,44,43,52],[43,78,43,85],[43,86,43,89],[43,100,43,108],[41,2,41,4],[41,5,41,8],[41,43,41,52],[41,58,41,60],[41,61,41,64],[41,99,41,108],[40,2,40,4],[40,5,40,8],[40,43,40,52],[40,58,40,60],[40,61,40,64],[40,99,40,108],[39,2,39,4],[39,5,39,8],[39,43,39,52],[39,58,39,60],[39,61,39,64],[39,99,39,108],[38,2,38,4],[38,5,38,8],[38,43,38,52],[38,58,38,60],[38,61,38,64],[38,99,38,108],[37,2,37,4],[37,5,37,8],[37,43,37,52],[37,58,37,60],[37,61,37,64],[37,99,37,108],[36,2,36,4],[36,5,36,8],[36,43,36,52],[36,58,36,60],[36,61,36,64],[36,99,36,108],[35,2,35,4],[35,5,35,8],[35,43,35,52],[35,58,35,60],[35,61,35,64],[35,99,35,108],[34,2,34,4],[34,5,34,8],[34,43,34,52],[34,58,34,60],[34,61,34,64],[34,99,34,108],[33,2,33,4],[33,5,33,8],[33,43,33,52],[33,58,33,60],[33,61,33,64],[33,99,33,108],[32,2,32,4],[32,5,32,8],[32,43,32,52],[32,58,32,60],[32,61,32,64],[32,99,32,108],[31,2,31,4],[31,5,31,8],[31,43,31,52],[31,58,31,60],[31,61,31,64],[31,99,31,108],[30,2,30,4],[30,5,30,8],[30,43,30,52],[30,58,30,60],[30,61,30,64],[30,99,30,108],[29,2,29,4],[29,5,29,8],[29,43,29,52],[29,58,29,60],[29,61,29,64],[29,99,29,108],[28,2,28,4],[28,5,28,8],[28,43,28,52],[28,58,28,60],[28,61,28,64],[28,99,28,108],[27,2,27,4],[27,5,27,8],[27,43,27,52],[27,58,27,60],[27,61,27,64],[27,99,27,108],[26,58,26,60],[26,61,26,64],[26,65,26,76],[26,78,26,89],[26,90,26,98],[26,99,26,108],[26,2,26,4],[26,5,26,8],[26,9,26,20],[26,22,26,33],[26,34,26,42],[26,43,26,52],[19,1,24,3],[19,4,24,5],[19,57,24,59],[19,60,24,61],[21,28,24,52],[21,84,24,108],[16,84,20,105],[16,106,20,108],[17,15,24,20],[17,21,24,23],[17,71,24,76],[17,77,24,79],[13,15,16,20],[13,21,16,23],[13,57,18,59],[13,60,18,67],[13,71,16,76],[13,77,16,79],[16,28,20,49],[16,50,20,52],[7,1,11,14],[7,25,10,52],[7,57,11,70],[7,81,10,108],[11,25,24,27],[11,28,15,52],[11,81,24,83],[11,84,15,108],[13,1,18,3],[13,4,18,11],[1,94,6,96],[1,97,6,108],[2,9,5,13],[2,65,5,69],[4,25,6,27],[4,81,6,83],[0,44,0,52],[0,100,0,108],[1,3,5,6],[1,25,3,27],[1,28,6,37],[1,38,6,40],[1,41,6,52],[1,59,5,62],[1,81,3,83],[1,84,6,93]]}
[null,null,null,null,null,null,null,null,null,null,null,null,null,null,null,null,null,null,null,null,null,null,null,null,null,null,null,null,null,null,null,null,null,null,null,null,null,null,null,null,null,null,null,null,"P 1/1",null,null,null,null,null,null,null,null,null,null,null,null,null,null,null,null,null,null,null,null,null,null,null,null,null,null,null,null,null,null,null,null,null,null,null,null,null,null,null,null,null,null,null,null,null,null,null,null,null,null,null,null,null,null,null,"P 1/1"]
[null,null,null,"請求明細書（一般）",null,null,null,null,null,null,null,null,null,null,null,null,null,null,null,null,null,null,null,null,null,"取引先",null,null,999999,null,null,null,null,null,null,null,null,null,"締\n日",null,null,"2020-07-31",null,null,null,null,null,null,null,null,null,null,null,null,null,null,null,null,null,"請求明細書（一般）",null,null,null,null,null,null,null,null,null,null,null,null,null,null,null,null,null,null,null,null,null,"取引先",null,null,999999,null,null,null,null,null,null,null,null,null,"締\n日",null,null,"2020-07-31"]
[null,null,null,null,null,null,null,null,null,"提出用",null,null,null,null,null,null,null,null,null,null,null,null,null,null,null,null,null,null,null,null,null,null,null,null,null,null,null,null,null,null,null,null,null,null,null,null,null,null,null,null,null,null,null,null,null,null,null,null,null,null,null,null,null,null,null,"提出用"]
[]
[null,null,null,null,null,null,null,null,null,null,null,null,null,null,null,null,null,null,null,null,null,null,null,null,null,"コード",null,null,null,null,null,null,null,null,null,null,null,null,null,null,null,null,null,null,null,null,null,null,null,null,null,null,null,null,null,null,null,null,null,null,null,null,null,null,null,null,null,null,null,null,null,null,null,null,null,null,null,null,null,null,null,"コード"]
[]
[]
[null,"丸高・みなと特定建設工事共同企業体　御中",null,null,null,null,null,null,null,null,null,null,null,null,null,null,null,null,null,null,null,null,null,null,null,"（住所・社名・電話）",null,null,null,null,null,null,null,null,null,null,null,null,null,null,null,null,null,null,null,null,null,null,null,null,null,null,null,null,null,null,null,"丸高・みなと特定建設工事共同企業体　御中",null,null,null,null,null,null,null,null,null,null,null,null,null,null,null,null,null,null,null,null,null,null,null,"（住所・社名・電話）"]
[]
[]
[]
[null,null,null,null,null,null,null,null,null,null,null,null,null,null,null,null,null,null,null,null,null,null,null,null,null,null,null,null,"酒田市○○○○１－１",null,null,null,null,null,null,null,null,null,null,null,null,null,null,null,null,null,null,null,null,null,null,null,null,null,null,null,null,null,null,null,null,null,null,null,null,null,null,null,null,null,null,null,null,null,null,null,null,null,null,null,null,null,null,null,"酒田市○○○○１－１"]
[]
[null,"工　事　名",null,null,"○○○○○工事",null,null,null,null,null,null,null,null,null,null,"承　　認",null,null,null,null,null,"検　　印",null,null,null,null,null,null,null,null,null,null,null,null,null,null,null,null,null,null,null,null,null,null,null,null,null,null,null,null,null,null,null,null,null,null,null,"工　事　名",null,null,"○○○○○工事",null,null,null,null,null,null,null,null,null,null,"承　　認",null,null,null,null,null,"検　　印"]
[]
[]
[null,null,null,null,null,null,null,null,null,null,null,null,null,null,null,null,null,null,null,null,null,null,null,null,null,null,null,null,"(株）○○建設",null,null,null,null,null,null,null,null,null,null,null,null,null,null,null,null,null,null,null,null,null,"印",null,null,null,null,null,null,null,null,null,null,null,null,null,null,null,null,null,null,null,null,null,null,null,null,null,null,null,null,null,null,null,null,null,"(株）○○建設",null,null,null,null,null,null,null,null,null,null,null,null,null,null,null,null,null,null,null,null,null,"印"]
[]
[]
[null,"作業所長名",null,null,"○○太郎",null,null,null,null,null,null,null,null,null,null,null,null,null,null,null,null,null,null,null,null,null,null,null,null,null,null,null,null,null,null,null,null,null,null,null,null,null,null,null,null,null,null,null,null,null,null,null,null,null,null,null,null,"作業所長名",null,null,"○○太郎"]
[]
[null,null,null,null,null,null,null,null,null,null,null,null,null,null,null,null,null,null,null,null,null,null,null,null,null,null,null,null,"0234 - 00 - 0000",null,null,null,null,null,null,null,null,null,null,null,null,null,null,null,null,null,null,null,null,null,null,null,null,null,null,null,null,null,null,null,null,null,null,null,null,null,null,null,null,null,null,null,null,null,null,null,null,null,null,null,null,null,null,null,"0234 - 00 - 0000"]
[]
[]
[]
[]
[null,"通番","納入年月日",null,null,"品　名　・　規　格",null,null,null,"数　　　　量",null,null,null,null,null,null,null,null,null,null,null,"単 位","単　　　　価",null,null,null,null,null,null,null,null,null,null,null,"金　　　額",null,null,null,null,null,null,null,null,"備　考",null,null,null,null,null,null,null,null,null,null,null,null,null,"通番","納入年月日",null,null,"品　名　・　規　格",null,null,null,"数　　　　量",null,null,null,null,null,null,null,null,null,null,null,"単 位","単　　　　価",null,null,null,null,null,null,null,null,null,null,null,"金　　　額",null,null,null,null,null,null,null,null,"備　考"]
[null,1,"2008-07-10",null,null,"○○材料",null,null,null,null,null,null,null,null,null,null,5,0,0,0,null,"個",null,null,null,null,null,5,0,0,0,0,0,null,null,null,null,2,5,0,0,0,0,null,null,null,null,null,null,null,null,null,null,null,null,null,null,1,"2008-07-10",null,null,"○○材料",null,null,null,null,null,null,null,null,null,null,5,0,0,0,null,"個",null,null,null,null,null,5,0,0,0,0,0,null,null,null,null,2,5,0,0,0,0]
[null,2,"2008-07-31",null,null,"機械損料",null,null,null,null,null,null,null,null,null,null,1,0,0,0,null,"日",null,null,null,null,1,0,0,0,0,0,0,null,null,null,null,1,0,0,0,0,0,null,null,null,null,null,null,null,null,null,null,null,null,null,null,2,"2008-07-31",null,null,"機械損料",null,null,null,null,null,null,null,null,null,null,1,0,0,0,null,"日",null,null,null,null,1,0,0,0,0,0,0,null,null,null,null,1,0,0,0,0,0]
[null,3,"2008-07-31",null,null,"軽油",null,null,null,null,null,null,null,null,null,null,1,0,0,0,null,"Ｌ",null,null,null,null,null,null,null,8,0,0,0,null,null,null,null,null,null,null,8,0,0,null,null,null,null,null,null,null,null,null,null,null,null,null,null,3,"2008-07-31",null,null,"軽油",null,null,null,null,null,null,null,null,null,null,1,0,0,0,null,"Ｌ",null,null,null,null,null,null,null,8,0,0,0,null,null,null,null,null,null,null,8,0,0]
[null,4,"2008-07-31",null,null,"軽油税",null,null,null,null,null,null,null,null,null,null,1,0,0,0,null,"Ｌ",null,null,null,null,null,null,null,3,2,1,0,null,null,null,null,null,null,null,3,2,1,null,null,null,null,null,null,null,null,null,null,null,null,null,null,4,"2008-07-31",null,null,"軽油税",null,null,null,null,null,null,null,null,null,null,1,0,0,0,null,"Ｌ",null,null,null,null,null,null,null,3,2,1,0,null,null,null,null,null,null,null,3,2,1]
[null,5,null,null,null,null,null,null,null,null,null,null,null,null,null,null,null,null,null,null,null,null,null,null,null,null,null,null,null,null,null,null,null,null,null,null,null,null,null,null,null,null,null,null,null,null,null,null,null,null,null,null,null,null,null,null,null,5]
[null,6,null,null,null,null,null,null,null,null,null,null,null,null,null,null,null,null,null,null,null,null,null,null,null,null,null,null,null,null,null,null,null,null,null,null,null,null,null,null,null,null,null,null,null,null,null,null,null,null,null,null,null,null,null,null,null,6]
[null,7,null,null,null,null,null,null,null,null,null,null,null,null,null,null,null,null,null,null,null,null,null,null,null,null,null,null,null,null,null,null,null,null,null,null,null,null,null,null,null,null,null,null,null,null,null,null,null,null,null,null,null,null,null,null,null,7]
[null,8,null,null,null,null,null,null,null,null,null,null,null,null,null,null,null,null,null,null,null,null,null,null,null,null,null,null,null,null,null,null,null,null,null,null,null,null,null,null,null,null,null,null,null,null,null,null,null,null,null,null,null,null,null,null,null,8]
[null,9,null,null,null,null,null,null,null,null,null,null,null,null,null,null,null,null,null,null,null,null,null,null,null,null,null,null,null,null,null,null,null,null,null,null,null,null,null,null,null,null,null,null,null,null,null,null,null,null,null,null,null,null,null,null,null,9]
[null,10,null,null,null,null,null,null,null,null,null,null,null,null,null,null,null,null,null,null,null,null,null,null,null,null,null,null,null,null,null,null,null,null,null,null,null,null,null,null,null,null,null,null,null,null,null,null,null,null,null,null,null,null,null,null,null,10]
[null,11,null,null,null,null,null,null,null,null,null,null,null,null,null,null,null,null,null,null,null,null,null,null,null,null,null,null,null,null,null,null,null,null,null,null,null,null,null,null,null,null,null,null,null,null,null,null,null,null,null,null,null,null,null,null,null,11]
[null,12,null,null,null,null,null,null,null,null,null,null,null,null,null,null,null,null,null,null,null,null,null,null,null,null,null,null,null,null,null,null,null,null,null,null,null,null,null,null,null,null,null,null,null,null,null,null,null,null,null,null,null,null,null,null,null,12]
[null,13,null,null,null,null,null,null,null,null,null,null,null,null,null,null,null,null,null,null,null,null,null,null,null,null,null,null,null,null,null,null,null,null,null,null,null,null,null,null,null,null,null,null,null,null,null,null,null,null,null,null,null,null,null,null,null,13]
[null,14,null,null,null,null,null,null,null,null,null,null,null,null,null,null,null,null,null,null,null,null,null,null,null,null,null,null,null,null,null,null,null,null,null,null,null,null,null,null,null,null,null,null,null,null,null,null,null,null,null,null,null,null,null,null,null,14]
[null,15,null,null,null,null,null,null,null,null,null,null,null,null,null,null,null,null,null,null,null,null,null,null,null,null,null,null,null,null,null,null,null,null,null,null,null,null,null,null,null,null,null,null,null,null,null,null,null,null,null,null,null,null,null,null,null,15]
[null,null,null,null,null,null,null,null,null,null,null,null,null,null,null,null,null,null,null,null,null,null,"　　小　　　　　　計",null,null,null,null,null,null,null,null,null,null,null,null,null,null,3,5,1,1,2,1,"Ａ",351121,null,null,null,null,null,null,null,null,null,null,null,null,null,null,null,null,null,null,null,null,null,null,null,null,null,null,null,null,null,null,null,null,null,"　　小　　　　　　計",null,null,null,null,null,null,null,null,null,null,null,null,null,null,3,5,1,1,2,1,"Ａ",351121]
[null,null,null,null,null,null,null,null,null,null,null,null,null,null,null,null,null,null,null,null,null,null,"　消　費　税",null,null,null,null,null,null,null,0.1,null,null,null,null,null,null,null,3,5,0,8,0,"Ｂ",35080,null,null,null,null,null,null,null,null,null,null,null,null,null,null,null,null,null,null,null,null,null,null,null,null,null,null,null,null,null,null,null,null,null,"　消　費　税",null,null,null,null,null,null,null,0.1,null,null,null,null,null,null,null,3,5,0,8,0,"Ｂ",35080]
[null,null,null,null,null,null,null,null,null,null,null,null,null,null,null,null,null,null,null,null,null,null,"　　合　　　　　　計",null,null,null,null,null,null,null,null,null,null,null,null,null,null,3,8,6,2,0,1,"Ｃ",386201,null,null,null,null,null,null,null,null,null,null,null,null,null,null,null,null,null,null,null,null,null,null,null,null,null,null,null,null,null,null,null,null,null,"　　合　　　　　　計",null,null,null,null,null,null,null,null,null,null,null,null,null,null,3,8,6,2,0,1,"Ｃ",386201]
[null,null,null,null,null,null,null,null,null,null,null,null,null,null,null,null,null,null,null,null,null,null,"貴社→請求書(添付)→経理(控)",null,null,null,null,null,null,null,null,null,null,null,null,null,null,null,null,null,null,null,null,null,null,null,null,null,null,null,null,null,null,null,null,null,null,null,null,null,null,null,null,null,null,null,null,null,null,null,null,null,null,null,null,null,null,null,"貴社→請求書(添付)→経理→作業所長(控)"]
[]
[null,null,null,null,null,null,null,null,null,null,null,null,null,null,null,null,null,null,null,null,null,null,null,null,null,null,null,null,null,null,null,null,null,null,null,null,null,null,null,null,null,null,null,null,"P 1/1",null,null,null,null,null,null,null,null,null,null,null,null,null,null,null,null,null,null,null,null,null,null,null,null,null,null,null,null,null,null,null,null,null,null,null,null,null,null,null,null,null,null,null,null,null,null,null,null,null,null,null,null,null,null,null,"P 1/1"]
[null,null,null,"請求明細書（一般）",null,null,null,null,null,null,null,null,null,null,null,null,null,null,null,null,null,null,null,null,null,"取引先",null,null,999999,null,null,null,null,null,null,null,null,null,"締\n日",null,null,"2020-07-31",null,null,null,null,null,null,null,null,null,null,null,null,null,null,null,null,null,"請求明細書（一般）",null,null,null,null,null,null,null,null,null,null,null,null,null,null,null,null,null,null,null,null,null,"取引先",null,null,999999,null,null,null,null,null,null,null,null,null,"締\n日",null,null,"2020-07-31"]
[null,null,null,null,null,null,null,null,null,"提出用",null,null,null,null,null,null,null,null,null,null,null,null,null,null,null,null,null,null,null,null,null,null,null,null,null,null,null,null,null,null,null,null,null,null,null,null,null,null,null,null,null,null,null,null,null,null,null,null,null,null,null,null,null,null,null,"提出用"]
[]
[null,null,null,null,null,null,null,null,null,null,null,null,null,null,null,null,null,null,null,null,null,null,null,null,null,"コード",null,null,null,null,null,null,null,null,null,null,null,null,null,null,null,null,null,null,null,null,null,null,null,null,null,null,null,null,null,null,null,null,null,null,null,null,null,null,null,null,null,null,null,null,null,null,null,null,null,null,null,null,null,null,null,"コード"]
[]
[]
[null,"丸高・みなと特定建設工事共同企業体　御中",null,null,null,null,null,null,null,null,null,null,null,null,null,null,null,null,null,null,null,null,null,null,null,"（住所・社名・電話）",null,null,null,null,null,null,null,null,null,null,null,null,null,null,null,null,null,null,null,null,null,null,null,null,null,null,null,null,null,null,null,"丸高・みなと特定建設工事共同企業体　御中",null,null,null,null,null,null,null,null,null,null,null,null,null,null,null,null,null,null,null,null,null,null,null,"（住所・社名・電話）"]
[]
[]
[]
[null,null,null,null,null,null,null,null,null,null,null,null,null,null,null,null,null,null,null,null,null,null,null,null,null,null,null,null,"酒田市○○○○１－１",null,null,null,null,null,null,null,null,null,null,null,null,null,null,null,null,null,null,null,null,null,null,null,null,null,null,null,null,null,null,null,null,null,null,null,null,null,null,null,null,null,null,null,null,null,null,null,null,null,null,null,null,null,null,null,"酒田市○○○○１－１"]
[]
[null,"工　事　名",null,null,"×××××工事",null,null,null,null,null,null,null,null,null,null,"承　　認",null,null,null,null,null,"検　　印",null,null,null,null,null,null,null,null,null,null,null,null,null,null,null,null,null,null,null,null,null,null,null,null,null,null,null,null,null,null,null,null,null,null,null,"工　事　名",null,null,"×××××工事",null,null,null,null,null,null,null,null,null,null,"承　　認",null,null,null,null,null,"検　　印"]
[]
[]
[null,null,null,null,null,null,null,null,null,null,null,null,null,null,null,null,null,null,null,null,null,null,null,null,null,null,null,null,"(株）○○建設",null,null,null,null,null,null,null,null,null,null,null,null,null,null,null,null,null,null,null,null,null,"印",null,null,null,null,null,null,null,null,null,null,null,null,null,null,null,null,null,null,null,null,null,null,null,null,null,null,null,null,null,null,null,null,null,"(株）○○建設",null,null,null,null,null,null,null,null,null,null,null,null,null,null,null,null,null,null,null,null,null,"印"]
[]
[]
[null,"作業所長名",null,null,"××次郎",null,null,null,null,null,null,null,null,null,null,null,null,null,null,null,null,null,null,null,null,null,null,null,null,null,null,null,null,null,null,null,null,null,null,null,null,null,null,null,null,null,null,null,null,null,null,null,null,null,null,null,null,"作業所長名",null,null,"××次郎"]
[]
[null,null,null,null,null,null,null,null,null,null,null,null,null,null,null,null,null,null,null,null,null,null,null,null,null,null,null,null,"0234 - 00 - 0000",null,null,null,null,null,null,null,null,null,null,null,null,null,null,null,null,null,null,null,null,null,null,null,null,null,null,null,null,null,null,null,null,null,null,null,null,null,null,null,null,null,null,null,null,null,null,null,null,null,null,null,null,null,null,null,"0234 - 00 - 0000"]
[]
[]
[]
[]
[null,"通番","納入年月日",null,null,"品　名　・　規　格",null,null,null,"数　　　　量",null,null,null,null,null,null,null,null,null,null,null,"単 位","単　　　　価",null,null,null,null,null,null,null,null,null,null,null,"金　　　額",null,null,null,null,null,null,null,null,"備　考",null,null,null,null,null,null,null,null,null,null,null,null,null,"通番","納入年月日",null,null,"品　名　・　規　格",null,null,null,"数　　　　量",null,null,null,null,null,null,null,null,null,null,null,"単 位","単　　　　価",null,null,null,null,null,null,null,null,null,null,null,"金　　　額",null,null,null,null,null,null,null,null,"備　考"]
[null,1,"2008-07-25",null,null,"○○材料",null,null,null,null,null,null,null,null,null,null,5,0,0,0,null,"個",null,null,null,null,null,5,0,0,0,0,0,null,null,null,null,2,5,0,0,0,0,null,null,null,null,null,null,null,null,null,null,null,null,null,null,1,"2008-07-25",null,null,"○○材料",null,null,null,null,null,null,null,null,null,null,5,0,0,0,null,"個",null,null,null,null,null,5,0,0,0,0,0,null,null,null,null,2,5,0,0,0,0]
[null,2,"2008-07-31",null,null,"労務費",null,null,null,null,null,null,null,null,null,null,2,5,0,0,null,"人",null,null,null,null,1,0,0,0,0,0,0,null,null,null,null,2,5,0,0,0,0,null,null,null,null,null,null,null,null,null,null,null,null,null,null,2,"2008-07-31",null,null,"労務費",null,null,null,null,null,null,null,null,null,null,2,5,0,0,null,"人",null,null,null,null,1,0,0,0,0,0,0,null,null,null,null,2,5,0,0,0,0]
[null,3,null,null,null,null,null,null,null,null,null,null,null,null,null,null,null,null,null,null,null,null,null,null,null,null,null,null,null,null,null,null,null,null,null,null,null,null,null,null,null,null,null,null,null,null,null,null,null,null,null,null,null,null,null,null,null,3]
[null,4,null,null,null,null,null,null,null,null,null,null,null,null,null,null,null,null,null,null,null,null,null,null,null,null,null,null,null,null,null,null,null,null,null,null,null,null,null,null,null,null,null,null,null,null,null,null,null,null,null,null,null,null,null,null,null,4]
[null,5,null,null,null,null,null,null,null,null,null,null,null,null,null,null,null,null,null,null,null,null,null,null,null,null,null,null,null,null,null,null,null,null,null,null,null,null,null,null,null,null,null,null,null,null,null,null,null,null,null,null,null,null,null,null,null,5]
[null,6,null,null,null,null,null,null,null,null,null,null,null,null,null,null,null,null,null,null,null,null,null,null,null,null,null,null,null,null,null,null,null,null,null,null,null,null,null,null,null,null,null,null,null,null,null,null,null,null,null,null,null,null,null,null,null,6]
[null,7,null,null,null,null,null,null,null,null,null,null,null,null,null,null,null,null,null,null,null,null,null,null,null,null,null,null,null,null,null,null,null,null,null,null,null,null,null,null,null,null,null,null,null,null,null,null,null,null,null,null,null,null,null,null,null,7]
[null,8,null,null,null,null,null,null,null,null,null,null,null,null,null,null,null,null,null,null,null,null,null,null,null,null,null,null,null,null,null,null,null,null,null,null,null,null,null,null,null,null,null,null,null,null,null,null,null,null,null,null,null,null,null,null,null,8]
[null,9,null,null,null,null,null,null,null,null,null,null,null,null,null,null,null,null,null,null,null,null,null,null,null,null,null,null,null,null,null,null,null,null,null,null,null,null,null,null,null,null,null,null,null,null,null,null,null,null,null,null,null,null,null,null,null,9]
[null,10,null,null,null,null,null,null,null,null,null,null,null,null,null,null,null,null,null,null,null,null,null,null,null,null,null,null,null,null,null,null,null,null,null,null,null,null,null,null,null,null,null,null,null,null,null,null,null,null,null,null,null,null,null,null,null,10]
[null,11,null,null,null,null,null,null,null,null,null,null,null,null,null,null,null,null,null,null,null,null,null,null,null,null,null,null,null,null,null,null,null,null,null,null,null,null,null,null,null,null,null,null,null,null,null,null,null,null,null,null,null,null,null,null,null,11]
[null,12,null,null,null,null,null,null,null,null,null,null,null,null,null,null,null,null,null,null,null,null,null,null,null,null,null,null,null,null,null,null,null,null,null,null,null,null,null,null,null,null,null,null,null,null,null,null,null,null,null,null,null,null,null,null,null,12]
[null,13,null,null,null,null,null,null,null,null,null,null,null,null,null,null,null,null,null,null,null,null,null,null,null,null,null,null,null,null,null,null,null,null,null,null,null,null,null,null,null,null,null,null,null,null,null,null,null,null,null,null,null,null,null,null,null,13]
[null,14,null,null,null,null,null,null,null,null,null,null,null,null,null,null,null,null,null,null,null,null,null,null,null,null,null,null,null,null,null,null,null,null,null,null,null,null,null,null,null,null,null,null,null,null,null,null,null,null,null,null,null,null,null,null,null,14]
[null,15,null,null,null,null,null,null,null,null,null,null,null,null,null,null,null,null,null,null,null,null,null,null,null,null,null,null,null,null,null,null,null,null,null,null,null,null,null,null,null,null,null,null,null,null,null,null,null,null,null,null,null,null,null,null,null,15]
[null,null,null,null,null,null,null,null,null,null,null,null,null,null,null,null,null,null,null,null,null,null,"　　小　　　　　　計",null,null,null,null,null,null,null,null,null,null,null,null,null,null,5,0,0,0,0,0,"Ａ",500000,null,null,null,null,null,null,null,null,null,null,null,null,null,null,null,null,null,null,null,null,null,null,null,null,null,null,null,null,null,null,null,null,null,"　　小　　　　　　計",null,null,null,null,null,null,null,null,null,null,null,null,null,null,5,0,0,0,0,0,"Ａ",500000]
[null,null,null,null,null,null,null,null,null,null,null,null,null,null,null,null,null,null,null,null,null,null,"　消　費　税",null,null,null,null,null,null,null,0.1,null,null,null,null,null,null,null,5,0,0,0,0,"Ｂ",50000,null,null,null,null,null,null,null,null,null,null,null,null,null,null,null,null,null,null,null,null,null,null,null,null,null,null,null,null,null,null,null,null,null,"　消　費　税",null,null,null,null,null,null,null,0.1,null,null,null,null,null,null,null,5,0,0,0,0,"Ｂ",50000]
[null,null,null,null,null,null,null,null,null,null,null,null,null,null,null,null,null,null,null,null,null,null,"　　合　　　　　　計",null,null,null,null,null,null,null,null,null,null,null,null,null,null,5,5,0,0,0,0,"Ｃ",550000,null,null,null,null,null,null,null,null,null,null,null,null,null,null,null,null,null,null,null,null,null,null,null,null,null,null,null,null,null,null,null,null,null,"　　合　　　　　　計",null,null,null,null,null,null,null,null,null,null,null,null,null,null,5,5,0,0,0,0,"Ｃ",550000]
[null,null,null,null,null,null,null,null,null,null,null,null,null,null,null,null,null,null,null,null,null,null,"貴社→請求書(添付)→経理(控)",null,null,null,null,null,null,null,null,null,null,null,null,null,null,null,null,null,null,null,null,null,null,null,null,null,null,null,null,null,null,null,null,null,null,null,null,null,null,null,null,null,null,null,null,null,null,null,null,null,null,null,null,null,null,null,"貴社→請求書(添付)→経理→作業所長(控)"]

{"sheet":"ひな請求明細","index":9,"n_rows":939,"n_cols":121,"rows_kept":939,"cut":false,"hidden":true,"merged":[[853,1,857,14],[853,57,857,70],[900,1,904,14],[900,57,904,70],[430,1,434,14],[430,57,434,70],[477,1,481,14],[477,57,481,70],[524,1,528,14],[524,57,528,70],[571,1,575,14],[571,57,575,70],[618,1,622,14],[618,57,622,70],[665,1,669,14],[665,57,669,70],[712,1,716,14],[712,57,716,70],[759,1,763,14],[759,57,763,70],[806,1,810,14],[806,57,810,70],[430,25,433,52],[440,21,447,23],[449,34,449,42],[449,43,449,52],[454,2,454,4],[454,5,454,8],[454,43,454,52],[454,58,454,60],[454,61,454,64],[460,2,460,4],[7,1,11,14],[7,57,11,70],[54,1,58,14],[54,57,58,70],[101,1,105,14],[101,57,105,70],[148,1,152,14],[148,57,152,70],[195,1,199,14],[195,57,199,70],[242,1,246,14],[242,57,246,70],[289,1,293,14],[289,57,293,70],[336,1,340,14],[336,57,340,70],[383,1,387,14],[383,57,387,70],[7,25,10,52],[17,21,24,23],[26,34,26,42],[26,43,26,52],[31,2,31,4],[31,5,31,8],[31,43,31,52],[31,58,31,60],[31,61,31,64],[37,2,37,4],[37,5,37,8],[37,43,37,52],[37,58,37,60],[37,61,37,64],[7,81,10,108],[11,25,24,27],[11,28,15,52],[11,81,24,83],[11,84,15,108],[13,1,18,3],[13,4,18,11],[1,94,6,96],[1,97,6,108],[2,9,5,13],[2,65,5,69],[4,25,6,27],[4,81,6,83],[0,44,0,52],[0,100,0,108],[1,3,5,6],[1,25,3,27],[1,28,6,37],[1,38,6,40],[1,41,6,52],[1,59,5,62],[1,81,3,83],[1,84,6,93],[19,1,24,3],[19,4,24,5],[19,57,24,59],[19,60,24,61],[21,28,24,52],[21,84,24,108],[16,84,20,105],[16,106,20,108],[17,15,24,20],[17,71,24,76],[17,77,24,79],[13,15,16,20],[13,21,16,23],[13,57,18,59],[13,60,18,67],[13,71,16,76],[13,77,16,79],[16,28,20,49],[16,50,20,52],[28,2,28,4],[28,5,28,8],[28,43,28,52],[28,58,28,60],[28,61,28,64],[28,99,28,108],[27,2,27,4],[27,5,27,8],[27,43,27,52],[27,58,27,60],[27,61,27,64],[27,99,27,108],[26,58,26,60],[26,61,26,64],[26,65,26,76],[26,78,26,89],[26,90,26,98],[26,99,26,108],[26,2,26,4],[26,5,26,8],[26,9,26,20],[26,22,26,33],[31,99,31,108],[30,2,30,4],[30,5,30,8],[30,43,30,52],[30,58,30,60],[30,61,30,64],[30,99,30,108],[29,2,29,4],[29,5,29,8],[29,43,29,52],[29,58,29,60],[29,61,29,64],[29,99,29,108],[34,2,34,4],[34,5,34,8],[34,43,34,52],[34,58,34,60],[34,61,34,64],[34,99,34,108],[33,2,33,4],[33,5,33,8],[33,43,33,52],[33,58,33,60],[33,61,33,64],[33,99,33,108],[32,2,32,4],[32,5,32,8],[32,43,32,52],[32,58,32,60],[32,61,32,64],[32,99,32,108],[37,99,37,108],[36,2,36,4],[36,5,36,8],[36,43,36,52],[36,58,36,60],[36,61,36,64],[36,99,36,108],[35,2,35,4],[35,5,35,8],[35,43,35,52],[35,58,35,60],[35,61,35,64],[35,99,35,108],[40,2,40,4],[40,5,40,8],[40,43,40,52],[40,58,40,60],[40,61,40,64],[40,99,40,108],[39,2,39,4],[39,5,39,8],[39,43,39,52],[39,58,39,60],[39,61,39,64],[39,99,39,108],[38,2,38,4],[38,5,38,8],[38,43,38,52],[38,58,38,60],[38,61,38,64],[38,99,38,108],[44,22,44,33],[44,44,44,52],[44,78,44,89],[44,100,44,108],[45,22,46,52],[45,78,46,108],[42,22,42,33],[42,44,42,52],[42,78,42,89],[42,100,42,108],[43,22,43,29],[43,30,43,33],[43,44,43,52],[43,78,43,85],[43,86,43,89],[43,100,43,108],[41,2,41,4],[41,5,41,8],[41,43,41,52],[41,58,41,60],[41,61,41,64],[41,99,41,108],[54,25,57,52],[54,81,57,108],[58,25,71,27],[58,28,62,52],[58,81,71,83],[58,84,62,108],[60,1,65,3],[60,4,65,11],[48,94,53,96],[48,97,53,108],[49,9,52,13],[49,65,52,69],[51,25,53,27],[51,81,53,83],[47,44,47,52],[47,100,47,108],[48,3,52,6],[48,25,50,27],[48,28,53,37],[48,38,53,40],[48,41,53,52],[48,59,52,62],[48,81,50,83],[48,84,53,93],[66,1,71,3],[66,4,71,5],[66,57,71,59],[66,60,71,61],[68,28,71,52],[68,84,71,108],[63,84,67,105],[63,106,67,108],[64,15,71,20],[64,21,71,23],[64,71,71,76],[64,77,71,79],[60,15,63,20],[60,21,63,23],[60,57,65,59],[60,60,65,67],[60,71,63,76],[60,77,63,79],[63,28,67,49],[63,50,67,52],[75,2,75,4],[75,5,75,8],[75,43,75,52],[75,58,75,60],[75,61,75,64],[75,99,75,108],[74,2,74,4],[74,5,74,8],[74,43,74,52],[74,58,74,60],[74,61,74,64],[74,99,74,108],[73,58,73,60],[73,61,73,64],[73,65,73,76],[73,78,73,89],[73,90,73,98],[73,99,73,108],[73,2,73,4],[73,5,73,8],[73,9,73,20],[73,22,73,33],[73,34,73,42],[73,43,73,52],[78,2,78,4],[78,5,78,8],[78,43,78,52],[78,58,78,60],[78,61,78,64],[78,99,78,108],[77,2,77,4],[77,5,77,8],[77,43,77,52],[77,58,77,60],[77,61,77,64],[77,99,77,108],[76,2,76,4],[76,5,76,8],[76,43,76,52],[76,58,76,60],[76,61,76,64],[76,99,76,108],[81,2,81,4],[81,5,81,8],[81,43,81,52],[81,58,81,60],[81,61,81,64],[81,99,81,108],[80,2,80,4],[80,5,80,8],[80,43,80,52],[80,58,80,60],[80,61,80,64],[80,99,80,108],[79,2,79,4],[79,5,79,8],[79,43,79,52],[79,58,79,60],[79,61,79,64],[79,99,79,108],[84,2,84,4],[84,5,84,8],[84,43,84,52],[84,58,84,60],[84,61,84,64],[84,99,84,108],[83,2,83,4],[83,5,83,8],[83,43,83,52],[83,58,83,60],[83,61,83,64],[83,99,83,108],[82,2,82,4],[82,5,82,8],[82,43,82,52],[82,58,82,60],[82,61,82,64],[82,99,82,108],[87,2,87,4],[87,5,87,8],[87,43,87,52],[87,58,87,60],[87,61,87,64],[87,99,87,108],[86,2,86,4],[86,5,86,8],[86,43,86,52],[86,58,86,60],[86,61,86,64],[86,99,86,108],[85,2,85,4],[85,5,85,8],[85,43,85,52],[85,58,85,60],[85,61,85,64],[85,99,85,108],[91,22,91,33],[91,44,91,52],[91,78,91,89],[91,100,91,108],[92,22,93,52],[92,78,93,108],[89,22,89,33],[89,44,89,52],[89,78,89,89],[89,100,89,108],[90,22,90,29],[90,30,90,33],[90,44,90,52],[90,78,90,85],[90,86,90,89],[90,100,90,108],[88,2,88,4],[88,5,88,8],[88,43,88,52],[88,58,88,60],[88,61,88,64],[88,99,88,108],[101,25,104,52],[101,81,104,108],[105,25,118,27],[105,28,109,52],[105,81,118,83],[105,84,109,108],[107,1,112,3],[107,4,112,11],[95,94,100,96],[95,97,100,108],[96,9,99,13],[96,65,99,69],[98,25,100,27],[98,81,100,83],[94,44,94,52],[94,100,94,108],[95,3,99,6],[95,25,97,27],[95,28,100,37],[95,38,100,40],[95,41,100,52],[95,59,99,62],[95,81,97,83],[95,84,100,93],[113,1,118,3],[113,4,118,5],[113,57,118,59],[113,60,118,61],[115,28,118,52],[115,84,118,108],[110,84,114,105],[110,106,114,108],[111,15,118,20],[111,21,118,23],[111,71,118,76],[111,77,118,79],[107,15,110,20],[107,21,110,23],[107,57,112,59],[107,60,112,67],[107,71,110,76],[107,77,110,79],[110,28,114,49],[110,50,114,52],[122,2,122,4],[122,5,122,8],[122,43,122,52],[122,58,122,60],[122,61,122,64],[122,99,122,108],[121,2,121,4],[121,5,121,8],[121,43,121,52],[121,58,121,60],[121,61,121,64],[121,99,121,108],[120,58,120,60],[120,61,120,64],[120,65,120,76],[120,78,120,89],[120,90,120,98],[120,99,120,108],[120,2,120,4],[120,5,120,8],[120,9,120,20],[120,22,120,33],[120,34,120,42],[120,43,120,52],[125,2,125,4],[125,5,125,8],[125,43,125,52],[125,58,125,60],[125,61,125,64],[125,99,125,108],[124,2,124,4],[124,5,124,8],[124,43,124,52],[124,58,124,60],[124,61,124,64],[124,99,124,108],[123,2,123,4],[123,5,123,8],[123,43,123,52],[123,58,123,60],[123,61,123,64],[123,99,123,108],[128,2,128,4],[128,5,128,8],[128,43,128,52],[128,58,128,60],[128,61,128,64],[128,99,128,108],[127,2,127,4],[127,5,127,8],[127,43,127,52],[127,58,127,60],[127,61,127,64],[127,99,127,108],[126,2,126,4],[126,5,126,8],[126,43,126,52],[126,58,126,60],[126,61,126,64],[126,99,126,108],[131,2,131,4],[131,5,131,8],[131,43,131,52],[131,58,131,60],[131,61,131,64],[131,99,131,108],[130,2,130,4],[130,5,130,8],[130,43,130,52],[130,58,130,60],[130,61,130,64],[130,99,130,108],[129,2,129,4],[129,5,129,8],[129,43,129,52],[129,58,129,60],[129,61,129,64],[129,99,129,108],[134,2,134,4],[134,5,134,8],[134,43,134,52],[134,58,134,60],[134,61,134,64],[134,99,134,108],[133,2,133,4],[133,5,133,8],[133,43,133,52],[133,58,133,60],[133,61,133,64],[133,99,133,108],[132,2,132,4],[132,5,132,8],[132,43,132,52],[132,58,132,60],[132,61,132,64],[132,99,132,108],[138,22,138,33],[138,44,138,52],[138,78,138,89],[138,100,138,108],[139,22,140,52],[139,78,140,108],[136,22,136,33],[136,44,136,52],[136,78,136,89],[136,100,136,108],[137,22,137,29],[137,30,137,33],[137,44,137,52],[137,78,137,85],[137,86,137,89],[137,100,137,108],[135,2,135,4],[135,5,135,8],[135,43,135,52],[135,58,135,60],[135,61,135,64],[135,99,135,108],[148,25,151,52],[148,81,151,108],[152,25,165,27],[152,28,156,52],[152,81,165,83],[152,84,156,108],[154,1,159,3],[154,4,159,11],[142,94,147,96],[142,97,147,108],[143,9,146,13],[143,65,146,69],[145,25,147,27],[145,81,147,83],[141,44,141,52],[141,100,141,108],[142,3,146,6],[142,25,144,27],[142,28,147,37],[142,38,147,40],[142,41,147,52],[142,59,146,62],[142,81,144,83],[142,84,147,93],[160,1,165,3],[160,4,165,5],[160,57,165,59],[160,60,165,61],[162,28,165,52],[162,84,165,108],[157,84,161,105],[157,106,161,108],[158,15,165,20],[158,21,165,23],[158,71,165,76],[158,77,165,79],[154,15,157,20],[154,21,157,23],[154,57,159,59],[154,60,159,67],[154,71,157,76],[154,77,157,79],[157,28,161,49],[157,50,161,52],[169,2,169,4],[169,5,169,8],[169,43,169,52],[169,58,169,60],[169,61,169,64],[169,99,169,108],[168,2,168,4],[168,5,168,8],[168,43,168,52],[168,58,168,60],[168,61,168,64],[168,99,168,108],[167,58,167,60],[167,61,167,64],[167,65,167,76],[167,78,167,89],[167,90,167,98],[167,99,167,108],[167,2,167,4],[167,5,167,8],[167,9,167,20],[167,22,167,33],[167,34,167,42],[167,43,167,52],[172,2,172,4],[172,5,172,8],[172,43,172,52],[172,58,172,60],[172,61,172,64],[172,99,172,108],[171,2,171,4],[171,5,171,8],[171,43,171,52],[171,58,171,60],[171,61,171,64],[171,99,171,108],[170,2,170,4],[170,5,170,8],[170,43,170,52],[170,58,170,60],[170,61,170,64],[170,99,170,108],[175,2,175,4],[175,5,175,8],[175,43,175,52],[175,58,175,60],[175,61,175,64],[175,99,175,108],[174,2,174,4],[174,5,174,8],[174,43,174,52],[174,58,174,60],[174,61,174,64],[174,99,174,108],[173,2,173,4],[173,5,173,8],[173,43,173,52],[173,58,173,60],[173,61,173,64],[173,99,173,108],[178,2,178,4],[178,5,178,8],[178,43,178,52],[178,58,178,60],[178,61,178,64],[178,99,178,108],[177,2,177,4],[177,5,177,8],[177,43,177,52],[177,58,177,60],[177,61,177,64],[177,99,177,108],[176,2,176,4],[176,5,176,8],[176,43,176,52],[176,58,176,60],[176,61,176,64],[176,99,176,108],[181,2,181,4],[181,5,181,8],[181,43,181,52],[181,58,181,60],[181,61,181,64],[181,99,181,108],[180,2,180,4],[180,5,180,8],[180,43,180,52],[180,58,180,60],[180,61,180,64],[180,99,180,108],[179,2,179,4],[179,5,179,8],[179,43,179,52],[179,58,179,60],[179,61,179,64],[179,99,179,108],[185,22,185,33],[185,44,185,52],[185,78,185,89],[185,100,185,108],[186,22,187,52],[186,78,187,108],[183,22,183,33],[183,44,183,52],[183,78,183,89],[183,100,183,108],[184,22,184,29],[184,30,184,33],[184,44,184,52],[184,78,184,85],[184,86,184,89],[184,100,184,108],[182,2,182,4],[182,5,182,8],[182,43,182,52],[182,58,182,60],[182,61,182,64],[182,99,182,108],[195,25,198,52],[195,81,198,108],[199,25,212,27],[199,28,203,52],[199,81,212,83],[199,84,203,108],[201,1,206,3],[201,4,206,11],[189,94,194,96],[189,97,194,108],[190,9,193,13],[190,65,193,69],[192,25,194,27],[192,81,194,83],[188,44,188,52],[188,100,188,108],[189,3,193,6],[189,25,191,27],[189,28,194,37],[189,38,194,40],[189,41,194,52],[189,59,193,62],[189,81,191,83],[189,84,194,93],[207,1,212,3],[207,4,212,5],[207,57,212,59],[207,60,212,61],[209,28,212,52],[209,84,212,108],[204,84,208,105],[204,106,208,108],[205,15,212,20],[205,21,212,23],[205,71,212,76],[205,77,212,79],[201,15,204,20],[201,21,204,23],[201,57,206,59],[201,60,206,67],[201,71,204,76],[201,77,204,79],[204,28,208,49],[204,50,208,52],[216,2,216,4],[216,5,216,8],[216,43,216,52],[216,58,216,60],[216,61,216,64],[216,99,216,108],[215,2,215,4],[215,5,215,8],[215,43,215,52],[215,58,215,60],[215,61,215,64],[215,99,215,108],[214,58,214,60],[214,61,214,64],[214,65,214,76],[214,78,214,89],[214,90,214,98],[214,99,214,108],[214,2,214,4],[214,5,214,8],[214,9,214,20],[214,22,214,33],[214,34,214,42],[214,43,214,52],[219,2,219,4],[219,5,219,8],[219,43,219,52],[219,58,219,60],[219,61,219,64],[219,99,219,108],[218,2,218,4],[218,5,218,8],[218,43,218,52],[218,58,218,60],[218,61,218,64],[218,99,218,108],[217,2,217,4],[217,5,217,8],[217,43,217,52],[217,58,217,60],[217,61,217,64],[217,99,217,108],[222,2,222,4],[222,5,222,8],[222,43,222,52],[222,58,222,60],[222,61,222,64],[222,99,222,108],[221,2,221,4],[221,5,221,8],[221,43,221,52],[221,58,221,60],[221,61,221,64],[221,99,221,108],[220,2,220,4],[220,5,220,8],[220,43,220,52],[220,58,220,60],[220,61,220,64],[220,99,220,108],[225,2,225,4],[225,5,225,8],[225,43,225,52],[225,58,225,60],[225,61,225,64],[225,99,225,108],[224,2,224,4],[224,5,224,8],[224,43,224,52],[224,58,224,60],[224,61,224,64],[224,99,224,108],[223,2,223,4],[223,5,223,8],[223,43,223,52],[223,58,223,60],[223,61,223,64],[223,99,223,108],[228,2,228,4],[228,5,228,8],[228,43,228,52],[228,58,228,60],[228,61,228,64],[228,99,228,108],[227,2,227,4],[227,5,227,8],[227,43,227,52],[227,58,227,60],[227,61,227,64],[227,99,227,108],[226,2,226,4],[226,5,226,8],[226,43,226,52],[226,58,226,60],[226,61,226,64],[226,99,226,108],[232,22,232,33],[232,44,232,52],[232,78,232,89],[232,100,232,108],[233,22,234,52],[233,78,234,108],[230,22,230,33],[230,44,230,52],[230,78,230,89],[230,100,230,108],[231,22,231,29],[231,30,231,33],[231,44,231,52],[231,78,231,85],[231,86,231,89],[231,100,231,108],[229,2,229,4],[229,5,229,8],[229,43,229,52],[229,58,229,60],[229,61,229,64],[229,99,229,108],[242,25,245,52],[242,81,245,108],[246,25,259,27],[246,28,250,52],[246,81,259,83],[246,84,250,108],[248,1,253,3],[248,4,253,11],[236,94,241,96],[236,97,241,108],[237,9,240,13],[237,66,240,70],[239,25,241,27],[239,81,241,83],[235,44,235,52],[235,100,235,108],[236,3,240,6],[236,25,238,27],[236,28,241,37],[236,38,241,40],[236,41,241,52],[236,59,240,62],[236,81,238,83],[236,84,241,93],[254,1,259,3],[254,4,259,5],[254,57,259,59],[254,60,259,61],[256,28,259,52],[256,84,259,108],[251,84,255,105],[251,106,255,108],[252,15,259,20],[252,21,259,23],[252,71,259,76],[252,77,259,79],[248,15,251,20],[248,21,251,23],[248,57,253,59],[248,60,253,67],[248,71,251,76],[248,77,251,79],[251,28,255,49],[251,50,255,52],[263,2,263,4],[263,5,263,8],[263,43,263,52],[263,58,263,60],[263,61,263,64],[263,99,263,108],[262,2,262,4],[262,5,262,8],[262,43,262,52],[262,58,262,60],[262,61,262,64],[262,99,262,108],[261,58,261,60],[261,61,261,64],[261,65,261,76],[261,78,261,89],[261,90,261,98],[261,99,261,108],[261,2,261,4],[261,5,261,8],[261,9,261,20],[261,22,261,33],[261,34,261,42],[261,43,261,52],[266,2,266,4],[266,5,266,8],[266,43,266,52],[266,58,266,60],[266,61,266,64],[266,99,266,108],[265,2,265,4],[265,5,265,8],[265,43,265,52],[265,58,265,60],[265,61,265,64],[265,99,265,108],[264,2,264,4],[264,5,264,8],[264,43,264,52],[264,58,264,60],[264,61,264,64],[264,99,264,108],[269,2,269,4],[269,5,269,8],[269,43,269,52],[269,58,269,60],[269,61,269,64],[269,99,269,108],[268,2,268,4],[268,5,268,8],[268,43,268,52],[268,58,268,60],[268,61,268,64],[268,99,268,108],[267,2,267,4],[267,5,267,8],[267,43,267,52],[267,58,267,60],[267,61,267,64],[267,99,267,108],[272,2,272,4],[272,5,272,8],[272,43,272,52],[272,58,272,60],[272,61,272,64],[272,99,272,108],[271,2,271,4],[271,5,271,8],[271,43,271,52],[271,58,271,60],[271,61,271,64],[271,99,271,108],[270,2,270,4],[270,5,270,8],[270,43,270,52],[270,58,270,60],[270,61,270,64],[270,99,270,108],[275,2,275,4],[275,5,275,8],[275,43,275,52],[275,58,275,60],[275,61,275,64],[275,99,275,108],[274,2,274,4],[274,5,274,8],[274,43,274,52],[274,58,274,60],[274,61,274,64],[274,99,274,108],[273,2,273,4],[273,5,273,8],[273,43,273,52],[273,58,273,60],[273,61,273,64],[273,99,273,108]],"merged_total":3280,"flags":["merged_cut"]}
[null,null,null,null,null,null,null,null,null,null,null,null,null,null,null,null,null,null,null,null,null,null,null,null,null,null,null,null,null,null,null,null,null,null,null,null,null,null,null,null,null,null,null,null,{"$f":"\"P \" & B42/15 & \"/\" & ROUNDUP(COUNTIF(請求明細_工事場所, E14)/15,0)","v":"P 1/1"},null,null,null,null,null,null,null,null,null,null,null,null,null,null,null,null,null,null,null,null,null,null,null,null,null,null,null,null,null,null,null,null,null,null,null,null,null,null,null,null,null,null,null,null,null,null,null,null,null,null,null,null,null,null,null,{"$f":"\"P \" & BF42/15 & \"/\" & ROUNDUP(COUNTIF(請求明細_工事場所, BI14)/15,0)","v":"P 1/1"}]
[null,null,null,"請求明細書（一般）",null,null,null,null,null,null,null,null,null,null,null,null,null,null,null,null,null,null,null,null,null,"取引先",null,null,{"$f":"基本情報_取引先コード","v":999999},null,null,null,null,null,null,null,null,null,"締\n日",null,null,{"$f":"基本情報_請求締日","v":"2020-07-31"},null,null,null,null,null,null,null,null,null,null,null,null,null,null,null,null,null,"請求明細書（一般）",null,null,null,null,null,null,null,null,null,null,null,null,null,null,null,null,null,null,null,null,null,"取引先",null,null,{"$f":"基本情報_取引先コード","v":999999},null,null,null,null,null,null,null,null,null,"締\n日",null,null,{"$f":"基本情報_請求締日","v":"2020-07-31"}]
[null,null,null,null,null,null,null,null,null,"提出用",null,null,null,null,null,null,null,null,null,null,null,null,null,null,null,null,null,null,null,null,null,null,null,null,null,null,null,null,null,null,null,null,null,null,null,null,null,null,null,null,null,null,null,null,null,null,null,null,null,null,null,null,null,null,null,"提出用"]
[]
[null,null,null,null,null,null,null,null,null,null,null,null,null,null,null,null,null,null,null,null,null,null,null,null,null,"コード",null,null,null,null,null,null,null,null,null,null,null,null,null,null,null,null,null,null,null,null,null,null,null,null,null,null,null,null,null,null,null,null,null,null,null,null,null,null,null,null,null,null,null,null,null,null,null,null,null,null,null,null,null,null,null,"コード"]
[]
[]
[null,"丸高・みなと特定建設工事共同企業体　御中",null,null,null,null,null,null,null,null,null,null,null,null,null,null,null,null,null,null,null,null,null,null,null,"（住所・社名・電話）",null,null,null,null,null,null,null,null,null,null,null,null,null,null,null,null,null,null,null,null,null,null,null,null,null,null,null,null,null,null,null,"丸高・みなと特定建設工事共同企業体　御中",null,null,null,null,null,null,null,null,null,null,null,null,null,null,null,null,null,null,null,null,null,null,null,"（住所・社名・電話）"]
[]
[]
[]
[null,null,null,null,null,null,null,null,null,null,null,null,null,null,null,null,null,null,null,null,null,null,null,null,null,null,null,null,{"$f":"基本情報_住所","v":"酒田市○○○○１－１"},null,null,null,null,null,null,null,null,null,null,null,null,null,null,null,null,null,null,null,null,null,null,null,null,null,null,null,null,null,null,null,null,null,null,null,null,null,null,null,null,null,null,null,null,null,null,null,null,null,null,null,null,null,null,null,{"$f":"基本情報_住所","v":"酒田市○○○○１－１"}]
[]
[null,"工　事　名",null,null,"×××××工事",null,null,null,null,null,null,null,null,null,null,"承　　認",null,null,null,null,null,"検　　印",null,null,null,null,null,null,null,null,null,null,null,null,null,null,null,null,null,null,null,null,null,null,null,null,null,null,null,null,null,null,null,null,null,null,null,"工　事　名",null,null,{"$f":"$E$14","v":"×××××工事"},null,null,null,null,null,null,null,null,null,null,"承　　認",null,null,null,null,null,"検　　印"]
[]
[]
[null,null,null,null,null,null,null,null,null,null,null,null,null,null,null,null,null,null,null,null,null,null,null,null,null,null,null,null,{"$f":"基本情報_社名","v":"(株）○○建設"},null,null,null,null,null,null,null,null,null,null,null,null,null,null,null,null,null,null,null,null,null,"印",null,null,null,null,null,null,null,null,null,null,null,null,null,null,null,null,null,null,null,null,null,null,null,null,null,null,null,null,null,null,null,null,null,{"$f":"基本情報_社名","v":"(株）○○建設"},null,null,null,null,null,null,null,null,null,null,null,null,null,null,null,null,null,null,null,null,null,"印"]
[]
[]
[null,"作業所長名",null,null,{"$f":"VLOOKUP(E14,基本情報_工事名称マスタ,3,FALSE)","v":"××次郎"},null,null,null,null,null,null,null,null,null,null,null,null,null,null,null,null,null,null,null,null,null,null,null,null,null,null,null,null,null,null,null,null,null,null,null,null,null,null,null,null,null,null,null,null,null,null,null,null,null,null,null,null,"作業所長名",null,null,{"$f":"VLOOKUP(BI14,基本情報_工事名称マスタ,3,FALSE)","v":"××次郎"}]
[]
[null,null,null,null,null,null,null,null,null,null,null,null,null,null,null,null,null,null,null,null,null,null,null,null,null,null,null,null,{"$f":"基本情報_電話番号","v":"0234 - 00 - 0000"},null,null,null,null,null,null,null,null,null,null,null,null,null,null,null,null,null,null,null,null,null,null,null,null,null,null,null,null,null,null,null,null,null,null,null,null,null,null,null,null,null,null,null,null,null,null,null,null,null,null,null,null,null,null,null,{"$f":"基本情報_電話番号","v":"0234 - 00 - 0000"}]
[]
[]
[]
[]
[null,"通番","納入年月日",null,null,"品　名　・　規　格",null,null,null,"数　　　　量",null,null,null,null,null,null,null,null,null,null,null,"単 位","単　　　　価",null,null,null,null,null,null,null,null,null,null,null,"金　　　額",null,null,null,null,null,null,null,null,"備　考",null,null,null,null,null,null,null,null,null,null,null,null,null,"通番","納入年月日",null,null,"品　名　・　規　格",null,null,null,"数　　　　量",null,null,null,null,null,null,null,null,null,null,null,"単 位","単　　　　価",null,null,null,null,null,null,null,null,null,null,null,"金　　　額",null,null,null,null,null,null,null,null,"備　考",null,null,null,null,null,null,null,null,null,null,null,null,"ヒット","ランク","-","通番","数量","単価","金額"]
[null,1,{"$f":"IF(ISNA($DL28),\"\",VLOOKUP($DL28,請求明細,3,FALSE))","v":"2008-07-25"},null,null,{"$f":"IF(ISNA($DL28),\"\",VLOOKUP($DL28,請求明細,4,FALSE))","v":"○○材料"},null,null,null,{"$f":"IF(ISNA($DL28),\"\",getNumKeta0($DM28,9))","v":""},{"$f":"IF(ISNA($DL28),\"\",getNumKeta0($DM28,8))","v":""},{"$f":"IF(ISNA($DL28),\"\",getNumKeta0($DM28,7))","v":""},{"$f":"IF(ISNA($DL28),\"\",getNumKeta0($DM28,6))","v":""},{"$f":"IF(ISNA($DL28),\"\",getNumKeta0($DM28,5))","v":""},{"$f":"IF(ISNA($DL28),\"\",getNumKeta0($DM28,4))","v":""},{"$f":"IF(ISNA($DL28),\"\",getNumKeta0($DM28,3))","v":""},{"$f":"IF(ISNA($DL28),\"\",getNumKeta0($DM28,2))","v":"5"},{"$f":"IF(ISNA($DL28),\"\",getNumKeta0($DM28,1))","v":"0"},{"$f":"IF(ISNA($DL28),\"\",getNumKeta0($DM28,-1))","v":"0"},{"$f":"IF(ISNA($DL28),\"\",getNumKeta0($DM28,-2))","v":"0"},{"$f":"IF(ISNA($DL28),\"\",getNumKeta0($DM28,-3))","v":""},{"$f":"IF(ISNA($DL28),\"\",VLOOKUP($DL28,請求明細,6,FALSE))","v":"個"},{"$f":"IF(ISNA($DL28),\"\",getNumKeta0($DN28,9))","v":""},{"$f":"IF(ISNA($DL28),\"\",getNumKeta0($DN28,8))","v":""},{"$f":"IF(ISNA($DL28),\"\",getNumKeta0($DN28,7))","v":""},{"$f":"IF(ISNA($DL28),\"\",getNumKeta0($DN28,6))","v":""},{"$f":"IF(ISNA($DL28),\"\",getNumKeta0($DN28,5))","v":""},{"$f":"IF(ISNA($DL28),\"\",getNumKeta0($DN28,4))","v":"5"},{"$f":"IF(ISNA($DL28),\"\",getNumKeta0($DN28,3))","v":"0"},{"$f":"IF(ISNA($DL28),\"\",getNumKeta0($DN28,2))","v":"0"},{"$f":"IF(ISNA($DL28),\"\",getNumKeta0($DN28,1))","v":"0"},{"$f":"IF(ISNA($DL28),\"\",getNumKeta0($DN28,-1))","v":"0"},{"$f":"IF(ISNA($DL28),\"\",getNumKeta0($DN28,-2))","v":"0"},{"$f":"IF(ISNA($DL28),\"\",getNumKeta0($DN28,-3))","v":""},{"$f":"IF(ISNA($DL28),\"\",getNumKeta0($DO28,9))","v":""},{"$f":"IF(ISNA($DL28),\"\",getNumKeta0($DO28,8))","v":""},{"$f":"IF(ISNA($DL28),\"\",getNumKeta0($DO28,7))","v":""},{"$f":"IF(ISNA($DL28),\"\",getNumKeta0($DO28,6))","v":"2"},{"$f":"IF(ISNA($DL28),\"\",getNumKeta0($DO28,5))","v":"5"},{"$f":"IF(ISNA($DL28),\"\",getNumKeta0($DO28,4))","v":"0"},{"$f":"IF(ISNA($DL28),\"\",getNumKeta0($DO28,3))","v":"0"},{"$f":"IF(ISNA($DL28),\"\",getNumKeta0($DO28,2))","v":"0"},{"$f":"IF(ISNA($DL28),\"\",getNumKeta0($DO28,1))","v":"0"},{"$f":"IF(ISNA($DL28),\"\",LEFT(VLOOKUP($DL28,請求明細,10,FALSE),16))","v":""},null,null,null,null,null,null,null,null,null,null,null,null,null,1,{"$f":"IF(ISNA($DL28),\"\",VLOOKUP($DL28,請求明細,3,FALSE))","v":"2008-07-25"},null,null,{"$f":"IF(ISNA($DL28),\"\",VLOOKUP($DL28,請求明細,4,FALSE))","v":"○○材料"},null,null,null,{"$f":"IF(ISNA($DL28),\"\",getNumKeta0($DM28,9))","v":""},{"$f":"IF(ISNA($DL28),\"\",getNumKeta0($DM28,8))","v":""},{"$f":"IF(ISNA($DL28),\"\",getNumKeta0($DM28,7))","v":""},{"$f":"IF(ISNA($DL28),\"\",getNumKeta0($DM28,6))","v":""},{"$f":"IF(ISNA($DL28),\"\",getNumKeta0($DM28,5))","v":""},{"$f":"IF(ISNA($DL28),\"\",getNumKeta0($DM28,4))","v":""},{"$f":"IF(ISNA($DL28),\"\",getNumKeta0($DM28,3))","v":""},{"$f":"IF(ISNA($DL28),\"\",getNumKeta0($DM28,2))","v":"5"},{"$f":"IF(ISNA($DL28),\"\",getNumKeta0($DM28,1))","v":"0"},{"$f":"IF(ISNA($DL28),\"\",getNumKeta0($DM28,-1))","v":"0"},{"$f":"IF(ISNA($DL28),\"\",getNumKeta0($DM28,-2))","v":"0"},{"$f":"IF(ISNA($DL28),\"\",getNumKeta0($DM28,-3))","v":""},{"$f":"IF(ISNA($DL28),\"\",VLOOKUP($DL28,請求明細,6,FALSE))","v":"個"},{"$f":"IF(ISNA($DL28),\"\",getNumKeta0($DN28,9))","v":""},{"$f":"IF(ISNA($DL28),\"\",getNumKeta0($DN28,8))","v":""},{"$f":"IF(ISNA($DL28),\"\",getNumKeta0($DN28,7))","v":""},{"$f":"IF(ISNA($DL28),\"\",getNumKeta0($DN28,6))","v":""},{"$f":"IF(ISNA($DL28),\"\",getNumKeta0($DN28,5))","v":""},{"$f":"IF(ISNA($DL28),\"\",getNumKeta0($DN28,4))","v":"5"},{"$f":"IF(ISNA($DL28),\"\",getNumKeta0($DN28,3))","v":"0"},{"$f":"IF(ISNA($DL28),\"\",getNumKeta0($DN28,2))","v":"0"},{"$f":"IF(ISNA($DL28),\"\",getNumKeta0($DN28,1))","v":"0"},{"$f":"IF(ISNA($DL28),\"\",getNumKeta0($DN28,-1))","v":"0"},{"$f":"IF(ISNA($DL28),\"\",getNumKeta0($DN28,-2))","v":"0"},{"$f":"IF(ISNA($DL28),\"\",getNumKeta0($DN28,-3))","v":""},{"$f":"IF(ISNA($DL28),\"\",getNumKeta0($DO28,9))","v":""},{"$f":"IF(ISNA($DL28),\"\",getNumKeta0($DO28,8))","v":""},{"$f":"IF(ISNA($DL28),\"\",getNumKeta0($DO28,7))","v":""},{"$f":"IF(ISNA($DL28),\"\",getNumKeta0($DO28,6))","v":"2"},{"$f":"IF(ISNA($DL28),\"\",getNumKeta0($DO28,5))","v":"5"},{"$f":"IF(ISNA($DL28),\"\",getNumKeta0($DO28,4))","v":"0"},{"$f":"IF(ISNA($DL28),\"\",getNumKeta0($DO28,3))","v":"0"},{"$f":"IF(ISNA($DL28),\"\",getNumKeta0($DO28,2))","v":"0"},{"$f":"IF(ISNA($DL28),\"\",getNumKeta0($DO28,1))","v":"0"},{"$f":"IF(ISNA($DL28),\"\",LEFT(VLOOKUP($DL28,請求明細,10,FALSE),16))","v":""},null,null,null,null,null,null,null,null,null,null,null,null,{"$f":"IF($E$14=OFFSET(明細情報!$B$5, $DK28-1,0),1,0)","v":0},{"$f":"IF($DI28=0, 0, SUM($DI$28:$DI28))","v":0},1,{"$f":"VLOOKUP(DK28,$DJ$28:$DK$65536,2,FALSE)","v":2},{"$f":"IF(ISNA($DL28),0,VLOOKUP($DL28,請求明細,5,FALSE))","v":50},{"$f":"IF(ISNA($DL28),0,VLOOKUP($DL28,請求明細,7,FALSE))","v":5000},{"$f":"IF(ISNA($DL28),0,VLOOKUP($DL28,請求明細,9,FALSE))","v":250000}]
[null,{"$f":"B28+1","v":2},"2008-07-31",null,null,"労務費",null,null,null,"","","","","","","","2","5","0","0","","人","","","","","1","0","0","0","0","0","0","","","","","2","5","0","0","0","0","",null,null,null,null,null,null,null,null,null,null,null,null,null,{"$f":"BF28+1","v":2},"2008-07-31",null,null,"労務費",null,null,null,"","","","","","","","2","5","0","0","","人","","","","","1","0","0","0","0","0","0","","","","","2","5","0","0","0","0","",null,null,null,null,null,null,null,null,null,null,null,null,{"$f":"IF($E$14=OFFSET(明細情報!$B$5, $DK29-1,0),1,0)","v":1},{"$f":"IF($DI29=0, 0, SUM($DI$28:$DI29))","v":1},{"$f":"DK28+1","v":2},{"$f":"VLOOKUP(B29,$DJ$28:$DK$65536,2,FALSE)","v":3},25,10000,250000]
[null,3,"",null,null,"",null,null,null,"","","","","","","","","","","","","","","","","","","","","","","","","","","","","","","","","","","",null,null,null,null,null,null,null,null,null,null,null,null,null,3,"",null,null,"",null,null,null,"","","","","","","","","","","","","","","","","","","","","","","","","","","","","","","","","","","",null,null,null,null,null,null,null,null,null,null,null,null,{"$f":"IF($E$14=OFFSET(明細情報!$B$5, $DK30-1,0),1,0)","v":1},{"$f":"IF($DI30=0, 0, SUM($DI$28:$DI30))","v":2},3,{"$error":"#N/A"},0,0,0]
[null,4,"",null,null,"",null,null,null,"","","","","","","","","","","","","","","","","","","","","","","","","","","","","","","","","","","",null,null,null,null,null,null,null,null,null,null,null,null,null,4,"",null,null,"",null,null,null,"","","","","","","","","","","","","","","","","","","","","","","","","","","","","","","","","","","",null,null,null,null,null,null,null,null,null,null,null,null,{"$f":"IF($E$14=OFFSET(明細情報!$B$5, $DK31-1,0),1,0)","v":0},{"$f":"IF($DI31=0, 0, SUM($DI$28:$DI31))","v":0},4,{"$error":"#N/A"},0,0,0]
[null,5,"",null,null,"",null,null,null,"","","","","","","","","","","","","","","","","","","","","","","","","","","","","","","","","","","",null,null,null,null,null,null,null,null,null,null,null,null,null,5,"",null,null,"",null,null,null,"","","","","","","","","","","","","","","","","","","","","","","","","","","","","","","","","","","",null,null,null,null,null,null,null,null,null,null,null,null,{"$f":"IF($E$14=OFFSET(明細情報!$B$5, $DK32-1,0),1,0)","v":0},{"$f":"IF($DI32=0, 0, SUM($DI$28:$DI32))","v":0},5,{"$error":"#N/A"},0,0,0]
[null,6,"",null,null,"",null,null,null,"","","","","","","","","","","","","","","","","","","","","","","","","","","","","","","","","","","",null,null,null,null,null,null,null,null,null,null,null,null,null,6,"",null,null,"",null,null,null,"","","","","","","","","","","","","","","","","","","","","","","","","","","","","","","","","","","",null,null,null,null,null,null,null,null,null,null,null,null,{"$f":"IF($E$14=OFFSET(明細情報!$B$5, $DK33-1,0),1,0)","v":0},{"$f":"IF($DI33=0, 0, SUM($DI$28:$DI33))","v":0},6,{"$error":"#N/A"},0,0,0]
[null,7,"",null,null,"",null,null,null,"","","","","","","","","","","","","","","","","","","","","","","","","","","","","","","","","","","",null,null,null,null,null,null,null,null,null,null,null,null,null,7,"",null,null,"",null,null,null,"","","","","","","","","","","","","","","","","","","","","","","","","","","","","","","","","","","",null,null,null,null,null,null,null,null,null,null,null,null,{"$f":"IF($E$14=OFFSET(明細情報!$B$5, $DK34-1,0),1,0)","v":0},{"$f":"IF($DI34=0, 0, SUM($DI$28:$DI34))","v":0},7,{"$error":"#N/A"},0,0,0]
[null,8,"",null,null,"",null,null,null,"","","","","","","","","","","","","","","","","","","","","","","","","","","","","","","","","","","",null,null,null,null,null,null,null,null,null,null,null,null,null,8,"",null,null,"",null,null,null,"","","","","","","","","","","","","","","","","","","","","","","","","","","","","","","","","","","",null,null,null,null,null,null,null,null,null,null,null,null,{"$f":"IF($E$14=OFFSET(明細情報!$B$5, $DK35-1,0),1,0)","v":0},{"$f":"IF($DI35=0, 0, SUM($DI$28:$DI35))","v":0},8,{"$error":"#N/A"},0,0,0]
[null,9,"",null,null,"",null,null,null,"","","","","","","","","","","","","","","","","","","","","","","","","","","","","","","","","","","",null,null,null,null,null,null,null,null,null,null,null,null,null,9,"",null,null,"",null,null,null,"","","","","","","","","","","","","","","","","","","","","","","","","","","","","","","","","","","",null,null,null,null,null,null,null,null,null,null,null,null,{"$f":"IF($E$14=OFFSET(明細情報!$B$5, $DK36-1,0),1,0)","v":0},{"$f":"IF($DI36=0, 0, SUM($DI$28:$DI36))","v":0},9,{"$error":"#N/A"},0,0,0]
[null,10,"",null,null,"",null,null,null,"","","","","","","","","","","","","","","","","","","","","","","","","","","","","","","","","","","",null,null,null,null,null,null,null,null,null,null,null,null,null,10,"",null,null,"",null,null,null,"","","","","","","","","","","","","","","","","","","","","","","","","","","","","","","","","","","",null,null,null,null,null,null,null,null,null,null,null,null,{"$f":"IF($E$14=OFFSET(明細情報!$B$5, $DK37-1,0),1,0)","v":0},{"$f":"IF($DI37=0, 0, SUM($DI$28:$DI37))","v":0},10,{"$error":"#N/A"},0,0,0]
[null,11,"",null,null,"",null,null,null,"","","","","","","","","","","","","","","","","","","","","","","","","","","","","","","","","","","",null,null,null,null,null,null,null,null,null,null,null,null,null,11,"",null,null,"",null,null,null,"","","","","","","","","","","","","","","","","","","","","","","","","","","","","","","","","","","",null,null,null,null,null,null,null,null,null,null,null,null,{"$f":"IF($E$14=OFFSET(明細情報!$B$5, $DK38-1,0),1,0)","v":0},{"$f":"IF($DI38=0, 0, SUM($DI$28:$DI38))","v":0},11,{"$error":"#N/A"},0,0,0]
[null,12,"",null,null,"",null,null,null,"","","","","","","","","","","","","","","","","","","","","","","","","","","","","","","","","","","",null,null,null,null,null,null,null,null,null,null,null,null,null,12,"",null,null,"",null,null,null,"","","","","","","","","","","","","","","","","","","","","","","","","","","","","","","","","","","",null,null,null,null,null,null,null,null,null,null,null,null,{"$f":"IF($E$14=OFFSET(明細情報!$B$5, $DK39-1,0),1,0)","v":0},{"$f":"IF($DI39=0, 0, SUM($DI$28:$DI39))","v":0},12,{"$error":"#N/A"},0,0,0]
[null,13,"",null,null,"",null,null,null,"","","","","","","","","","","","","","","","","","","","","","","","","","","","","","","","","","","",null,null,null,null,null,null,null,null,null,null,null,null,null,13,"",null,null,"",null,null,null,"","","","","","","","","","","","","","","","","","","","","","","","","","","","","","","","","","","",null,null,null,null,null,null,null,null,null,null,null,null,{"$f":"IF($E$14=OFFSET(明細情報!$B$5, $DK40-1,0),1,0)","v":0},{"$f":"IF($DI40=0, 0, SUM($DI$28:$DI40))","v":0},13,{"$error":"#N/A"},0,0,0]
[null,14,"",null,null,"",null,null,null,"","","","","","","","","","","","","","","","","","","","","","","","","","","","","","","","","","","",null,null,null,null,null,null,null,null,null,null,null,null,null,14,"",null,null,"",null,null,null,"","","","","","","","","","","","","","","","","","","","","","","","","","","","","","","","","","","",null,null,null,null,null,null,null,null,null,null,null,null,{"$f":"IF($E$14=OFFSET(明細情報!$B$5, $DK41-1,0),1,0)","v":0},{"$f":"IF($DI41=0, 0, SUM($DI$28:$DI41))","v":0},14,{"$error":"#N/A"},0,0,0]
[null,15,"",null,null,"",null,null,null,"","","","","","","","","","","","","","","","","","","","","","","","","","","","","","","","","","","",null,null,null,null,null,null,null,null,null,null,null,null,null,15,"",null,null,"",null,null,null,"","","","","","","","","","","","","","","","","","","","","","","","","","","","","","","","","","","",null,null,null,null,null,null,null,null,null,null,null,null,{"$f":"IF($E$14=OFFSET(明細情報!$B$5, $DK42-1,0),1,0)","v":0},{"$f":"IF($DI42=0, 0, SUM($DI$28:$DI42))","v":0},15,{"$error":"#N/A"},0,0,0]
[null,null,null,null,null,null,null,null,null,null,null,null,null,null,null,null,null,null,null,null,null,null,"　　小　　　　　　計",null,null,null,null,null,null,null,null,null,null,null,{"$f":"getNumKeta0($DP43,9)","v":""},{"$f":"getNumKeta0($DP43,8)","v":""},{"$f":"getNumKeta0($DP43,7)","v":""},{"$f":"getNumKeta0($DP43,6)","v":"5"},{"$f":"getNumKeta0($DP43,5)","v":"0"},{"$f":"getNumKeta0($DP43,4)","v":"0"},{"$f":"getNumKeta0($DP43,3)","v":"0"},{"$f":"getNumKeta0($DP43,2)","v":"0"},{"$f":"getNumKeta0($DP43,1)","v":"0"},"Ａ",{"$f":"IF($DQ43=0,\"\", $DQ43)","v":500000},null,null,null,null,null,null,null,null,{"$f":"IF($DP43<>$DQ43,\"*\",\"\")","v":""},null,null,null,null,null,null,null,null,null,null,null,null,null,null,null,null,null,null,null,null,null,null,null,null,"　　小　　　　　　計",null,null,null,null,null,null,null,null,null,null,null,{"$f":"getNumKeta0($DP43,9)","v":""},{"$f":"getNumKeta0($DP43,8)","v":""},{"$f":"getNumKeta0($DP43,7)","v":""},{"$f":"getNumKeta0($DP43,6)","v":"5"},{"$f":"getNumKeta0($DP43,5)","v":"0"},{"$f":"getNumKeta0($DP43,4)","v":"0"},{"$f":"getNumKeta0($DP43,3)","v":"0"},{"$f":"getNumKeta0($DP43,2)","v":"0"},{"$f":"getNumKeta0($DP43,1)","v":"0"},"Ａ",{"$f":"IF($DQ43=0,\"\", $DQ43)","v":500000},null,null,null,null,null,null,null,null,{"$f":"IF($DP43<>$DQ43,\"*\",\"\")","v":""},null,null,null,null,null,null,null,null,null,{"$f":"IF($DK42/15=ROUNDUP(MAX($DJ:$DJ)/15,0),VLOOKUP($E$14,基本情報_工事名称マスタ,4,FALSE)+VLOOKUP($E$14,基本情報_工事名称マスタ,5,FALSE),0)","v":500000},{"$f":"IF($DK42/15=ROUNDUP(MAX($DJ:$DJ)/15,0),DQ45-DQ44,0)","v":500000}]
[null,null,null,null,null,null,null,null,null,null,null,null,null,null,null,null,null,null,null,null,null,null,"　消　費　税",null,null,null,null,null,null,null,{"$f":"基本情報_消費税率","v":0.1},null,null,null,{"$f":"getNumKeta0($DP44,9)","v":""},{"$f":"getNumKeta0($DP44,8)","v":""},{"$f":"getNumKeta0($DP44,7)","v":""},{"$f":"getNumKeta0($DP44,6)","v":""},{"$f":"getNumKeta0($DP44,5)","v":"5"},{"$f":"getNumKeta0($DP44,4)","v":"0"},{"$f":"getNumKeta0($DP44,3)","v":"0"},{"$f":"getNumKeta0($DP44,2)","v":"0"},{"$f":"getNumKeta0($DP44,1)","v":"0"},"Ｂ",{"$f":"IF($DQ44=0,\"\", $DQ44)","v":50000},null,null,null,null,null,null,null,null,null,null,null,null,null,null,null,null,null,null,null,null,null,null,null,null,null,null,null,null,null,null,null,null,null,"　消　費　税",null,null,null,null,null,null,null,{"$f":"基本情報_消費税率","v":0.1},null,null,null,{"$f":"getNumKeta0($DP44,9)","v":""},{"$f":"getNumKeta0($DP44,8)","v":""},{"$f":"getNumKeta0($DP44,7)","v":""},{"$f":"getNumKeta0($DP44,6)","v":""},{"$f":"getNumKeta0($DP44,5)","v":"5"},{"$f":"getNumKeta0($DP44,4)","v":"0"},{"$f":"getNumKeta0($DP44,3)","v":"0"},{"$f":"getNumKeta0($DP44,2)","v":"0"},{"$f":"getNumKeta0($DP44,1)","v":"0"},"Ｂ",{"$f":"IF($DQ44=0,\"\", $DQ44)","v":50000},null,null,null,null,null,null,null,null,null,null,null,null,null,null,null,null,null,null,{"$f":"IF($DK42/15=ROUNDUP(MAX($DJ:$DJ)/15,0),VLOOKUP($E$14,基本情報_工事名称マスタ,6,FALSE),0)","v":50000},{"$f":"IF($DK42/15=ROUNDUP(MAX($DJ:$DJ)/15,0),ROUND((DQ45-VLOOKUP($E$14,基本情報_工事名称マスタ,5,FALSE))/(基本情報_消費税率*100+100)*(基本情報_消費税率*100),0),0)","v":50000}]
[null,null,null,null,null,null,null,null,null,null,null,null,null,null,null,null,null,null,null,null,null,null,"　　合　　　　　　計",null,null,null,null,null,null,null,null,null,null,null,{"$f":"getNumKeta0($DP45,9)","v":""},{"$f":"getNumKeta0($DP45,8)","v":""},{"$f":"getNumKeta0($DP45,7)","v":""},{"$f":"getNumKeta0($DP45,6)","v":"5"},{"$f":"getNumKeta0($DP45,5)","v":"5"},{"$f":"getNumKeta0($DP45,4)","v":"0"},{"$f":"getNumKeta0($DP45,3)","v":"0"},{"$f":"getNumKeta0($DP45,2)","v":"0"},{"$f":"getNumKeta0($DP45,1)","v":"0"},"Ｃ",{"$f":"IF($DQ45=0,\"\", $DQ45)","v":550000},null,null,null,null,null,null,null,null,null,null,null,null,null,null,null,null,null,null,null,null,null,null,null,null,null,null,null,null,null,null,null,null,null,"　　合　　　　　　計",null,null,null,null,null,null,null,null,null,null,null,{"$f":"getNumKeta0($DP45,9)","v":""},{"$f":"getNumKeta0($DP45,8)","v":""},{"$f":"getNumKeta0($DP45,7)","v":""},{"$f":"getNumKeta0($DP45,6)","v":"5"},{"$f":"getNumKeta0($DP45,5)","v":"5"},{"$f":"getNumKeta0($DP45,4)","v":"0"},{"$f":"getNumKeta0($DP45,3)","v":"0"},{"$f":"getNumKeta0($DP45,2)","v":"0"},{"$f":"getNumKeta0($DP45,1)","v":"0"},"Ｃ",{"$f":"IF($DQ45=0,\"\", $DQ45)","v":550000},null,null,null,null,null,null,null,null,null,null,null,null,null,null,null,null,null,null,{"$f":"IF($DK42/15=ROUNDUP(MAX($DJ:$DJ)/15,0),VLOOKUP($E$14,基本情報_工事名称マスタ,7,FALSE),0)","v":550000},{"$f":"DP45","v":550000}]
[null,null,null,null,null,null,null,null,null,null,null,null,null,null,null,null,null,null,null,null,null,null,"貴社→請求書(添付)→経理(控)",null,null,null,null,null,null,null,null,null,null,null,null,null,null,null,null,null,null,null,null,null,null,null,null,null,null,null,null,null,null,null,null,null,null,null,null,null,null,null,null,null,null,null,null,null,null,null,null,null,null,null,null,null,null,null,"貴社→請求書(添付)→経理→作業所長(控)"]
[]
[null,null,null,null,null,null,null,null,null,null,null,null,null,null,null,null,null,null,null,null,null,null,null,null,null,null,null,null,null,null,null,null,null,null,null,null,null,null,null,null,null,null,null,null,{"$f":"\"P \" & B89/15 & \"/\" & ROUNDUP(COUNTIF(請求明細_工事場所, E61)/15,0)","v":"P 2/1"},null,null,null,null,null,null,null,null,null,null,null,null,null,null,null,null,null,null,null,null,null,null,null,null,null,null,null,null,null,null,null,null,null,null,null,null,null,null,null,null,null,null,null,null,null,null,null,null,null,null,null,null,null,null,null,{"$f":"\"P \" & BF89/15 & \"/\" & ROUNDUP(COUNTIF(請求明細_工事場所, BI61)/15,0)","v":"P 2/1"}]
[null,null,null,"請求明細書（一般）",null,null,null,null,null,null,null,null,null,null,null,null,null,null,null,null,null,null,null,null,null,"取引先",null,null,{"$f":"基本情報_取引先コード","v":999999},null,null,null,null,null,null,null,null,null,"締\n日",null,null,{"$f":"基本情報_請求締日","v":"2020-07-31"},null,null,null,null,null,null,null,null,null,null,null,null,null,null,null,null,null,"請求明細書（一般）",null,null,null,null,null,null,null,null,null,null,null,null,null,null,null,null,null,null,null,null,null,"取引先",null,null,{"$f":"基本情報_取引先コード","v":999999},null,null,null,null,null,null,null,null,null,"締\n日",null,null,{"$f":"基本情報_請求締日","v":"2020-07-31"}]
[null,null,null,null,null,null,null,null,null,"提出用",null,null,null,null,null,null,null,null,null,null,null,null,null,null,null,null,null,null,null,null,null,null,null,null,null,null,null,null,null,null,null,null,null,null,null,null,null,null,null,null,null,null,null,null,null,null,null,null,null,null,null,null,null,null,null,"提出用"]
[]
[null,null,null,null,null,null,null,null,null,null,null,null,null,null,null,null,null,null,null,null,null,null,null,null,null,"コード",null,null,null,null,null,null,null,null,null,null,null,null,null,null,null,null,null,null,null,null,null,null,null,null,null,null,null,null,null,null,null,null,null,null,null,null,null,null,null,null,null,null,null,null,null,null,null,null,null,null,null,null,null,null,null,"コード"]
[]
[]
[null,"丸高・みなと特定建設工事共同企業体　御中",null,null,null,null,null,null,null,null,null,null,null,null,null,null,null,null,null,null,null,null,null,null,null,"（住所・社名・電話）",null,null,null,null,null,null,null,null,null,null,null,null,null,null,null,null,null,null,null,null,null,null,null,null,null,null,null,null,null,null,null,"丸高・みなと特定建設工事共同企業体　御中",null,null,null,null,null,null,null,null,null,null,null,null,null,null,null,null,null,null,null,null,null,null,null,"（住所・社名・電話）"]
[]
[]
[]
[null,null,null,null,null,null,null,null,null,null,null,null,null,null,null,null,null,null,null,null,null,null,null,null,null,null,null,null,{"$f":"基本情報_住所","v":"酒田市○○○○１－１"},null,null,null,null,null,null,null,null,null,null,null,null,null,null,null,null,null,null,null,null,null,null,null,null,null,null,null,null,null,null,null,null,null,null,null,null,null,null,null,null,null,null,null,null,null,null,null,null,null,null,null,null,null,null,null,{"$f":"基本情報_住所","v":"酒田市○○○○１－１"}]
[]
[null,"工　事　名",null,null,{"$f":"$E$14","v":"×××××工事"},null,null,null,null,null,null,null,null,null,null,"承　　認",null,null,null,null,null,"検　　印",null,null,null,null,null,null,null,null,null,null,null,null,null,null,null,null,null,null,null,null,null,null,null,null,null,null,null,null,null,null,null,null,null,null,null,"工　事　名",null,null,{"$f":"$E$14","v":"×××××工事"},null,null,null,null,null,null,null,null,null,null,"承　　認",null,null,null,null,null,"検　　印"]
[]
[]
[null,null,null,null,null,null,null,null,null,null,null,null,null,null,null,null,null,null,null,null,null,null,null,null,null,null,null,null,{"$f":"基本情報_社名","v":"(株）○○建設"},null,null,null,null,null,null,null,null,null,null,null,null,null,null,null,null,null,null,null,null,null,"印",null,null,null,null,null,null,null,null,null,null,null,null,null,null,null,null,null,null,null,null,null,null,null,null,null,null,null,null,null,null,null,null,null,{"$f":"基本情報_社名","v":"(株）○○建設"},null,null,null,null,null,null,null,null,null,null,null,null,null,null,null,null,null,null,null,null,null,"印"]
[]
[]
[null,"作業所長名",null,null,{"$f":"VLOOKUP(E61,基本情報_工事名称マスタ,3,FALSE)","v":"××次郎"},null,null,null,null,null,null,null,null,null,null,null,null,null,null,null,null,null,null,null,null,null,null,null,null,null,null,null,null,null,null,null,null,null,null,null,null,null,null,null,null,null,null,null,null,null,null,null,null,null,null,null,null,"作業所長名",null,null,{"$f":"VLOOKUP(BI61,基本情報_工事名称マスタ,3,FALSE)","v":"××次郎"}]
[]
[null,null,null,null,null,null,null,null,null,null,null,null,null,null,null,null,null,null,null,null,null,null,null,null,null,null,null,null,{"$f":"基本情報_電話番号","v":"0234 - 00 - 0000"},null,null,null,null,null,null,null,null,null,null,null,null,null,null,null,null,null,null,null,null,null,null,null,null,null,null,null,null,null,null,null,null,null,null,null,null,null,null,null,null,null,null,null,null,null,null,null,null,null,null,null,null,null,null,null,{"$f":"基本情報_電話番号","v":"0234 - 00 - 0000"}]
[]
[]
[]
[]
[null,"通番","納入年月日",null,null,"品　名　・　規　格",null,null,null,"数　　　　量",null,null,null,null,null,null,null,null,null,null,null,"単 位","単　　　　価",null,null,null,null,null,null,null,null,null,null,null,"金　　　額",null,null,null,null,null,null,null,null,"備　考",null,null,null,null,null,null,null,null,null,null,null,null,null,"通番","納入年月日",null,null,"品　名　・　規　格",null,null,null,"数　　　　量",null,null,null,null,null,null,null,null,null,null,null,"単 位","単　　　　価",null,null,null,null,null,null,null,null,null,null,null,"金　　　額",null,null,null,null,null,null,null,null,"備　考",null,null,null,null,null,null,null,null,null,null,null,null,"ヒット","ランク","-","通番","数量","単価","金額"]
[null,{"$f":"B42+1","v":16},{"$f":"IF(ISNA($DL75),\"\",VLOOKUP($DL75,請求明細,3,FALSE))","v":""},null,null,{"$f":"IF(ISNA($DL75),\"\",VLOOKUP($DL75,請求明細,4,FALSE))","v":""},null,null,null,{"$f":"IF(ISNA($DL75),\"\",getNumKeta0($DM75,9))","v":""},{"$f":"IF(ISNA($DL75),\"\",getNumKeta0($DM75,8))","v":""},{"$f":"IF(ISNA($DL75),\"\",getNumKeta0($DM75,7))","v":""},{"$f":"IF(ISNA($DL75),\"\",getNumKeta0($DM75,6))","v":""},{"$f":"IF(ISNA($DL75),\"\",getNumKeta0($DM75,5))","v":""},{"$f":"IF(ISNA($DL75),\"\",getNumKeta0($DM75,4))","v":""},{"$f":"IF(ISNA($DL75),\"\",getNumKeta0($DM75,3))","v":""},{"$f":"IF(ISNA($DL75),\"\",getNumKeta0($DM75,2))","v":""},{"$f":"IF(ISNA($DL75),\"\",getNumKeta0($DM75,1))","v":""},{"$f":"IF(ISNA($DL75),\"\",getNumKeta0($DM75,-1))","v":""},{"$f":"IF(ISNA($DL75),\"\",getNumKeta0($DM75,-2))","v":""},{"$f":"IF(ISNA($DL75),\"\",getNumKeta0($DM75,-3))","v":""},{"$f":"IF(ISNA($DL75),\"\",VLOOKUP($DL75,請求明細,6,FALSE))","v":""},{"$f":"IF(ISNA($DL75),\"\",getNumKeta0($DN75,9))","v":""},{"$f":"IF(ISNA($DL75),\"\",getNumKeta0($DN75,8))","v":""},{"$f":"IF(ISNA($DL75),\"\",getNumKeta0($DN75,7))","v":""},{"$f":"IF(ISNA($DL75),\"\",getNumKeta0($DN75,6))","v":""},{"$f":"IF(ISNA($DL75),\"\",getNumKeta0($DN75,5))","v":""},{"$f":"IF(ISNA($DL75),\"\",getNumKeta0($DN75,4))","v":""},{"$f":"IF(ISNA($DL75),\"\",getNumKeta0($DN75,3))","v":""},{"$f":"IF(ISNA($DL75),\"\",getNumKeta0($DN75,2))","v":""},{"$f":"IF(ISNA($DL75),\"\",getNumKeta0($DN75,1))","v":""},{"$f":"IF(ISNA($DL75),\"\",getNumKeta0($DN75,-1))","v":""},{"$f":"IF(ISNA($DL75),\"\",getNumKeta0($DN75,-2))","v":""},{"$f":"IF(ISNA($DL75),\"\",getNumKeta0($DN75,-3))","v":""},{"$f":"IF(ISNA($DL75),\"\",getNumKeta0($DO75,9))","v":""},{"$f":"IF(ISNA($DL75),\"\",getNumKeta0($DO75,8))","v":""},{"$f":"IF(ISNA($DL75),\"\",getNumKeta0($DO75,7))","v":""},{"$f":"IF(ISNA($DL75),\"\",getNumKeta0($DO75,6))","v":""},{"$f":"IF(ISNA($DL75),\"\",getNumKeta0($DO75,5))","v":""},{"$f":"IF(ISNA($DL75),\"\",getNumKeta0($DO75,4))","v":""},{"$f":"IF(ISNA($DL75),\"\",getNumKeta0($DO75,3))","v":""},{"$f":"IF(ISNA($DL75),\"\",getNumKeta0($DO75,2))","v":""},{"$f":"IF(ISNA($DL75),\"\",getNumKeta0($DO75,1))","v":""},{"$f":"IF(ISNA($DL75),\"\",LEFT(VLOOKUP($DL75,請求明細,10,FALSE),16))","v":""},null,null,null,null,null,null,null,null,null,null,null,null,null,{"$f":"BF42+1","v":16},{"$f":"IF(ISNA($DL75),\"\",VLOOKUP($DL75,請求明細,3,FALSE))","v":""},null,null,{"$f":"IF(ISNA($DL75),\"\",VLOOKUP($DL75,請求明細,4,FALSE))","v":""},null,null,null,{"$f":"IF(ISNA($DL75),\"\",getNumKeta0($DM75,9))","v":""},{"$f":"IF(ISNA($DL75),\"\",getNumKeta0($DM75,8))","v":""},{"$f":"IF(ISNA($DL75),\"\",getNumKeta0($DM75,7))","v":""},{"$f":"IF(ISNA($DL75),\"\",getNumKeta0($DM75,6))","v":""},{"$f":"IF(ISNA($DL75),\"\",getNumKeta0($DM75,5))","v":""},{"$f":"IF(ISNA($DL75),\"\",getNumKeta0($DM75,4))","v":""},{"$f":"IF(ISNA($DL75),\"\",getNumKeta0($DM75,3))","v":""},{"$f":"IF(ISNA($DL75),\"\",getNumKeta0($DM75,2))","v":""},{"$f":"IF(ISNA($DL75),\"\",getNumKeta0($DM75,1))","v":""},{"$f":"IF(ISNA($DL75),\"\",getNumKeta0($DM75,-1))","v":""},{"$f":"IF(ISNA($DL75),\"\",getNumKeta0($DM75,-2))","v":""},{"$f":"IF(ISNA($DL75),\"\",getNumKeta0($DM75,-3))","v":""},{"$f":"IF(ISNA($DL75),\"\",VLOOKUP($DL75,請求明細,6,FALSE))","v":""},{"$f":"IF(ISNA($DL75),\"\",getNumKeta0($DN75,9))","v":""},{"$f":"IF(ISNA($DL75),\"\",getNumKeta0($DN75,8))","v":""},{"$f":"IF(ISNA($DL75),\"\",getNumKeta0($DN75,7))","v":""},{"$f":"IF(ISNA($DL75),\"\",getNumKeta0($DN75,6))","v":""},{"$f":"IF(ISNA($DL75),\"\",getNumKeta0($DN75,5))","v":""},{"$f":"IF(ISNA($DL75),\"\",getNumKeta0($DN75,4))","v":""},{"$f":"IF(ISNA($DL75),\"\",getNumKeta0($DN75,3))","v":""},{"$f":"IF(ISNA($DL75),\"\",getNumKeta0($DN75,2))","v":""},{"$f":"IF(ISNA($DL75),\"\",getNumKeta0($DN75,1))","v":""},{"$f":"IF(ISNA($DL75),\"\",getNumKeta0($DN75,-1))","v":""},{"$f":"IF(ISNA($DL75),\"\",getNumKeta0($DN75,-2))","v":""},{"$f":"IF(ISNA($DL75),\"\",getNumKeta0($DN75,-3))","v":""},{"$f":"IF(ISNA($DL75),\"\",getNumKeta0($DO75,9))","v":""},{"$f":"IF(ISNA($DL75),\"\",getNumKeta0($DO75,8))","v":""},{"$f":"IF(ISNA($DL75),\"\",getNumKeta0($DO75,7))","v":""},{"$f":"IF(ISNA($DL75),\"\",getNumKeta0($DO75,6))","v":""},{"$f":"IF(ISNA($DL75),\"\",getNumKeta0($DO75,5))","v":""},{"$f":"IF(ISNA($DL75),\"\",getNumKeta0($DO75,4))","v":""},{"$f":"IF(ISNA($DL75),\"\",getNumKeta0($DO75,3))","v":""},{"$f":"IF(ISNA($DL75),\"\",getNumKeta0($DO75,2))","v":""},{"$f":"IF(ISNA($DL75),\"\",getNumKeta0($DO75,1))","v":""},{"$f":"IF(ISNA($DL75),\"\",LEFT(VLOOKUP($DL75,請求明細,10,FALSE),16))","v":""},null,null,null,null,null,null,null,null,null,null,null,null,{"$f":"IF($E$14=OFFSET(明細情報!$B$5, $DK75-1,0),1,0)","v":0},{"$f":"IF($DI75=0, 0, SUM($DI$28:$DI75))","v":0},{"$f":"DK42+1","v":16},{"$f":"VLOOKUP(B75,$DJ$28:$DK$65536,2,FALSE)","v":{"$error":"#N/A"}},{"$f":"IF(ISNA($DL75),0,VLOOKUP($DL75,請求明細,5,FALSE))","v":0},{"$f":"IF(ISNA($DL75),0,VLOOKUP($DL75,請求明細,7,FALSE))","v":0},{"$f":"IF(ISNA($DL75),0,VLOOKUP($DL75,請求明細,9,FALSE))","v":0}]
[null,{"$f":"B75+1","v":17},"",null,null,"",null,null,null,"","","","","","","","","","","","","","","","","","","","","","","","","","","","","","","","","","","",null,null,null,null,null,null,null,null,null,null,null,null,null,{"$f":"BF75+1","v":17},"",null,null,"",null,null,null,"","","","","","","","","","","","","","","","","","","","","","","","","","","","","","","","","","","",null,null,null,null,null,null,null,null,null,null,null,null,{"$f":"IF($E$14=OFFSET(明細情報!$B$5, $DK76-1,0),1,0)","v":0},{"$f":"IF($DI76=0, 0, SUM($DI$28:$DI76))","v":0},{"$f":"DK75+1","v":17},{"$error":"#N/A"},0,0,0]
[null,18,"",null,null,"",null,null,null,"","","","","","","","","","","","","","","","","","","","","","","","","","","","","","","","","","","",null,null,null,null,null,null,null,null,null,null,null,null,null,18,"",null,null,"",null,null,null,"","","","","","","","","","","","","","","","","","","","","","","","","","","","","","","","","","","",null,null,null,null,null,null,null,null,null,null,null,null,{"$f":"IF($E$14=OFFSET(明細情報!$B$5, $DK77-1,0),1,0)","v":0},{"$f":"IF($DI77=0, 0, SUM($DI$28:$DI77))","v":0},18,{"$error":"#N/A"},0,0,0]
[null,19,"",null,null,"",null,null,null,"","","","","","","","","","","","","","","","","","","","","","","","","","","","","","","","","","","",null,null,null,null,null,null,null,null,null,null,null,null,null,19,"",null,null,"",null,null,null,"","","","","","","","","","","","","","","","","","","","","","","","","","","","","","","","","","","",null,null,null,null,null,null,null,null,null,null,null,null,{"$f":"IF($E$14=OFFSET(明細情報!$B$5, $DK78-1,0),1,0)","v":0},{"$f":"IF($DI78=0, 0, SUM($DI$28:$DI78))","v":0},19,{"$error":"#N/A"},0,0,0]
[null,20,"",null,null,"",null,null,null,"","","","","","","","","","","","","","","","","","","","","","","","","","","","","","","","","","","",null,null,null,null,null,null,null,null,null,null,null,null,null,20,"",null,null,"",null,null,null,"","","","","","","","","","","","","","","","","","","","","","","","","","","","","","","","","","","",null,null,null,null,null,null,null,null,null,null,null,null,{"$f":"IF($E$14=OFFSET(明細情報!$B$5, $DK79-1,0),1,0)","v":0},{"$f":"IF($DI79=0, 0, SUM($DI$28:$DI79))","v":0},20,{"$error":"#N/A"},0,0,0]
[null,21,"",null,null,"",null,null,null,"","","","","","","","","","","","","","","","","","","","","","","","","","","","","","","","","","","",null,null,null,null,null,null,null,null,null,null,null,null,null,21,"",null,null,"",null,null,null,"","","","","","","","","","","","","","","","","","","","","","","","","","","","","","","","","","","",null,null,null,null,null,null,null,null,null,null,null,null,{"$f":"IF($E$14=OFFSET(明細情報!$B$5, $DK80-1,0),1,0)","v":0},{"$f":"IF($DI80=0, 0, SUM($DI$28:$DI80))","v":0},21,{"$error":"#N/A"},0,0,0]
[null,22,"",null,null,"",null,null,null,"","","","","","","","","","","","","","","","","","","","","","","","","","","","","","","","","","","",null,null,null,null,null,null,null,null,null,null,null,null,null,22,"",null,null,"",null,null,null,"","","","","","","","","","","","","","","","","","","","","","","","","","","","","","","","","","","",null,null,null,null,null,null,null,null,null,null,null,null,{"$f":"IF($E$14=OFFSET(明細情報!$B$5, $DK81-1,0),1,0)","v":0},{"$f":"IF($DI81=0, 0, SUM($DI$28:$DI81))","v":0},22,{"$error":"#N/A"},0,0,0]
[null,23,"",null,null,"",null,null,null,"","","","","","","","","","","","","","","","","","","","","","","","","","","","","","","","","","","",null,null,null,null,null,null,null,null,null,null,null,null,null,23,"",null,null,"",null,null,null,"","","","","","","","","","","","","","","","","","","","","","","","","","","","","","","","","","","",null,null,null,null,null,null,null,null,null,null,null,null,{"$f":"IF($E$14=OFFSET(明細情報!$B$5, $DK82-1,0),1,0)","v":0},{"$f":"IF($DI82=0, 0, SUM($DI$28:$DI82))","v":0},23,{"$error":"#N/A"},0,0,0]
[null,24,"",null,null,"",null,null,null,"","","","","","","","","","","","","","","","","","","","","","","","","","","","","","","","","","","",null,null,null,null,null,null,null,null,null,null,null,null,null,24,"",null,null,"",null,null,null,"","","","","","","","","","","","","","","","","","","","","","","","","","","","","","","","","","","",null,null,null,null,null,null,null,null,null,null,null,null,{"$f":"IF($E$14=OFFSET(明細情報!$B$5, $DK83-1,0),1,0)","v":0},{"$f":"IF($DI83=0, 0, SUM($DI$28:$DI83))","v":0},24,{"$error":"#N/A"},0,0,0]
[null,25,"",null,null,"",null,null,null,"","","","","","","","","","","","","","","","","","","","","","","","","","","","","","","","","","","",null,null,null,null,null,null,null,null,null,null,null,null,null,25,"",null,null,"",null,null,null,"","","","","","","","","","","","","","","","","","","","","","","","","","","","","","","","","","","",null,null,null,null,null,null,null,null,null,null,null,null,{"$f":"IF($E$14=OFFSET(明細情報!$B$5, $DK84-1,0),1,0)","v":0},{"$f":"IF($DI84=0, 0, SUM($DI$28:$DI84))","v":0},25,{"$error":"#N/A"},0,0,0]
[null,26,"",null,null,"",null,null,null,"","","","","","","","","","","","","","","","","","","","","","","","","","","","","","","","","","","",null,null,null,null,null,null,null,null,null,null,null,null,null,26,"",null,null,"",null,null,null,"","","","","","","","","","","","","","","","","","","","","","","","","","","","","","","","","","","",null,null,null,null,null,null,null,null,null,null,null,null,{"$f":"IF($E$14=OFFSET(明細情報!$B$5, $DK85-1,0),1,0)","v":0},{"$f":"IF($DI85=0, 0, SUM($DI$28:$DI85))","v":0},26,{"$error":"#N/A"},0,0,0]
[null,27,"",null,null,"",null,null,null,"","","","","","","","","","","","","","","","","","","","","","","","","","","","","","","","","","","",null,null,null,null,null,null,null,null,null,null,null,null,null,27,"",null,null,"",null,null,null,"","","","","","","","","","","","","","","","","","","","","","","","","","","","","","","","","","","",null,null,null,null,null,null,null,null,null,null,null,null,{"$f":"IF($E$14=OFFSET(明細情報!$B$5, $DK86-1,0),1,0)","v":0},{"$f":"IF($DI86=0, 0, SUM($DI$28:$DI86))","v":0},27,{"$error":"#N/A"},0,0,0]
[null,28,"",null,null,"",null,null,null,"","","","","","","","","","","","","","","","","","","","","","","","","","","","","","","","","","","",null,null,null,null,null,null,null,null,null,null,null,null,null,28,"",null,null,"",null,null,null,"","","","","","","","","","","","","","","","","","","","","","","","","","","","","","","","","","","",null,null,null,null,null,null,null,null,null,null,null,null,{"$f":"IF($E$14=OFFSET(明細情報!$B$5, $DK87-1,0),1,0)","v":0},{"$f":"IF($DI87=0, 0, SUM($DI$28:$DI87))","v":0},28,{"$error":"#N/A"},0,0,0]
[null,29,"",null,null,"",null,null,null,"","","","","","","","","","","","","","","","","","","","","","","","","","","","","","","","","","","",null,null,null,null,null,null,null,null,null,null,null,null,null,29,"",null,null,"",null,null,null,"","","","","","","","","","","","","","","","","","","","","","","","","","","","","","","","","","","",null,null,null,null,null,null,null,null,null,null,null,null,{"$f":"IF($E$14=OFFSET(明細情報!$B$5, $DK88-1,0),1,0)","v":0},{"$f":"IF($DI88=0, 0, SUM($DI$28:$DI88))","v":0},29,{"$error":"#N/A"},0,0,0]
[null,30,"",null,null,"",null,null,null,"","","","","","","","","","","","","","","","","","","","","","","","","","","","","","","","","","","",null,null,null,null,null,null,null,null,null,null,null,null,null,30,"",null,null,"",null,null,null,"","","","","","","","","","","","","","","","","","","","","","","","","","","","","","","","","","","",null,null,null,null,null,null,null,null,null,null,null,null,{"$f":"IF($E$14=OFFSET(明細情報!$B$5, $DK89-1,0),1,0)","v":0},{"$f":"IF($DI89=0, 0, SUM($DI$28:$DI89))","v":0},30,{"$error":"#N/A"},0,0,0]
[null,null,null,null,null,null,null,null,null,null,null,null,null,null,null,null,null,null,null,null,null,null,"　　小　　　　　　計",null,null,null,null,null,null,null,null,null,null,null,{"$f":"getNumKeta0($DP90,9)","v":""},{"$f":"getNumKeta0($DP90,8)","v":""},{"$f":"getNumKeta0($DP90,7)","v":""},{"$f":"getNumKeta0($DP90,6)","v":""},{"$f":"getNumKeta0($DP90,5)","v":""},{"$f":"getNumKeta0($DP90,4)","v":""},{"$f":"getNumKeta0($DP90,3)","v":""},{"$f":"getNumKeta0($DP90,2)","v":""},{"$f":"getNumKeta0($DP90,1)","v":""},"Ａ",{"$f":"IF($DQ90=0,\"\", $DQ90)","v":""},null,null,null,null,null,null,null,null,{"$f":"IF($DP90<>$DQ90,\"*\",\"\")","v":""},null,null,null,null,null,null,null,null,null,null,null,null,null,null,null,null,null,null,null,null,null,null,null,null,"　　小　　　　　　計",null,null,null,null,null,null,null,null,null,null,null,{"$f":"getNumKeta0($DP90,9)","v":""},{"$f":"getNumKeta0($DP90,8)","v":""},{"$f":"getNumKeta0($DP90,7)","v":""},{"$f":"getNumKeta0($DP90,6)","v":""},{"$f":"getNumKeta0($DP90,5)","v":""},{"$f":"getNumKeta0($DP90,4)","v":""},{"$f":"getNumKeta0($DP90,3)","v":""},{"$f":"getNumKeta0($DP90,2)","v":""},{"$f":"getNumKeta0($DP90,1)","v":""},"Ａ",{"$f":"IF($DQ90=0,\"\", $DQ90)","v":""},null,null,null,null,null,null,null,null,{"$f":"IF($DP90<>$DQ90,\"*\",\"\")","v":""},null,null,null,null,null,null,null,null,null,{"$f":"IF($DK89/15=ROUNDUP(MAX($DJ:$DJ)/15,0),VLOOKUP($E$14,基本情報_工事名称マスタ,4,FALSE)+VLOOKUP($E$14,基本情報_工事名称マスタ,5,FALSE),0)","v":0},{"$f":"IF($DK89/15=ROUNDUP(MAX($DJ:$DJ)/15,0),DQ92-DQ91,0)","v":0}]
[null,null,null,null,null,null,null,null,null,null,null,null,null,null,null,null,null,null,null,null,null,null,"　消　費　税",null,null,null,null,null,null,null,{"$f":"基本情報_消費税率","v":0.1},null,null,null,{"$f":"getNumKeta0($DP91,9)","v":""},{"$f":"getNumKeta0($DP91,8)","v":""},{"$f":"getNumKeta0($DP91,7)","v":""},{"$f":"getNumKeta0($DP91,6)","v":""},{"$f":"getNumKeta0($DP91,5)","v":""},{"$f":"getNumKeta0($DP91,4)","v":""},{"$f":"getNumKeta0($DP91,3)","v":""},{"$f":"getNumKeta0($DP91,2)","v":""},{"$f":"getNumKeta0($DP91,1)","v":""},"Ｂ",{"$f":"IF($DQ91=0,\"\", $DQ91)","v":""},null,null,null,null,null,null,null,null,null,null,null,null,null,null,null,null,null,null,null,null,null,null,null,null,null,null,null,null,null,null,null,null,null,"　消　費　税",null,null,null,null,null,null,null,{"$f":"基本情報_消費税率","v":0.1},null,null,null,{"$f":"getNumKeta0($DP91,9)","v":""},{"$f":"getNumKeta0($DP91,8)","v":""},{"$f":"getNumKeta0($DP91,7)","v":""},{"$f":"getNumKeta0($DP91,6)","v":""},{"$f":"getNumKeta0($DP91,5)","v":""},{"$f":"getNumKeta0($DP91,4)","v":""},{"$f":"getNumKeta0($DP91,3)","v":""},{"$f":"getNumKeta0($DP91,2)","v":""},{"$f":"getNumKeta0($DP91,1)","v":""},"Ｂ",{"$f":"IF($DQ91=0,\"\", $DQ91)","v":""},null,null,null,null,null,null,null,null,null,null,null,null,null,null,null,null,null,null,{"$f":"IF($DK89/15=ROUNDUP(MAX($DJ:$DJ)/15,0),VLOOKUP($E$14,基本情報_工事名称マスタ,6,FALSE),0)","v":0},{"$f":"IF($DK89/15=ROUNDUP(MAX($DJ:$DJ)/15,0),ROUND((DQ92-VLOOKUP($E$14,基本情報_工事名称マスタ,5,FALSE))/(基本情報_消費税率*100+100)*(基本情報_消費税率*100),0),0)","v":0}]
[null,null,null,null,null,null,null,null,null,null,null,null,null,null,null,null,null,null,null,null,null,null,"　　合　　　　　　計",null,null,null,null,null,null,null,null,null,null,null,{"$f":"getNumKeta0($DP92,9)","v":""},{"$f":"getNumKeta0($DP92,8)","v":""},{"$f":"getNumKeta0($DP92,7)","v":""},{"$f":"getNumKeta0($DP92,6)","v":""},{"$f":"getNumKeta0($DP92,5)","v":""},{"$f":"getNumKeta0($DP92,4)","v":""},{"$f":"getNumKeta0($DP92,3)","v":""},{"$f":"getNumKeta0($DP92,2)","v":""},{"$f":"getNumKeta0($DP92,1)","v":""},"Ｃ",{"$f":"IF($DQ92=0,\"\", $DQ92)","v":""},null,null,null,null,null,null,null,null,null,null,null,null,null,null,null,null,null,null,null,null,null,null,null,null,null,null,null,null,null,null,null,null,null,"　　合　　　　　　計",null,null,null,null,null,null,null,null,null,null,null,{"$f":"getNumKeta0($DP92,9)","v":""},{"$f":"getNumKeta0($DP92,8)","v":""},{"$f":"getNumKeta0($DP92,7)","v":""},{"$f":"getNumKeta0($DP92,6)","v":""},{"$f":"getNumKeta0($DP92,5)","v":""},{"$f":"getNumKeta0($DP92,4)","v":""},{"$f":"getNumKeta0($DP92,3)","v":""},{"$f":"getNumKeta0($DP92,2)","v":""},{"$f":"getNumKeta0($DP92,1)","v":""},"Ｃ",{"$f":"IF($DQ92=0,\"\", $DQ92)","v":""},null,null,null,null,null,null,null,null,null,null,null,null,null,null,null,null,null,null,{"$f":"IF($DK89/15=ROUNDUP(MAX($DJ:$DJ)/15,0),VLOOKUP($E$14,基本情報_工事名称マスタ,7,FALSE),0)","v":0},{"$f":"DP92","v":0}]
[null,null,null,null,null,null,null,null,null,null,null,null,null,null,null,null,null,null,null,null,null,null,"貴社→請求書(添付)→経理(控)",null,null,null,null,null,null,null,null,null,null,null,null,null,null,null,null,null,null,null,null,null,null,null,null,null,null,null,null,null,null,null,null,null,null,null,null,null,null,null,null,null,null,null,null,null,null,null,null,null,null,null,null,null,null,null,"貴社→請求書(添付)→経理→作業所長(控)"]
[]
[null,null,null,null,null,null,null,null,null,null,null,null,null,null,null,null,null,null,null,null,null,null,null,null,null,null,null,null,null,null,null,null,null,null,null,null,null,null,null,null,null,null,null,null,{"$f":"\"P \" & B136/15 & \"/\" & ROUNDUP(COUNTIF(請求明細_工事場所, E108)/15,0)","v":"P 3/1"},null,null,null,null,null,null,null,null,null,null,null,null,null,null,null,null,null,null,null,null,null,null,null,null,null,null,null,null,null,null,null,null,null,null,null,null,null,null,null,null,null,null,null,null,null,null,null,null,null,null,null,null,null,null,null,{"$f":"\"P \" & BF136/15 & \"/\" & ROUNDUP(COUNTIF(請求明細_工事場所, BI108)/15,0)","v":"P 3/1"}]
[null,null,null,"請求明細書（一般）",null,null,null,null,null,null,null,null,null,null,null,null,null,null,null,null,null,null,null,null,null,"取引先",null,null,{"$f":"基本情報_取引先コード","v":999999},null,null,null,null,null,null,null,null,null,"締\n日",null,null,{"$f":"基本情報_請求締日","v":"2020-07-31"},null,null,null,null,null,null,null,null,null,null,null,null,null,null,null,null,null,"請求明細書（一般）",null,null,null,null,null,null,null,null,null,null,null,null,null,null,null,null,null,null,null,null,null,"取引先",null,null,{"$f":"基本情報_取引先コード","v":999999},null,null,null,null,null,null,null,null,null,"締\n日",null,null,{"$f":"基本情報_請求締日","v":"2020-07-31"}]
[null,null,null,null,null,null,null,null,null,"提出用",null,null,null,null,null,null,null,null,null,null,null,null,null,null,null,null,null,null,null,null,null,null,null,null,null,null,null,null,null,null,null,null,null,null,null,null,null,null,null,null,null,null,null,null,null,null,null,null,null,null,null,null,null,null,null,"提出用"]
[]
[null,null,null,null,null,null,null,null,null,null,null,null,null,null,null,null,null,null,null,null,null,null,null,null,null,"コード",null,null,null,null,null,null,null,null,null,null,null,null,null,null,null,null,null,null,null,null,null,null,null,null,null,null,null,null,null,null,null,null,null,null,null,null,null,null,null,null,null,null,null,null,null,null,null,null,null,null,null,null,null,null,null,"コード"]
[]
[]
[null,"丸高・みなと特定建設工事共同企業体　御中",null,null,null,null,null,null,null,null,null,null,null,null,null,null,null,null,null,null,null,null,null,null,null,"（住所・社名・電話）",null,null,null,null,null,null,null,null,null,null,null,null,null,null,null,null,null,null,null,null,null,null,null,null,null,null,null,null,null,null,null,"丸高・みなと特定建設工事共同企業体　御中",null,null,null,null,null,null,null,null,null,null,null,null,null,null,null,null,null,null,null,null,null,null,null,"（住所・社名・電話）"]
[]
[]
[]
[null,null,null,null,null,null,null,null,null,null,null,null,null,null,null,null,null,null,null,null,null,null,null,null,null,null,null,null,{"$f":"基本情報_住所","v":"酒田市○○○○１－１"},null,null,null,null,null,null,null,null,null,null,null,null,null,null,null,null,null,null,null,null,null,null,null,null,null,null,null,null,null,null,null,null,null,null,null,null,null,null,null,null,null,null,null,null,null,null,null,null,null,null,null,null,null,null,null,{"$f":"基本情報_住所","v":"酒田市○○○○１－１"}]
[]
[null,"工　事　名",null,null,{"$f":"$E$14","v":"×××××工事"},null,null,null,null,null,null,null,null,null,null,"承　　認",null,null,null,null,null,"検　　印",null,null,null,null,null,null,null,null,null,null,null,null,null,null,null,null,null,null,null,null,null,null,null,null,null,null,null,null,null,null,null,null,null,null,null,"工　事　名",null,null,{"$f":"$E$14","v":"×××××工事"},null,null,null,null,null,null,null,null,null,null,"承　　認",null,null,null,null,null,"検　　印"]
[]
[]
[null,null,null,null,null,null,null,null,null,null,null,null,null,null,null,null,null,null,null,null,null,null,null,null,null,null,null,null,{"$f":"基本情報_社名","v":"(株）○○建設"},null,null,null,null,null,null,null,null,null,null,null,null,null,null,null,null,null,null,null,null,null,"印",null,null,null,null,null,null,null,null,null,null,null,null,null,null,null,null,null,null,null,null,null,null,null,null,null,null,null,null,null,null,null,null,null,{"$f":"基本情報_社名","v":"(株）○○建設"},null,null,null,null,null,null,null,null,null,null,null,null,null,null,null,null,null,null,null,null,null,"印"]
[]
[]
[null,"作業所長名",null,null,{"$f":"VLOOKUP(E108,基本情報_工事名称マスタ,3,FALSE)","v":"××次郎"},null,null,null,null,null,null,null,null,null,null,null,null,null,null,null,null,null,null,null,null,null,null,null,null,null,null,null,null,null,null,null,null,null,null,null,null,null,null,null,null,null,null,null,null,null,null,null,null,null,null,null,null,"作業所長名",null,null,{"$f":"VLOOKUP(BI108,基本情報_工事名称マスタ,3,FALSE)","v":"××次郎"}]
[]
[null,null,null,null,null,null,null,null,null,null,null,null,null,null,null,null,null,null,null,null,null,null,null,null,null,null,null,null,{"$f":"基本情報_電話番号","v":"0234 - 00 - 0000"},null,null,null,null,null,null,null,null,null,null,null,null,null,null,null,null,null,null,null,null,null,null,null,null,null,null,null,null,null,null,null,null,null,null,null,null,null,null,null,null,null,null,null,null,null,null,null,null,null,null,null,null,null,null,null,{"$f":"基本情報_電話番号","v":"0234 - 00 - 0000"}]
[]
[]
[]
[]
[null,"通番","納入年月日",null,null,"品　名　・　規　格",null,null,null,"数　　　　量",null,null,null,null,null,null,null,null,null,null,null,"単 位","単　　　　価",null,null,null,null,null,null,null,null,null,null,null,"金　　　額",null,null,null,null,null,null,null,null,"備　考",null,null,null,null,null,null,null,null,null,null,null,null,null,"通番","納入年月日",null,null,"品　名　・　規　格",null,null,null,"数　　　　量",null,null,null,null,null,null,null,null,null,null,null,"単 位","単　　　　価",null,null,null,null,null,null,null,null,null,null,null,"金　　　額",null,null,null,null,null,null,null,null,"備　考",null,null,null,null,null,null,null,null,null,null,null,null,"ヒット","ランク","-","通番","数量","単価","金額"]
[null,{"$f":"B89+1","v":31},{"$f":"IF(ISNA($DL122),\"\",VLOOKUP($DL122,請求明細,3,FALSE))","v":""},null,null,{"$f":"IF(ISNA($DL122),\"\",VLOOKUP($DL122,請求明細,4,FALSE))","v":""},null,null,null,{"$f":"IF(ISNA($DL122),\"\",getNumKeta0($DM122,9))","v":""},{"$f":"IF(ISNA($DL122),\"\",getNumKeta0($DM122,8))","v":""},{"$f":"IF(ISNA($DL122),\"\",getNumKeta0($DM122,7))","v":""},{"$f":"IF(ISNA($DL122),\"\",getNumKeta0($DM122,6))","v":""},{"$f":"IF(ISNA($DL122),\"\",getNumKeta0($DM122,5))","v":""},{"$f":"IF(ISNA($DL122),\"\",getNumKeta0($DM122,4))","v":""},{"$f":"IF(ISNA($DL122),\"\",getNumKeta0($DM122,3))","v":""},{"$f":"IF(ISNA($DL122),\"\",getNumKeta0($DM122,2))","v":""},{"$f":"IF(ISNA($DL122),\"\",getNumKeta0($DM122,1))","v":""},{"$f":"IF(ISNA($DL122),\"\",getNumKeta0($DM122,-1))","v":""},{"$f":"IF(ISNA($DL122),\"\",getNumKeta0($DM122,-2))","v":""},{"$f":"IF(ISNA($DL122),\"\",getNumKeta0($DM122,-3))","v":""},{"$f":"IF(ISNA($DL122),\"\",VLOOKUP($DL122,請求明細,6,FALSE))","v":""},{"$f":"IF(ISNA($DL122),\"\",getNumKeta0($DN122,9))","v":""},{"$f":"IF(ISNA($DL122),\"\",getNumKeta0($DN122,8))","v":""},{"$f":"IF(ISNA($DL122),\"\",getNumKeta0($DN122,7))","v":""},{"$f":"IF(ISNA($DL122),\"\",getNumKeta0($DN122,6))","v":""},{"$f":"IF(ISNA($DL122),\"\",getNumKeta0($DN122,5))","v":""},{"$f":"IF(ISNA($DL122),\"\",getNumKeta0($DN122,4))","v":""},{"$f":"IF(ISNA($DL122),\"\",getNumKeta0($DN122,3))","v":""},{"$f":"IF(ISNA($DL122),\"\",getNumKeta0($DN122,2))","v":""},{"$f":"IF(ISNA($DL122),\"\",getNumKeta0($DN122,1))","v":""},{"$f":"IF(ISNA($DL122),\"\",getNumKeta0($DN122,-1))","v":""},{"$f":"IF(ISNA($DL122),\"\",getNumKeta0($DN122,-2))","v":""},{"$f":"IF(ISNA($DL122),\"\",getNumKeta0($DN122,-3))","v":""},{"$f":"IF(ISNA($DL122),\"\",getNumKeta0($DO122,9))","v":""},{"$f":"IF(ISNA($DL122),\"\",getNumKeta0($DO122,8))","v":""},{"$f":"IF(ISNA($DL122),\"\",getNumKeta0($DO122,7))","v":""},{"$f":"IF(ISNA($DL122),\"\",getNumKeta0($DO122,6))","v":""},{"$f":"IF(ISNA($DL122),\"\",getNumKeta0($DO122,5))","v":""},{"$f":"IF(ISNA($DL122),\"\",getNumKeta0($DO122,4))","v":""},{"$f":"IF(ISNA($DL122),\"\",getNumKeta0($DO122,3))","v":""},{"$f":"IF(ISNA($DL122),\"\",getNumKeta0($DO122,2))","v":""},{"$f":"IF(ISNA($DL122),\"\",getNumKeta0($DO122,1))","v":""},{"$f":"IF(ISNA($DL122),\"\",LEFT(VLOOKUP($DL122,請求明細,10,FALSE),16))","v":""},null,null,null,null,null,null,null,null,null,null,null,null,null,{"$f":"BF89+1","v":31},{"$f":"IF(ISNA($DL122),\"\",VLOOKUP($DL122,請求明細,3,FALSE))","v":""},null,null,{"$f":"IF(ISNA($DL122),\"\",VLOOKUP($DL122,請求明細,4,FALSE))","v":""},null,null,null,{"$f":"IF(ISNA($DL122),\"\",getNumKeta0($DM122,9))","v":""},{"$f":"IF(ISNA($DL122),\"\",getNumKeta0($DM122,8))","v":""},{"$f":"IF(ISNA($DL122),\"\",getNumKeta0($DM122,7))","v":""},{"$f":"IF(ISNA($DL122),\"\",getNumKeta0($DM122,6))","v":""},{"$f":"IF(ISNA($DL122),\"\",getNumKeta0($DM122,5))","v":""},{"$f":"IF(ISNA($DL122),\"\",getNumKeta0($DM122,4))","v":""},{"$f":"IF(ISNA($DL122),\"\",getNumKeta0($DM122,3))","v":""},{"$f":"IF(ISNA($DL122),\"\",getNumKeta0($DM122,2))","v":""},{"$f":"IF(ISNA($DL122),\"\",getNumKeta0($DM122,1))","v":""},{"$f":"IF(ISNA($DL122),\"\",getNumKeta0($DM122,-1))","v":""},{"$f":"IF(ISNA($DL122),\"\",getNumKeta0($DM122,-2))","v":""},{"$f":"IF(ISNA($DL122),\"\",getNumKeta0($DM122,-3))","v":""},{"$f":"IF(ISNA($DL122),\"\",VLOOKUP($DL122,請求明細,6,FALSE))","v":""},{"$f":"IF(ISNA($DL122),\"\",getNumKeta0($DN122,9))","v":""},{"$f":"IF(ISNA($DL122),\"\",getNumKeta0($DN122,8))","v":""},{"$f":"IF(ISNA($DL122),\"\",getNumKeta0($DN122,7))","v":""},{"$f":"IF(ISNA($DL122),\"\",getNumKeta0($DN122,6))","v":""},{"$f":"IF(ISNA($DL122),\"\",getNumKeta0($DN122,5))","v":""},{"$f":"IF(ISNA($DL122),\"\",getNumKeta0($DN122,4))","v":""},{"$f":"IF(ISNA($DL122),\"\",getNumKeta0($DN122,3))","v":""},{"$f":"IF(ISNA($DL122),\"\",getNumKeta0($DN122,2))","v":""},{"$f":"IF(ISNA($DL122),\"\",getNumKeta0($DN122,1))","v":""},{"$f":"IF(ISNA($DL122),\"\",getNumKeta0($DN122,-1))","v":""},{"$f":"IF(ISNA($DL122),\"\",getNumKeta0($DN122,-2))","v":""},{"$f":"IF(ISNA($DL122),\"\",getNumKeta0($DN122,-3))","v":""},{"$f":"IF(ISNA($DL122),\"\",getNumKeta0($DO122,9))","v":""},{"$f":"IF(ISNA($DL122),\"\",getNumKeta0($DO122,8))","v":""},{"$f":"IF(ISNA($DL122),\"\",getNumKeta0($DO122,7))","v":""},{"$f":"IF(ISNA($DL122),\"\",getNumKeta0($DO122,6))","v":""},{"$f":"IF(ISNA($DL122),\"\",getNumKeta0($DO122,5))","v":""},{"$f":"IF(ISNA($DL122),\"\",getNumKeta0($DO122,4))","v":""},{"$f":"IF(ISNA($DL122),\"\",getNumKeta0($DO122,3))","v":""},{"$f":"IF(ISNA($DL122),\"\",getNumKeta0($DO122,2))","v":""},{"$f":"IF(ISNA($DL122),\"\",getNumKeta0($DO122,1))","v":""},{"$f":"IF(ISNA($DL122),\"\",LEFT(VLOOKUP($DL122,請求明細,10,FALSE),16))","v":""},null,null,null,null,null,null,null,null,null,null,null,null,{"$f":"IF($E$14=OFFSET(明細情報!$B$5, $DK122-1,0),1,0)","v":0},{"$f":"IF($DI122=0, 0, SUM($DI$28:$DI122))","v":0},{"$f":"DK89+1","v":31},{"$f":"VLOOKUP(B122,$DJ$28:$DK$65536,2,FALSE)","v":{"$error":"#N/A"}},{"$f":"IF(ISNA($DL122),0,VLOOKUP($DL122,請求明細,5,FALSE))","v":0},{"$f":"IF(ISNA($DL122),0,VLOOKUP($DL122,請求明細,7,FALSE))","v":0},{"$f":"IF(ISNA($DL122),0,VLOOKUP($DL122,請求明細,9,FALSE))","v":0}]
[null,{"$f":"B122+1","v":32},"",null,null,"",null,null,null,"","","","","","","","","","","","","","","","","","","","","","","","","","","","","","","","","","","",null,null,null,null,null,null,null,null,null,null,null,null,null,{"$f":"BF122+1","v":32},"",null,null,"",null,null,null,"","","","","","","","","","","","","","","","","","","","","","","","","","","","","","","","","","","",null,null,null,null,null,null,null,null,null,null,null,null,{"$f":"IF($E$14=OFFSET(明細情報!$B$5, $DK123-1,0),1,0)","v":0},{"$f":"IF($DI123=0, 0, SUM($DI$28:$DI123))","v":0},{"$f":"DK122+1","v":32},{"$error":"#N/A"},0,0,0]
[null,33,"",null,null,"",null,null,null,"","","","","","","","","","","","","","","","","","","","","","","","","","","","","","","","","","","",null,null,null,null,null,null,null,null,null,null,null,null,null,33,"",null,null,"",null,null,null,"","","","","","","","","","","","","","","","","","","","","","","","","","","","","","","","","","","",null,null,null,null,null,null,null,null,null,null,null,null,{"$f":"IF($E$14=OFFSET(明細情報!$B$5, $DK124-1,0),1,0)","v":0},{"$f":"IF($DI124=0, 0, SUM($DI$28:$DI124))","v":0},33,{"$error":"#N/A"},0,0,0]
[null,34,"",null,null,"",null,null,null,"","","","","","","","","","","","","","","","","","","","","","","","","","","","","","","","","","","",null,null,null,null,null,null,null,null,null,null,null,null,null,34,"",null,null,"",null,null,null,"","","","","","","","","","","","","","","","","","","","","","","","","","","","","","","","","","","",null,null,null,null,null,null,null,null,null,null,null,null,{"$f":"IF($E$14=OFFSET(明細情報!$B$5, $DK125-1,0),1,0)","v":0},{"$f":"IF($DI125=0, 0, SUM($DI$28:$DI125))","v":0},34,{"$error":"#N/A"},0,0,0]
[null,35,"",null,null,"",null,null,null,"","","","","","","","","","","","","","","","","","","","","","","","","","","","","","","","","","","",null,null,null,null,null,null,null,null,null,null,null,null,null,35,"",null,null,"",null,null,null,"","","","","","","","","","","","","","","","","","","","","","","","","","","","","","","","","","","",null,null,null,null,null,null,null,null,null,null,null,null,{"$f":"IF($E$14=OFFSET(明細情報!$B$5, $DK126-1,0),1,0)","v":0},{"$f":"IF($DI126=0, 0, SUM($DI$28:$DI126))","v":0},35,{"$error":"#N/A"},0,0,0]
[null,36,"",null,null,"",null,null,null,"","","","","","","","","","","","","","","","","","","","","","","","","","","","","","","","","","","",null,null,null,null,null,null,null,null,null,null,null,null,null,36,"",null,null,"",null,null,null,"","","","","","","","","","","","","","","","","","","","","","","","","","","","","","","","","","","",null,null,null,null,null,null,null,null,null,null,null,null,{"$f":"IF($E$14=OFFSET(明細情報!$B$5, $DK127-1,0),1,0)","v":0},{"$f":"IF($DI127=0, 0, SUM($DI$28:$DI127))","v":0},36,{"$error":"#N/A"},0,0,0]
[null,37,"",null,null,"",null,null,null,"","","","","","","","","","","","","","","","","","","","","","","","","","","","","","","","","","","",null,null,null,null,null,null,null,null,null,null,null,null,null,37,"",null,null,"",null,null,null,"","","","","","","","","","","","","","","","","","","","","","","","","","","","","","","","","","","",null,null,null,null,null,null,null,null,null,null,null,null,{"$f":"IF($E$14=OFFSET(明細情報!$B$5, $DK128-1,0),1,0)","v":0},{"$f":"IF($DI128=0, 0, SUM($DI$28:$DI128))","v":0},37,{"$error":"#N/A"},0,0,0]
[null,38,"",null,null,"",null,null,null,"","","","","","","","","","","","","","","","","","","","","","","","","","","","","","","","","","","",null,null,null,null,null,null,null,null,null,null,null,null,null,38,"",null,null,"",null,null,null,"","","","","","","","","","","","","","","","","","","","","","","","","","","","","","","","","","","",null,null,null,null,null,null,null,null,null,null,null,null,{"$f":"IF($E$14=OFFSET(明細情報!$B$5, $DK129-1,0),1,0)","v":0},{"$f":"IF($DI129=0, 0, SUM($DI$28:$DI129))","v":0},38,{"$error":"#N/A"},0,0,0]
[null,39,"",null,null,"",null,null,null,"","","","","","","","","","","","","","","","","","","","","","","","","","","","","","","","","","","",null,null,null,null,null,null,null,null,null,null,null,null,null,39,"",null,null,"",null,null,null,"","","","","","","","","","","","","","","","","","","","","","","","","","","","","","","","","","","",null,null,null,null,null,null,null,null,null,null,null,null,{"$f":"IF($E$14=OFFSET(明細情報!$B$5, $DK130-1,0),1,0)","v":0},{"$f":"IF($DI130=0, 0, SUM($DI$28:$DI130))","v":0},39,{"$error":"#N/A"},0,0,0]
[null,40,"",null,null,"",null,null,null,"","","","","","","","","","","","","","","","","","","","","","","","","","","","","","","","","","","",null,null,null,null,null,null,null,null,null,null,null,null,null,40,"",null,null,"",null,null,null,"","","","","","","","","","","","","","","","","","","","","","","","","","","","","","","","","","","",null,null,null,null,null,null,null,null,null,null,null,null,{"$f":"IF($E$14=OFFSET(明細情報!$B$5, $DK131-1,0),1,0)","v":0},{"$f":"IF($DI131=0, 0, SUM($DI$28:$DI131))","v":0},40,{"$error":"#N/A"},0,0,0]
[null,41,"",null,null,"",null,null,null,"","","","","","","","","","","","","","","","","","","","","","","","","","","","","","","","","","","",null,null,null,null,null,null,null,null,null,null,null,null,null,41,"",null,null,"",null,null,null,"","","","","","","","","","","","","","","","","","","","","","","","","","","","","","","","","","","",null,null,null,null,null,null,null,null,null,null,null,null,{"$f":"IF($E$14=OFFSET(明細情報!$B$5, $DK132-1,0),1,0)","v":0},{"$f":"IF($DI132=0, 0, SUM($DI$28:$DI132))","v":0},41,{"$error":"#N/A"},0,0,0]
[null,42,"",null,null,"",null,null,null,"","","","","","","","","","","","","","","","","","","","","","","","","","","","","","","","","","","",null,null,null,null,null,null,null,null,null,null,null,null,null,42,"",null,null,"",null,null,null,"","","","","","","","","","","","","","","","","","","","","","","","","","","","","","","","","","","",null,null,null,null,null,null,null,null,null,null,null,null,{"$f":"IF($E$14=OFFSET(明細情報!$B$5, $DK133-1,0),1,0)","v":0},{"$f":"IF($DI133=0, 0, SUM($DI$28:$DI133))","v":0},42,{"$error":"#N/A"},0,0,0]
[null,43,"",null,null,"",null,null,null,"","","","","","","","","","","","","","","","","","","","","","","","","","","","","","","","","","","",null,null,null,null,null,null,null,null,null,null,null,null,null,43,"",null,null,"",null,null,null,"","","","","","","","","","","","","","","","","","","","","","","","","","","","","","","","","","","",null,null,null,null,null,null,null,null,null,null,null,null,{"$f":"IF($E$14=OFFSET(明細情報!$B$5, $DK134-1,0),1,0)","v":0},{"$f":"IF($DI134=0, 0, SUM($DI$28:$DI134))","v":0},43,{"$error":"#N/A"},0,0,0]
[null,44,"",null,null,"",null,null,null,"","","","","","","","","","","","","","","","","","","","","","","","","","","","","","","","","","","",null,null,null,null,null,null,null,null,null,null,null,null,null,44,"",null,null,"",null,null,null,"","","","","","","","","","","","","","","","","","","","","","","","","","","","","","","","","","","",null,null,null,null,null,null,null,null,null,null,null,null,{"$f":"IF($E$14=OFFSET(明細情報!$B$5, $DK135-1,0),1,0)","v":0},{"$f":"IF($DI135=0, 0, SUM($DI$28:$DI135))","v":0},44,{"$error":"#N/A"},0,0,0]
[null,45,"",null,null,"",null,null,null,"","","","","","","","","","","","","","","","","","","","","","","","","","","","","","","","","","","",null,null,null,null,null,null,null,null,null,null,null,null,null,45,"",null,null,"",null,null,null,"","","","","","","","","","","","","","","","","","","","","","","","","","","","","","","","","","","",null,null,null,null,null,null,null,null,null,null,null,null,{"$f":"IF($E$14=OFFSET(明細情報!$B$5, $DK136-1,0),1,0)","v":0},{"$f":"IF($DI136=0, 0, SUM($DI$28:$DI136))","v":0},45,{"$error":"#N/A"},0,0,0]
[null,null,null,null,null,null,null,null,null,null,null,null,null,null,null,null,null,null,null,null,null,null,"　　小　　　　　　計",null,null,null,null,null,null,null,null,null,null,null,{"$f":"getNumKeta0($DP137,9)","v":""},{"$f":"getNumKeta0($DP137,8)","v":""},{"$f":"getNumKeta0($DP137,7)","v":""},{"$f":"getNumKeta0($DP137,6)","v":""},{"$f":"getNumKeta0($DP137,5)","v":""},{"$f":"getNumKeta0($DP137,4)","v":""},{"$f":"getNumKeta0($DP137,3)","v":""},{"$f":"getNumKeta0($DP137,2)","v":""},{"$f":"getNumKeta0($DP137,1)","v":""},"Ａ",{"$f":"IF($DQ137=0,\"\", $DQ137)","v":""},null,null,null,null,null,null,null,null,{"$f":"IF($DP137<>$DQ137,\"*\",\"\")","v":""},null,null,null,null,null,null,null,null,null,null,null,null,null,null,null,null,null,null,null,null,null,null,null,null,"　　小　　　　　　計",null,null,null,null,null,null,null,null,null,null,null,{"$f":"getNumKeta0($DP137,9)","v":""},{"$f":"getNumKeta0($DP137,8)","v":""},{"$f":"getNumKeta0($DP137,7)","v":""},{"$f":"getNumKeta0($DP137,6)","v":""},{"$f":"getNumKeta0($DP137,5)","v":""},{"$f":"getNumKeta0($DP137,4)","v":""},{"$f":"getNumKeta0($DP137,3)","v":""},{"$f":"getNumKeta0($DP137,2)","v":""},{"$f":"getNumKeta0($DP137,1)","v":""},"Ａ",{"$f":"IF($DQ137=0,\"\", $DQ137)","v":""},null,null,null,null,null,null,null,null,{"$f":"IF($DP137<>$DQ137,\"*\",\"\")","v":""},null,null,null,null,null,null,null,null,null,{"$f":"IF($DK136/15=ROUNDUP(MAX($DJ:$DJ)/15,0),VLOOKUP($E$14,基本情報_工事名称マスタ,4,FALSE)+VLOOKUP($E$14,基本情報_工事名称マスタ,5,FALSE),0)","v":0},{"$f":"IF($DK136/15=ROUNDUP(MAX($DJ:$DJ)/15,0),DQ139-DQ138,0)","v":0}]
[null,null,null,null,null,null,null,null,null,null,null,null,null,null,null,null,null,null,null,null,null,null,"　消　費　税",null,null,null,null,null,null,null,{"$f":"基本情報_消費税率","v":0.1},null,null,null,{"$f":"getNumKeta0($DP138,9)","v":""},{"$f":"getNumKeta0($DP138,8)","v":""},{"$f":"getNumKeta0($DP138,7)","v":""},{"$f":"getNumKeta0($DP138,6)","v":""},{"$f":"getNumKeta0($DP138,5)","v":""},{"$f":"getNumKeta0($DP138,4)","v":""},{"$f":"getNumKeta0($DP138,3)","v":""},{"$f":"getNumKeta0($DP138,2)","v":""},{"$f":"getNumKeta0($DP138,1)","v":""},"Ｂ",{"$f":"IF($DQ138=0,\"\", $DQ138)","v":""},null,null,null,null,null,null,null,null,null,null,null,null,null,null,null,null,null,null,null,null,null,null,null,null,null,null,null,null,null,null,null,null,null,"　消　費　税",null,null,null,null,null,null,null,{"$f":"基本情報_消費税率","v":0.1},null,null,null,{"$f":"getNumKeta0($DP138,9)","v":""},{"$f":"getNumKeta0($DP138,8)","v":""},{"$f":"getNumKeta0($DP138,7)","v":""},{"$f":"getNumKeta0($DP138,6)","v":""},{"$f":"getNumKeta0($DP138,5)","v":""},{"$f":"getNumKeta0($DP138,4)","v":""},{"$f":"getNumKeta0($DP138,3)","v":""},{"$f":"getNumKeta0($DP138,2)","v":""},{"$f":"getNumKeta0($DP138,1)","v":""},"Ｂ",{"$f":"IF($DQ138=0,\"\", $DQ138)","v":""},null,null,null,null,null,null,null,null,null,null,null,null,null,null,null,null,null,null,{"$f":"IF($DK136/15=ROUNDUP(MAX($DJ:$DJ)/15,0),VLOOKUP($E$14,基本情報_工事名称マスタ,6,FALSE),0)","v":0},{"$f":"IF($DK136/15=ROUNDUP(MAX($DJ:$DJ)/15,0),ROUND((DQ139-VLOOKUP($E$14,基本情報_工事名称マスタ,5,FALSE))/(基本情報_消費税率*100+100)*(基本情報_消費税率*100),0),0)","v":0}]
[null,null,null,null,null,null,null,null,null,null,null,null,null,null,null,null,null,null,null,null,null,null,"　　合　　　　　　計",null,null,null,null,null,null,null,null,null,null,null,{"$f":"getNumKeta0($DP139,9)","v":""},{"$f":"getNumKeta0($DP139,8)","v":""},{"$f":"getNumKeta0($DP139,7)","v":""},{"$f":"getNumKeta0($DP139,6)","v":""},{"$f":"getNumKeta0($DP139,5)","v":""},{"$f":"getNumKeta0($DP139,4)","v":""},{"$f":"getNumKeta0($DP139,3)","v":""},{"$f":"getNumKeta0($DP139,2)","v":""},{"$f":"getNumKeta0($DP139,1)","v":""},"Ｃ",{"$f":"IF($DQ139=0,\"\", $DQ139)","v":""},null,null,null,null,null,null,null,null,null,null,null,null,null,null,null,null,null,null,null,null,null,null,null,null,null,null,null,null,null,null,null,null,null,"　　合　　　　　　計",null,null,null,null,null,null,null,null,null,null,null,{"$f":"getNumKeta0($DP139,9)","v":""},{"$f":"getNumKeta0($DP139,8)","v":""},{"$f":"getNumKeta0($DP139,7)","v":""},{"$f":"getNumKeta0($DP139,6)","v":""},{"$f":"getNumKeta0($DP139,5)","v":""},{"$f":"getNumKeta0($DP139,4)","v":""},{"$f":"getNumKeta0($DP139,3)","v":""},{"$f":"getNumKeta0($DP139,2)","v":""},{"$f":"getNumKeta0($DP139,1)","v":""},"Ｃ",{"$f":"IF($DQ139=0,\"\", $DQ139)","v":""},null,null,null,null,null,null,null,null,null,null,null,null,null,null,null,null,null,null,{"$f":"IF($DK136/15=ROUNDUP(MAX($DJ:$DJ)/15,0),VLOOKUP($E$14,基本情報_工事名称マスタ,7,FALSE),0)","v":0},{"$f":"DP139","v":0}]
[null,null,null,null,null,null,null,null,null,null,null,null,null,null,null,null,null,null,null,null,null,null,"貴社→請求書(添付)→経理(控)",null,null,null,null,null,null,null,null,null,null,null,null,null,null,null,null,null,null,null,null,null,null,null,null,null,null,null,null,null,null,null,null,null,null,null,null,null,null,null,null,null,null,null,null,null,null,null,null,null,null,null,null,null,null,null,"貴社→請求書(添付)→経理→作業所長(控)"]
[]
[null,null,null,null,null,null,null,null,null,null,null,null,null,null,null,null,null,null,null,null,null,null,null,null,null,null,null,null,null,null,null,null,null,null,null,null,null,null,null,null,null,null,null,null,{"$f":"\"P \" & B183/15 & \"/\" & ROUNDUP(COUNTIF(請求明細_工事場所, E155)/15,0)","v":"P 4/1"},null,null,null,null,null,null,null,null,null,null,null,null,null,null,null,null,null,null,null,null,null,null,null,null,null,null,null,null,null,null,null,null,null,null,null,null,null,null,null,null,null,null,null,null,null,null,null,null,null,null,null,null,null,null,null,{"$f":"\"P \" & BF183/15 & \"/\" & ROUNDUP(COUNTIF(請求明細_工事場所, BI155)/15,0)","v":"P 4/1"}]
[null,null,null,"請求明細書（一般）",null,null,null,null,null,null,null,null,null,null,null,null,null,null,null,null,null,null,null,null,null,"取引先",null,null,{"$f":"基本情報_取引先コード","v":999999},null,null,null,null,null,null,null,null,null,"締\n日",null,null,{"$f":"基本情報_請求締日","v":"2020-07-31"},null,null,null,null,null,null,null,null,null,null,null,null,null,null,null,null,null,"請求明細書（一般）",null,null,null,null,null,null,null,null,null,null,null,null,null,null,null,null,null,null,null,null,null,"取引先",null,null,{"$f":"基本情報_取引先コード","v":999999},null,null,null,null,null,null,null,null,null,"締\n日",null,null,{"$f":"基本情報_請求締日","v":"2020-07-31"}]
[null,null,null,null,null,null,null,null,null,"提出用",null,null,null,null,null,null,null,null,null,null,null,null,null,null,null,null,null,null,null,null,null,null,null,null,null,null,null,null,null,null,null,null,null,null,null,null,null,null,null,null,null,null,null,null,null,null,null,null,null,null,null,null,null,null,null,"提出用"]
[]
[null,null,null,null,null,null,null,null,null,null,null,null,null,null,null,null,null,null,null,null,null,null,null,null,null,"コード",null,null,null,null,null,null,null,null,null,null,null,null,null,null,null,null,null,null,null,null,null,null,null,null,null,null,null,null,null,null,null,null,null,null,null,null,null,null,null,null,null,null,null,null,null,null,null,null,null,null,null,null,null,null,null,"コード"]
[]
[]
[null,"丸高・みなと特定建設工事共同企業体　御中",null,null,null,null,null,null,null,null,null,null,null,null,null,null,null,null,null,null,null,null,null,null,null,"（住所・社名・電話）",null,null,null,null,null,null,null,null,null,null,null,null,null,null,null,null,null,null,null,null,null,null,null,null,null,null,null,null,null,null,null,"丸高・みなと特定建設工事共同企業体　御中",null,null,null,null,null,null,null,null,null,null,null,null,null,null,null,null,null,null,null,null,null,null,null,"（住所・社名・電話）"]
[]
[]
[]
[null,null,null,null,null,null,null,null,null,null,null,null,null,null,null,null,null,null,null,null,null,null,null,null,null,null,null,null,{"$f":"基本情報_住所","v":"酒田市○○○○１－１"},null,null,null,null,null,null,null,null,null,null,null,null,null,null,null,null,null,null,null,null,null,null,null,null,null,null,null,null,null,null,null,null,null,null,null,null,null,null,null,null,null,null,null,null,null,null,null,null,null,null,null,null,null,null,null,{"$f":"基本情報_住所","v":"酒田市○○○○１－１"}]
[]
[null,"工　事　名",null,null,{"$f":"$E$14","v":"×××××工事"},null,null,null,null,null,null,null,null,null,null,"承　　認",null,null,null,null,null,"検　　印",null,null,null,null,null,null,null,null,null,null,null,null,null,null,null,null,null,null,null,null,null,null,null,null,null,null,null,null,null,null,null,null,null,null,null,"工　事　名",null,null,{"$f":"$E$14","v":"×××××工事"},null,null,null,null,null,null,null,null,null,null,"承　　認",null,null,null,null,null,"検　　印"]
[]
[]
[null,null,null,null,null,null,null,null,null,null,null,null,null,null,null,null,null,null,null,null,null,null,null,null,null,null,null,null,{"$f":"基本情報_社名","v":"(株）○○建設"},null,null,null,null,null,null,null,null,null,null,null,null,null,null,null,null,null,null,null,null,null,"印",null,null,null,null,null,null,null,null,null,null,null,null,null,null,null,null,null,null,null,null,null,null,null,null,null,null,null,null,null,null,null,null,null,{"$f":"基本情報_社名","v":"(株）○○建設"},null,null,null,null,null,null,null,null,null,null,null,null,null,null,null,null,null,null,null,null,null,"印"]
[]
[]
[null,"作業所長名",null,null,{"$f":"VLOOKUP(E155,基本情報_工事名称マスタ,3,FALSE)","v":"××次郎"},null,null,null,null,null,null,null,null,null,null,null,null,null,null,null,null,null,null,null,null,null,null,null,null,null,null,null,null,null,null,null,null,null,null,null,null,null,null,null,null,null,null,null,null,null,null,null,null,null,null,null,null,"作業所長名",null,null,{"$f":"VLOOKUP(BI155,基本情報_工事名称マスタ,3,FALSE)","v":"××次郎"}]
[]
[null,null,null,null,null,null,null,null,null,null,null,null,null,null,null,null,null,null,null,null,null,null,null,null,null,null,null,null,{"$f":"基本情報_電話番号","v":"0234 - 00 - 0000"},null,null,null,null,null,null,null,null,null,null,null,null,null,null,null,null,null,null,null,null,null,null,null,null,null,null,null,null,null,null,null,null,null,null,null,null,null,null,null,null,null,null,null,null,null,null,null,null,null,null,null,null,null,null,null,{"$f":"基本情報_電話番号","v":"0234 - 00 - 0000"}]
[]
[]
[]
[]
[null,"通番","納入年月日",null,null,"品　名　・　規　格",null,null,null,"数　　　　量",null,null,null,null,null,null,null,null,null,null,null,"単 位","単　　　　価",null,null,null,null,null,null,null,null,null,null,null,"金　　　額",null,null,null,null,null,null,null,null,"備　考",null,null,null,null,null,null,null,null,null,null,null,null,null,"通番","納入年月日",null,null,"品　名　・　規　格",null,null,null,"数　　　　量",null,null,null,null,null,null,null,null,null,null,null,"単 位","単　　　　価",null,null,null,null,null,null,null,null,null,null,null,"金　　　額",null,null,null,null,null,null,null,null,"備　考",null,null,null,null,null,null,null,null,null,null,null,null,"ヒット","ランク","-","通番","数量","単価","金額"]
[null,{"$f":"B136+1","v":46},{"$f":"IF(ISNA($DL169),\"\",VLOOKUP($DL169,請求明細,3,FALSE))","v":""},null,null,{"$f":"IF(ISNA($DL169),\"\",VLOOKUP($DL169,請求明細,4,FALSE))","v":""},null,null,null,{"$f":"IF(ISNA($DL169),\"\",getNumKeta0($DM169,9))","v":""},{"$f":"IF(ISNA($DL169),\"\",getNumKeta0($DM169,8))","v":""},{"$f":"IF(ISNA($DL169),\"\",getNumKeta0($DM169,7))","v":""},{"$f":"IF(ISNA($DL169),\"\",getNumKeta0($DM169,6))","v":""},{"$f":"IF(ISNA($DL169),\"\",getNumKeta0($DM169,5))","v":""},{"$f":"IF(ISNA($DL169),\"\",getNumKeta0($DM169,4))","v":""},{"$f":"IF(ISNA($DL169),\"\",getNumKeta0($DM169,3))","v":""},{"$f":"IF(ISNA($DL169),\"\",getNumKeta0($DM169,2))","v":""},{"$f":"IF(ISNA($DL169),\"\",getNumKeta0($DM169,1))","v":""},{"$f":"IF(ISNA($DL169),\"\",getNumKeta0($DM169,-1))","v":""},{"$f":"IF(ISNA($DL169),\"\",getNumKeta0($DM169,-2))","v":""},{"$f":"IF(ISNA($DL169),\"\",getNumKeta0($DM169,-3))","v":""},{"$f":"IF(ISNA($DL169),\"\",VLOOKUP($DL169,請求明細,6,FALSE))","v":""},{"$f":"IF(ISNA($DL169),\"\",getNumKeta0($DN169,9))","v":""},{"$f":"IF(ISNA($DL169),\"\",getNumKeta0($DN169,8))","v":""},{"$f":"IF(ISNA($DL169),\"\",getNumKeta0($DN169,7))","v":""},{"$f":"IF(ISNA($DL169),\"\",getNumKeta0($DN169,6))","v":""},{"$f":"IF(ISNA($DL169),\"\",getNumKeta0($DN169,5))","v":""},{"$f":"IF(ISNA($DL169),\"\",getNumKeta0($DN169,4))","v":""},{"$f":"IF(ISNA($DL169),\"\",getNumKeta0($DN169,3))","v":""},{"$f":"IF(ISNA($DL169),\"\",getNumKeta0($DN169,2))","v":""},{"$f":"IF(ISNA($DL169),\"\",getNumKeta0($DN169,1))","v":""},{"$f":"IF(ISNA($DL169),\"\",getNumKeta0($DN169,-1))","v":""},{"$f":"IF(ISNA($DL169),\"\",getNumKeta0($DN169,-2))","v":""},{"$f":"IF(ISNA($DL169),\"\",getNumKeta0($DN169,-3))","v":""},{"$f":"IF(ISNA($DL169),\"\",getNumKeta0($DO169,9))","v":""},{"$f":"IF(ISNA($DL169),\"\",getNumKeta0($DO169,8))","v":""},{"$f":"IF(ISNA($DL169),\"\",getNumKeta0($DO169,7))","v":""},{"$f":"IF(ISNA($DL169),\"\",getNumKeta0($DO169,6))","v":""},{"$f":"IF(ISNA($DL169),\"\",getNumKeta0($DO169,5))","v":""},{"$f":"IF(ISNA($DL169),\"\",getNumKeta0($DO169,4))","v":""},{"$f":"IF(ISNA($DL169),\"\",getNumKeta0($DO169,3))","v":""},{"$f":"IF(ISNA($DL169),\"\",getNumKeta0($DO169,2))","v":""},{"$f":"IF(ISNA($DL169),\"\",getNumKeta0($DO169,1))","v":""},{"$f":"IF(ISNA($DL169),\"\",LEFT(VLOOKUP($DL169,請求明細,10,FALSE),16))","v":""},null,null,null,null,null,null,null,null,null,null,null,null,null,{"$f":"BF136+1","v":46},{"$f":"IF(ISNA($DL169),\"\",VLOOKUP($DL169,請求明細,3,FALSE))","v":""},null,null,{"$f":"IF(ISNA($DL169),\"\",VLOOKUP($DL169,請求明細,4,FALSE))","v":""},null,null,null,{"$f":"IF(ISNA($DL169),\"\",getNumKeta0($DM169,9))","v":""},{"$f":"IF(ISNA($DL169),\"\",getNumKeta0($DM169,8))","v":""},{"$f":"IF(ISNA($DL169),\"\",getNumKeta0($DM169,7))","v":""},{"$f":"IF(ISNA($DL169),\"\",getNumKeta0($DM169,6))","v":""},{"$f":"IF(ISNA($DL169),\"\",getNumKeta0($DM169,5))","v":""},{"$f":"IF(ISNA($DL169),\"\",getNumKeta0($DM169,4))","v":""},{"$f":"IF(ISNA($DL169),\"\",getNumKeta0($DM169,3))","v":""},{"$f":"IF(ISNA($DL169),\"\",getNumKeta0($DM169,2))","v":""},{"$f":"IF(ISNA($DL169),\"\",getNumKeta0($DM169,1))","v":""},{"$f":"IF(ISNA($DL169),\"\",getNumKeta0($DM169,-1))","v":""},{"$f":"IF(ISNA($DL169),\"\",getNumKeta0($DM169,-2))","v":""},{"$f":"IF(ISNA($DL169),\"\",getNumKeta0($DM169,-3))","v":""},{"$f":"IF(ISNA($DL169),\"\",VLOOKUP($DL169,請求明細,6,FALSE))","v":""},{"$f":"IF(ISNA($DL169),\"\",getNumKeta0($DN169,9))","v":""},{"$f":"IF(ISNA($DL169),\"\",getNumKeta0($DN169,8))","v":""},{"$f":"IF(ISNA($DL169),\"\",getNumKeta0($DN169,7))","v":""},{"$f":"IF(ISNA($DL169),\"\",getNumKeta0($DN169,6))","v":""},{"$f":"IF(ISNA($DL169),\"\",getNumKeta0($DN169,5))","v":""},{"$f":"IF(ISNA($DL169),\"\",getNumKeta0($DN169,4))","v":""},{"$f":"IF(ISNA($DL169),\"\",getNumKeta0($DN169,3))","v":""},{"$f":"IF(ISNA($DL169),\"\",getNumKeta0($DN169,2))","v":""},{"$f":"IF(ISNA($DL169),\"\",getNumKeta0($DN169,1))","v":""},{"$f":"IF(ISNA($DL169),\"\",getNumKeta0($DN169,-1))","v":""},{"$f":"IF(ISNA($DL169),\"\",getNumKeta0($DN169,-2))","v":""},{"$f":"IF(ISNA($DL169),\"\",getNumKeta0($DN169,-3))","v":""},{"$f":"IF(ISNA($DL169),\"\",getNumKeta0($DO169,9))","v":""},{"$f":"IF(ISNA($DL169),\"\",getNumKeta0($DO169,8))","v":""},{"$f":"IF(ISNA($DL169),\"\",getNumKeta0($DO169,7))","v":""},{"$f":"IF(ISNA($DL169),\"\",getNumKeta0($DO169,6))","v":""},{"$f":"IF(ISNA($DL169),\"\",getNumKeta0($DO169,5))","v":""},{"$f":"IF(ISNA($DL169),\"\",getNumKeta0($DO169,4))","v":""},{"$f":"IF(ISNA($DL169),\"\",getNumKeta0($DO169,3))","v":""},{"$f":"IF(ISNA($DL169),\"\",getNumKeta0($DO169,2))","v":""},{"$f":"IF(ISNA($DL169),\"\",getNumKeta0($DO169,1))","v":""},{"$f":"IF(ISNA($DL169),\"\",LEFT(VLOOKUP($DL169,請求明細,10,FALSE),16))","v":""},null,null,null,null,null,null,null,null,null,null,null,null,{"$f":"IF($E$14=OFFSET(明細情報!$B$5, $DK169-1,0),1,0)","v":0},{"$f":"IF($DI169=0, 0, SUM($DI$28:$DI169))","v":0},{"$f":"DK136+1","v":46},{"$f":"VLOOKUP(B169,$DJ$28:$DK$65536,2,FALSE)","v":{"$error":"#N/A"}},{"$f":"IF(ISNA($DL169),0,VLOOKUP($DL169,請求明細,5,FALSE))","v":0},{"$f":"IF(ISNA($DL169),0,VLOOKUP($DL169,請求明細,7,FALSE))","v":0},{"$f":"IF(ISNA($DL169),0,VLOOKUP($DL169,請求明細,9,FALSE))","v":0}]
[null,{"$f":"B169+1","v":47},"",null,null,"",null,null,null,"","","","","","","","","","","","","","","","","","","","","","","","","","","","","","","","","","","",null,null,null,null,null,null,null,null,null,null,null,null,null,{"$f":"BF169+1","v":47},"",null,null,"",null,null,null,"","","","","","","","","","","","","","","","","","","","","","","","","","","","","","","","","","","",null,null,null,null,null,null,null,null,null,null,null,null,{"$f":"IF($E$14=OFFSET(明細情報!$B$5, $DK170-1,0),1,0)","v":0},{"$f":"IF($DI170=0, 0, SUM($DI$28:$DI170))","v":0},{"$f":"DK169+1","v":47},{"$error":"#N/A"},0,0,0]
[null,48,"",null,null,"",null,null,null,"","","","","","","","","","","","","","","","","","","","","","","","","","","","","","","","","","","",null,null,null,null,null,null,null,null,null,null,null,null,null,48,"",null,null,"",null,null,null,"","","","","","","","","","","","","","","","","","","","","","","","","","","","","","","","","","","",null,null,null,null,null,null,null,null,null,null,null,null,{"$f":"IF($E$14=OFFSET(明細情報!$B$5, $DK171-1,0),1,0)","v":0},{"$f":"IF($DI171=0, 0, SUM($DI$28:$DI171))","v":0},48,{"$error":"#N/A"},0,0,0]
[null,49,"",null,null,"",null,null,null,"","","","","","","","","","","","","","","","","","","","","","","","","","","","","","","","","","","",null,null,null,null,null,null,null,null,null,null,null,null,null,49,"",null,null,"",null,null,null,"","","","","","","","","","","","","","","","","","","","","","","","","","","","","","","","","","","",null,null,null,null,null,null,null,null,null,null,null,null,{"$f":"IF($E$14=OFFSET(明細情報!$B$5, $DK172-1,0),1,0)","v":0},{"$f":"IF($DI172=0, 0, SUM($DI$28:$DI172))","v":0},49,{"$error":"#N/A"},0,0,0]
[null,50,"",null,null,"",null,null,null,"","","","","","","","","","","","","","","","","","","","","","","","","","","","","","","","","","","",null,null,null,null,null,null,null,null,null,null,null,null,null,50,"",null,null,"",null,null,null,"","","","","","","","","","","","","","","","","","","","","","","","","","","","","","","","","","","",null,null,null,null,null,null,null,null,null,null,null,null,{"$f":"IF($E$14=OFFSET(明細情報!$B$5, $DK173-1,0),1,0)","v":0},{"$f":"IF($DI173=0, 0, SUM($DI$28:$DI173))","v":0},50,{"$error":"#N/A"},0,0,0]
[null,51,"",null,null,"",null,null,null,"","","","","","","","","","","","","","","","","","","","","","","","","","","","","","","","","","","",null,null,null,null,null,null,null,null,null,null,null,null,null,51,"",null,null,"",null,null,null,"","","","","","","","","","","","","","","","","","","","","","","","","","","","","","","","","","","",null,null,null,null,null,null,null,null,null,null,null,null,{"$f":"IF($E$14=OFFSET(明細情報!$B$5, $DK174-1,0),1,0)","v":0},{"$f":"IF($DI174=0, 0, SUM($DI$28:$DI174))","v":0},51,{"$error":"#N/A"},0,0,0]
[null,52,"",null,null,"",null,null,null,"","","","","","","","","","","","","","","","","","","","","","","","","","","","","","","","","","","",null,null,null,null,null,null,null,null,null,null,null,null,null,52,"",null,null,"",null,null,null,"","","","","","","","","","","","","","","","","","","","","","","","","","","","","","","","","","","",null,null,null,null,null,null,null,null,null,null,null,null,{"$f":"IF($E$14=OFFSET(明細情報!$B$5, $DK175-1,0),1,0)","v":0},{"$f":"IF($DI175=0, 0, SUM($DI$28:$DI175))","v":0},52,{"$error":"#N/A"},0,0,0]
[null,53,"",null,null,"",null,null,null,"","","","","","","","","","","","","","","","","","","","","","","","","","","","","","","","","","","",null,null,null,null,null,null,null,null,null,null,null,null,null,53,"",null,null,"",null,null,null,"","","","","","","","","","","","","","","","","","","","","","","","","","","","","","","","","","","",null,null,null,null,null,null,null,null,null,null,null,null,{"$f":"IF($E$14=OFFSET(明細情報!$B$5, $DK176-1,0),1,0)","v":0},{"$f":"IF($DI176=0, 0, SUM($DI$28:$DI176))","v":0},53,{"$error":"#N/A"},0,0,0]
[null,54,"",null,null,"",null,null,null,"","","","","","","","","","","","","","","","","","","","","","","","","","","","","","","","","","","",null,null,null,null,null,null,null,null,null,null,null,null,null,54,"",null,null,"",null,null,null,"","","","","","","","","","","","","","","","","","","","","","","","","","","","","","","","","","","",null,null,null,null,null,null,null,null,null,null,null,null,{"$f":"IF($E$14=OFFSET(明細情報!$B$5, $DK177-1,0),1,0)","v":0},{"$f":"IF($DI177=0, 0, SUM($DI$28:$DI177))","v":0},54,{"$error":"#N/A"},0,0,0]
[null,55,"",null,null,"",null,null,null,"","","","","","","","","","","","","","","","","","","","","","","","","","","","","","","","","","","",null,null,null,null,null,null,null,null,null,null,null,null,null,55,"",null,null,"",null,null,null,"","","","","","","","","","","","","","","","","","","","","","","","","","","","","","","","","","","",null,null,null,null,null,null,null,null,null,null,null,null,{"$f":"IF($E$14=OFFSET(明細情報!$B$5, $DK178-1,0),1,0)","v":0},{"$f":"IF($DI178=0, 0, SUM($DI$28:$DI178))","v":0},55,{"$error":"#N/A"},0,0,0]
[null,56,"",null,null,"",null,null,null,"","","","","","","","","","","","","","","","","","","","","","","","","","","","","","","","","","","",null,null,null,null,null,null,null,null,null,null,null,null,null,56,"",null,null,"",null,null,null,"","","","","","","","","","","","","","","","","","","","","","","","","","","","","","","","","","","",null,null,null,null,null,null,null,null,null,null,null,null,{"$f":"IF($E$14=OFFSET(明細情報!$B$5, $DK179-1,0),1,0)","v":0},{"$f":"IF($DI179=0, 0, SUM($DI$28:$DI179))","v":0},56,{"$error":"#N/A"},0,0,0]
[null,57,"",null,null,"",null,null,null,"","","","","","","","","","","","","","","","","","","","","","","","","","","","","","","","","","","",null,null,null,null,null,null,null,null,null,null,null,null,null,57,"",null,null,"",null,null,null,"","","","","","","","","","","","","","","","","","","","","","","","","","","","","","","","","","","",null,null,null,null,null,null,null,null,null,null,null,null,{"$f":"IF($E$14=OFFSET(明細情報!$B$5, $DK180-1,0),1,0)","v":0},{"$f":"IF($DI180=0, 0, SUM($DI$28:$DI180))","v":0},57,{"$error":"#N/A"},0,0,0]
[null,58,"",null,null,"",null,null,null,"","","","","","","","","","","","","","","","","","","","","","","","","","","","","","","","","","","",null,null,null,null,null,null,null,null,null,null,null,null,null,58,"",null,null,"",null,null,null,"","","","","","","","","","","","","","","","","","","","","","","","","","","","","","","","","","","",null,null,null,null,null,null,null,null,null,null,null,null,{"$f":"IF($E$14=OFFSET(明細情報!$B$5, $DK181-1,0),1,0)","v":0},{"$f":"IF($DI181=0, 0, SUM($DI$28:$DI181))","v":0},58,{"$error":"#N/A"},0,0,0]
[null,59,"",null,null,"",null,null,null,"","","","","","","","","","","","","","","","","","","","","","","","","","","","","","","","","","","",null,null,null,null,null,null,null,null,null,null,null,null,null,59,"",null,null,"",null,null,null,"","","","","","","","","","","","","","","","","","","","","","","","","","","","","","","","","","","",null,null,null,null,null,null,null,null,null,null,null,null,{"$f":"IF($E$14=OFFSET(明細情報!$B$5, $DK182-1,0),1,0)","v":0},{"$f":"IF($DI182=0, 0, SUM($DI$28:$DI182))","v":0},59,{"$error":"#N/A"},0,0,0]
[null,60,"",null,null,"",null,null,null,"","","","","","","","","","","","","","","","","","","","","","","","","","","","","","","","","","","",null,null,null,null,null,null,null,null,null,null,null,null,null,60,"",null,null,"",null,null,null,"","","","","","","","","","","","","","","","","","","","","","","","","","","","","","","","","","","",null,null,null,null,null,null,null,null,null,null,null,null,{"$f":"IF($E$14=OFFSET(明細情報!$B$5, $DK183-1,0),1,0)","v":0},{"$f":"IF($DI183=0, 0, SUM($DI$28:$DI183))","v":0},60,{"$error":"#N/A"},0,0,0]
[null,null,null,null,null,null,null,null,null,null,null,null,null,null,null,null,null,null,null,null,null,null,"　　小　　　　　　計",null,null,null,null,null,null,null,null,null,null,null,{"$f":"getNumKeta0($DP184,9)","v":""},{"$f":"getNumKeta0($DP184,8)","v":""},{"$f":"getNumKeta0($DP184,7)","v":""},{"$f":"getNumKeta0($DP184,6)","v":""},{"$f":"getNumKeta0($DP184,5)","v":""},{"$f":"getNumKeta0($DP184,4)","v":""},{"$f":"getNumKeta0($DP184,3)","v":""},{"$f":"getNumKeta0($DP184,2)","v":""},{"$f":"getNumKeta0($DP184,1)","v":""},"Ａ",{"$f":"IF($DQ184=0,\"\", $DQ184)","v":""},null,null,null,null,null,null,null,null,{"$f":"IF($DP184<>$DQ184,\"*\",\"\")","v":""},null,null,null,null,null,null,null,null,null,null,null,null,null,null,null,null,null,null,null,null,null,null,null,null,"　　小　　　　　　計",null,null,null,null,null,null,null,null,null,null,null,{"$f":"getNumKeta0($DP184,9)","v":""},{"$f":"getNumKeta0($DP184,8)","v":""},{"$f":"getNumKeta0($DP184,7)","v":""},{"$f":"getNumKeta0($DP184,6)","v":""},{"$f":"getNumKeta0($DP184,5)","v":""},{"$f":"getNumKeta0($DP184,4)","v":""},{"$f":"getNumKeta0($DP184,3)","v":""},{"$f":"getNumKeta0($DP184,2)","v":""},{"$f":"getNumKeta0($DP184,1)","v":""},"Ａ",{"$f":"IF($DQ184=0,\"\", $DQ184)","v":""},null,null,null,null,null,null,null,null,{"$f":"IF($DP184<>$DQ184,\"*\",\"\")","v":""},null,null,null,null,null,null,null,null,null,{"$f":"IF($DK183/15=ROUNDUP(MAX($DJ:$DJ)/15,0),VLOOKUP($E$14,基本情報_工事名称マスタ,4,FALSE)+VLOOKUP($E$14,基本情報_工事名称マスタ,5,FALSE),0)","v":0},{"$f":"IF($DK183/15=ROUNDUP(MAX($DJ:$DJ)/15,0),DQ186-DQ185,0)","v":0}]
[null,null,null,null,null,null,null,null,null,null,null,null,null,null,null,null,null,null,null,null,null,null,"　消　費　税",null,null,null,null,null,null,null,{"$f":"基本情報_消費税率","v":0.1},null,null,null,{"$f":"getNumKeta0($DP185,9)","v":""},{"$f":"getNumKeta0($DP185,8)","v":""},{"$f":"getNumKeta0($DP185,7)","v":""},{"$f":"getNumKeta0($DP185,6)","v":""},{"$f":"getNumKeta0($DP185,5)","v":""},{"$f":"getNumKeta0($DP185,4)","v":""},{"$f":"getNumKeta0($DP185,3)","v":""},{"$f":"getNumKeta0($DP185,2)","v":""},{"$f":"getNumKeta0($DP185,1)","v":""},"Ｂ",{"$f":"IF($DQ185=0,\"\", $DQ185)","v":""},null,null,null,null,null,null,null,null,null,null,null,null,null,null,null,null,null,null,null,null,null,null,null,null,null,null,null,null,null,null,null,null,null,"　消　費　税",null,null,null,null,null,null,null,{"$f":"基本情報_消費税率","v":0.1},null,null,null,{"$f":"getNumKeta0($DP185,9)","v":""},{"$f":"getNumKeta0($DP185,8)","v":""},{"$f":"getNumKeta0($DP185,7)","v":""},{"$f":"getNumKeta0($DP185,6)","v":""},{"$f":"getNumKeta0($DP185,5)","v":""},{"$f":"getNumKeta0($DP185,4)","v":""},{"$f":"getNumKeta0($DP185,3)","v":""},{"$f":"getNumKeta0($DP185,2)","v":""},{"$f":"getNumKeta0($DP185,1)","v":""},"Ｂ",{"$f":"IF($DQ185=0,\"\", $DQ185)","v":""},null,null,null,null,null,null,null,null,null,null,null,null,null,null,null,null,null,null,{"$f":"IF($DK183/15=ROUNDUP(MAX($DJ:$DJ)/15,0),VLOOKUP($E$14,基本情報_工事名称マスタ,6,FALSE),0)","v":0},{"$f":"IF($DK183/15=ROUNDUP(MAX($DJ:$DJ)/15,0),ROUND((DQ186-VLOOKUP($E$14,基本情報_工事名称マスタ,5,FALSE))/(基本情報_消費税率*100+100)*(基本情報_消費税率*100),0),0)","v":0}]
[null,null,null,null,null,null,null,null,null,null,null,null,null,null,null,null,null,null,null,null,null,null,"　　合　　　　　　計",null,null,null,null,null,null,null,null,null,null,null,{"$f":"getNumKeta0($DP186,9)","v":""},{"$f":"getNumKeta0($DP186,8)","v":""},{"$f":"getNumKeta0($DP186,7)","v":""},{"$f":"getNumKeta0($DP186,6)","v":""},{"$f":"getNumKeta0($DP186,5)","v":""},{"$f":"getNumKeta0($DP186,4)","v":""},{"$f":"getNumKeta0($DP186,3)","v":""},{"$f":"getNumKeta0($DP186,2)","v":""},{"$f":"getNumKeta0($DP186,1)","v":""},"Ｃ",{"$f":"IF($DQ186=0,\"\", $DQ186)","v":""},null,null,null,null,null,null,null,null,null,null,null,null,null,null,null,null,null,null,null,null,null,null,null,null,null,null,null,null,null,null,null,null,null,"　　合　　　　　　計",null,null,null,null,null,null,null,null,null,null,null,{"$f":"getNumKeta0($DP186,9)","v":""},{"$f":"getNumKeta0($DP186,8)","v":""},{"$f":"getNumKeta0($DP186,7)","v":""},{"$f":"getNumKeta0($DP186,6)","v":""},{"$f":"getNumKeta0($DP186,5)","v":""},{"$f":"getNumKeta0($DP186,4)","v":""},{"$f":"getNumKeta0($DP186,3)","v":""},{"$f":"getNumKeta0($DP186,2)","v":""},{"$f":"getNumKeta0($DP186,1)","v":""},"Ｃ",{"$f":"IF($DQ186=0,\"\", $DQ186)","v":""},null,null,null,null,null,null,null,null,null,null,null,null,null,null,null,null,null,null,{"$f":"IF($DK183/15=ROUNDUP(MAX($DJ:$DJ)/15,0),VLOOKUP($E$14,基本情報_工事名称マスタ,7,FALSE),0)","v":0},{"$f":"DP186","v":0}]
[null,null,null,null,null,null,null,null,null,null,null,null,null,null,null,null,null,null,null,null,null,null,"貴社→請求書(添付)→経理(控)",null,null,null,null,null,null,null,null,null,null,null,null,null,null,null,null,null,null,null,null,null,null,null,null,null,null,null,null,null,null,null,null,null,null,null,null,null,null,null,null,null,null,null,null,null,null,null,null,null,null,null,null,null,null,null,"貴社→請求書(添付)→経理→作業所長(控)"]
[]
[null,null,null,null,null,null,null,null,null,null,null,null,null,null,null,null,null,null,null,null,null,null,null,null,null,null,null,null,null,null,null,null,null,null,null,null,null,null,null,null,null,null,null,null,{"$f":"\"P \" & B230/15 & \"/\" & ROUNDUP(COUNTIF(請求明細_工事場所, E202)/15,0)","v":"P 5/1"},null,null,null,null,null,null,null,null,null,null,null,null,null,null,null,null,null,null,null,null,null,null,null,null,null,null,null,null,null,null,null,null,null,null,null,null,null,null,null,null,null,null,null,null,null,null,null,null,null,null,null,null,null,null,null,{"$f":"\"P \" & BF230/15 & \"/\" & ROUNDUP(COUNTIF(請求明細_工事場所, BI202)/15,0)","v":"P 5/1"}]
[null,null,null,"請求明細書（一般）",null,null,null,null,null,null,null,null,null,null,null,null,null,null,null,null,null,null,null,null,null,"取引先",null,null,{"$f":"基本情報_取引先コード","v":999999},null,null,null,null,null,null,null,null,null,"締\n日",null,null,{"$f":"基本情報_請求締日","v":"2020-07-31"},null,null,null,null,null,null,null,null,null,null,null,null,null,null,null,null,null,"請求明細書（一般）",null,null,null,null,null,null,null,null,null,null,null,null,null,null,null,null,null,null,null,null,null,"取引先",null,null,{"$f":"基本情報_取引先コード","v":999999},null,null,null,null,null,null,null,null,null,"締\n日",null,null,{"$f":"基本情報_請求締日","v":"2020-07-31"}]
[null,null,null,null,null,null,null,null,null,"提出用",null,null,null,null,null,null,null,null,null,null,null,null,null,null,null,null,null,null,null,null,null,null,null,null,null,null,null,null,null,null,null,null,null,null,null,null,null,null,null,null,null,null,null,null,null,null,null,null,null,null,null,null,null,null,null,"提出用"]
[]
[null,null,null,null,null,null,null,null,null,null,null,null,null,null,null,null,null,null,null,null,null,null,null,null,null,"コード",null,null,null,null,null,null,null,null,null,null,null,null,null,null,null,null,null,null,null,null,null,null,null,null,null,null,null,null,null,null,null,null,null,null,null,null,null,null,null,null,null,null,null,null,null,null,null,null,null,null,null,null,null,null,null,"コード"]
[]
[]
[null,"丸高・みなと特定建設工事共同企業体　御中",null,null,null,null,null,null,null,null,null,null,null,null,null,null,null,null,null,null,null,null,null,null,null,"（住所・社名・電話）",null,null,null,null,null,null,null,null,null,null,null,null,null,null,null,null,null,null,null,null,null,null,null,null,null,null,null,null,null,null,null,"丸高・みなと特定建設工事共同企業体　御中",null,null,null,null,null,null,null,null,null,null,null,null,null,null,null,null,null,null,null,null,null,null,null,"（住所・社名・電話）"]
[]
[]
[]
[null,null,null,null,null,null,null,null,null,null,null,null,null,null,null,null,null,null,null,null,null,null,null,null,null,null,null,null,{"$f":"基本情報_住所","v":"酒田市○○○○１－１"},null,null,null,null,null,null,null,null,null,null,null,null,null,null,null,null,null,null,null,null,null,null,null,null,null,null,null,null,null,null,null,null,null,null,null,null,null,null,null,null,null,null,null,null,null,null,null,null,null,null,null,null,null,null,null,{"$f":"基本情報_住所","v":"酒田市○○○○１－１"}]
[]
[null,"工　事　名",null,null,{"$f":"$E$14","v":"×××××工事"},null,null,null,null,null,null,null,null,null,null,"承　　認",null,null,null,null,null,"検　　印",null,null,null,null,null,null,null,null,null,null,null,null,null,null,null,null,null,null,null,null,null,null,null,null,null,null,null,null,null,null,null,null,null,null,null,"工　事　名",null,null,{"$f":"$E$14","v":"×××××工事"},null,null,null,null,null,null,null,null,null,null,"承　　認",null,null,null,null,null,"検　　印"]
[]
[]
[null,null,null,null,null,null,null,null,null,null,null,null,null,null,null,null,null,null,null,null,null,null,null,null,null,null,null,null,{"$f":"基本情報_社名","v":"(株）○○建設"},null,null,null,null,null,null,null,null,null,null,null,null,null,null,null,null,null,null,null,null,null,"印",null,null,null,null,null,null,null,null,null,null,null,null,null,null,null,null,null,null,null,null,null,null,null,null,null,null,null,null,null,null,null,null,null,{"$f":"基本情報_社名","v":"(株）○○建設"},null,null,null,null,null,null,null,null,null,null,null,null,null,null,null,null,null,null,null,null,null,"印"]
[]
[]
[null,"作業所長名",null,null,{"$f":"VLOOKUP(E202,基本情報_工事名称マスタ,3,FALSE)","v":"××次郎"},null,null,null,null,null,null,null,null,null,null,null,null,null,null,null,null,null,null,null,null,null,null,null,null,null,null,null,null,null,null,null,null,null,null,null,null,null,null,null,null,null,null,null,null,null,null,null,null,null,null,null,null,"作業所長名",null,null,{"$f":"VLOOKUP(BI202,基本情報_工事名称マスタ,3,FALSE)","v":"××次郎"}]
[]
[null,null,null,null,null,null,null,null,null,null,null,null,null,null,null,null,null,null,null,null,null,null,null,null,null,null,null,null,{"$f":"基本情報_電話番号","v":"0234 - 00 - 0000"},null,null,null,null,null,null,null,null,null,null,null,null,null,null,null,null,null,null,null,null,null,null,null,null,null,null,null,null,null,null,null,null,null,null,null,null,null,null,null,null,null,null,null,null,null,null,null,null,null,null,null,null,null,null,null,{"$f":"基本情報_電話番号","v":"0234 - 00 - 0000"}]
[]
[]
[]
[]
[null,"通番","納入年月日",null,null,"品　名　・　規　格",null,null,null,"数　　　　量",null,null,null,null,null,null,null,null,null,null,null,"単 位","単　　　　価",null,null,null,null,null,null,null,null,null,null,null,"金　　　額",null,null,null,null,null,null,null,null,"備　考",null,null,null,null,null,null,null,null,null,null,null,null,null,"通番","納入年月日",null,null,"品　名　・　規　格",null,null,null,"数　　　　量",null,null,null,null,null,null,null,null,null,null,null,"単 位","単　　　　価",null,null,null,null,null,null,null,null,null,null,null,"金　　　額",null,null,null,null,null,null,null,null,"備　考",null,null,null,null,null,null,null,null,null,null,null,null,"ヒット","ランク","-","通番","数量","単価","金額"]
[null,{"$f":"B183+1","v":61},{"$f":"IF(ISNA($DL216),\"\",VLOOKUP($DL216,請求明細,3,FALSE))","v":""},null,null,{"$f":"IF(ISNA($DL216),\"\",VLOOKUP($DL216,請求明細,4,FALSE))","v":""},null,null,null,{"$f":"IF(ISNA($DL216),\"\",getNumKeta0($DM216,9))","v":""},{"$f":"IF(ISNA($DL216),\"\",getNumKeta0($DM216,8))","v":""},{"$f":"IF(ISNA($DL216),\"\",getNumKeta0($DM216,7))","v":""},{"$f":"IF(ISNA($DL216),\"\",getNumKeta0($DM216,6))","v":""},{"$f":"IF(ISNA($DL216),\"\",getNumKeta0($DM216,5))","v":""},{"$f":"IF(ISNA($DL216),\"\",getNumKeta0($DM216,4))","v":""},{"$f":"IF(ISNA($DL216),\"\",getNumKeta0($DM216,3))","v":""},{"$f":"IF(ISNA($DL216),\"\",getNumKeta0($DM216,2))","v":""},{"$f":"IF(ISNA($DL216),\"\",getNumKeta0($DM216,1))","v":""},{"$f":"IF(ISNA($DL216),\"\",getNumKeta0($DM216,-1))","v":""},{"$f":"IF(ISNA($DL216),\"\",getNumKeta0($DM216,-2))","v":""},{"$f":"IF(ISNA($DL216),\"\",getNumKeta0($DM216,-3))","v":""},{"$f":"IF(ISNA($DL216),\"\",VLOOKUP($DL216,請求明細,6,FALSE))","v":""},{"$f":"IF(ISNA($DL216),\"\",getNumKeta0($DN216,9))","v":""},{"$f":"IF(ISNA($DL216),\"\",getNumKeta0($DN216,8))","v":""},{"$f":"IF(ISNA($DL216),\"\",getNumKeta0($DN216,7))","v":""},{"$f":"IF(ISNA($DL216),\"\",getNumKeta0($DN216,6))","v":""},{"$f":"IF(ISNA($DL216),\"\",getNumKeta0($DN216,5))","v":""},{"$f":"IF(ISNA($DL216),\"\",getNumKeta0($DN216,4))","v":""},{"$f":"IF(ISNA($DL216),\"\",getNumKeta0($DN216,3))","v":""},{"$f":"IF(ISNA($DL216),\"\",getNumKeta0($DN216,2))","v":""},{"$f":"IF(ISNA($DL216),\"\",getNumKeta0($DN216,1))","v":""},{"$f":"IF(ISNA($DL216),\"\",getNumKeta0($DN216,-1))","v":""},{"$f":"IF(ISNA($DL216),\"\",getNumKeta0($DN216,-2))","v":""},{"$f":"IF(ISNA($DL216),\"\",getNumKeta0($DN216,-3))","v":""},{"$f":"IF(ISNA($DL216),\"\",getNumKeta0($DO216,9))","v":""},{"$f":"IF(ISNA($DL216),\"\",getNumKeta0($DO216,8))","v":""},{"$f":"IF(ISNA($DL216),\"\",getNumKeta0($DO216,7))","v":""},{"$f":"IF(ISNA($DL216),\"\",getNumKeta0($DO216,6))","v":""},{"$f":"IF(ISNA($DL216),\"\",getNumKeta0($DO216,5))","v":""},{"$f":"IF(ISNA($DL216),\"\",getNumKeta0($DO216,4))","v":""},{"$f":"IF(ISNA($DL216),\"\",getNumKeta0($DO216,3))","v":""},{"$f":"IF(ISNA($DL216),\"\",getNumKeta0($DO216,2))","v":""},{"$f":"IF(ISNA($DL216),\"\",getNumKeta0($DO216,1))","v":""},{"$f":"IF(ISNA($DL216),\"\",LEFT(VLOOKUP($DL216,請求明細,10,FALSE),16))","v":""},null,null,null,null,null,null,null,null,null,null,null,null,null,{"$f":"BF183+1","v":61},{"$f":"IF(ISNA($DL216),\"\",VLOOKUP($DL216,請求明細,3,FALSE))","v":""},null,null,{"$f":"IF(ISNA($DL216),\"\",VLOOKUP($DL216,請求明細,4,FALSE))","v":""},null,null,null,{"$f":"IF(ISNA($DL216),\"\",getNumKeta0($DM216,9))","v":""},{"$f":"IF(ISNA($DL216),\"\",getNumKeta0($DM216,8))","v":""},{"$f":"IF(ISNA($DL216),\"\",getNumKeta0($DM216,7))","v":""},{"$f":"IF(ISNA($DL216),\"\",getNumKeta0($DM216,6))","v":""},{"$f":"IF(ISNA($DL216),\"\",getNumKeta0($DM216,5))","v":""},{"$f":"IF(ISNA($DL216),\"\",getNumKeta0($DM216,4))","v":""},{"$f":"IF(ISNA($DL216),\"\",getNumKeta0($DM216,3))","v":""},{"$f":"IF(ISNA($DL216),\"\",getNumKeta0($DM216,2))","v":""},{"$f":"IF(ISNA($DL216),\"\",getNumKeta0($DM216,1))","v":""},{"$f":"IF(ISNA($DL216),\"\",getNumKeta0($DM216,-1))","v":""},{"$f":"IF(ISNA($DL216),\"\",getNumKeta0($DM216,-2))","v":""},{"$f":"IF(ISNA($DL216),\"\",getNumKeta0($DM216,-3))","v":""},{"$f":"IF(ISNA($DL216),\"\",VLOOKUP($DL216,請求明細,6,FALSE))","v":""},{"$f":"IF(ISNA($DL216),\"\",getNumKeta0($DN216,9))","v":""},{"$f":"IF(ISNA($DL216),\"\",getNumKeta0($DN216,8))","v":""},{"$f":"IF(ISNA($DL216),\"\",getNumKeta0($DN216,7))","v":""},{"$f":"IF(ISNA($DL216),\"\",getNumKeta0($DN216,6))","v":""},{"$f":"IF(ISNA($DL216),\"\",getNumKeta0($DN216,5))","v":""},{"$f":"IF(ISNA($DL216),\"\",getNumKeta0($DN216,4))","v":""},{"$f":"IF(ISNA($DL216),\"\",getNumKeta0($DN216,3))","v":""},{"$f":"IF(ISNA($DL216),\"\",getNumKeta0($DN216,2))","v":""},{"$f":"IF(ISNA($DL216),\"\",getNumKeta0($DN216,1))","v":""},{"$f":"IF(ISNA($DL216),\"\",getNumKeta0($DN216,-1))","v":""},{"$f":"IF(ISNA($DL216),\"\",getNumKeta0($DN216,-2))","v":""},{"$f":"IF(ISNA($DL216),\"\",getNumKeta0($DN216,-3))","v":""},{"$f":"IF(ISNA($DL216),\"\",getNumKeta0($DO216,9))","v":""},{"$f":"IF(ISNA($DL216),\"\",getNumKeta0($DO216,8))","v":""},{"$f":"IF(ISNA($DL216),\"\",getNumKeta0($DO216,7))","v":""},{"$f":"IF(ISNA($DL216),\"\",getNumKeta0($DO216,6))","v":""},{"$f":"IF(ISNA($DL216),\"\",getNumKeta0($DO216,5))","v":""},{"$f":"IF(ISNA($DL216),\"\",getNumKeta0($DO216,4))","v":""},{"$f":"IF(ISNA($DL216),\"\",getNumKeta0($DO216,3))","v":""},{"$f":"IF(ISNA($DL216),\"\",getNumKeta0($DO216,2))","v":""},{"$f":"IF(ISNA($DL216),\"\",getNumKeta0($DO216,1))","v":""},{"$f":"IF(ISNA($DL216),\"\",LEFT(VLOOKUP($DL216,請求明細,10,FALSE),16))","v":""},null,null,null,null,null,null,null,null,null,null,null,null,{"$f":"IF($E$14=OFFSET(明細情報!$B$5, $DK216-1,0),1,0)","v":0},{"$f":"IF($DI216=0, 0, SUM($DI$28:$DI216))","v":0},{"$f":"DK183+1","v":61},{"$f":"VLOOKUP(B216,$DJ$28:$DK$65536,2,FALSE)","v":{"$error":"#N/A"}},{"$f":"IF(ISNA($DL216),0,VLOOKUP($DL216,請求明細,5,FALSE))","v":0},{"$f":"IF(ISNA($DL216),0,VLOOKUP($DL216,請求明細,7,FALSE))","v":0},{"$f":"IF(ISNA($DL216),0,VLOOKUP($DL216,請求明細,9,FALSE))","v":0}]
[null,{"$f":"B216+1","v":62},"",null,null,"",null,null,null,"","","","","","","","","","","","","","","","","","","","","","","","","","","","","","","","","","","",null,null,null,null,null,null,null,null,null,null,null,null,null,{"$f":"BF216+1","v":62},"",null,null,"",null,null,null,"","","","","","","","","","","","","","","","","","","","","","","","","","","","","","","","","","","",null,null,null,null,null,null,null,null,null,null,null,null,{"$f":"IF($E$14=OFFSET(明細情報!$B$5, $DK217-1,0),1,0)","v":0},{"$f":"IF($DI217=0, 0, SUM($DI$28:$DI217))","v":0},{"$f":"DK216+1","v":62},{"$error":"#N/A"},0,0,0]
[null,63,"",null,null,"",null,null,null,"","","","","","","","","","","","","","","","","","","","","","","","","","","","","","","","","","","",null,null,null,null,null,null,null,null,null,null,null,null,null,63,"",null,null,"",null,null,null,"","","","","","","","","","","","","","","","","","","","","","","","","","","","","","","","","","","",null,null,null,null,null,null,null,null,null,null,null,null,{"$f":"IF($E$14=OFFSET(明細情報!$B$5, $DK218-1,0),1,0)","v":0},{"$f":"IF($DI218=0, 0, SUM($DI$28:$DI218))","v":0},63,{"$error":"#N/A"},0,0,0]
[null,64,"",null,null,"",null,null,null,"","","","","","","","","","","","","","","","","","","","","","","","","","","","","","","","","","","",null,null,null,null,null,null,null,null,null,null,null,null,null,64,"",null,null,"",null,null,null,"","","","","","","","","","","","","","","","","","","","","","","","","","","","","","","","","","","",null,null,null,null,null,null,null,null,null,null,null,null,{"$f":"IF($E$14=OFFSET(明細情報!$B$5, $DK219-1,0),1,0)","v":0},{"$f":"IF($DI219=0, 0, SUM($DI$28:$DI219))","v":0},64,{"$error":"#N/A"},0,0,0]
[null,65,"",null,null,"",null,null,null,"","","","","","","","","","","","","","","","","","","","","","","","","","","","","","","","","","","",null,null,null,null,null,null,null,null,null,null,null,null,null,65,"",null,null,"",null,null,null,"","","","","","","","","","","","","","","","","","","","","","","","","","","","","","","","","","","",null,null,null,null,null,null,null,null,null,null,null,null,{"$f":"IF($E$14=OFFSET(明細情報!$B$5, $DK220-1,0),1,0)","v":0},{"$f":"IF($DI220=0, 0, SUM($DI$28:$DI220))","v":0},65,{"$error":"#N/A"},0,0,0]
[null,66,"",null,null,"",null,null,null,"","","","","","","","","","","","","","","","","","","","","","","","","","","","","","","","","","","",null,null,null,null,null,null,null,null,null,null,null,null,null,66,"",null,null,"",null,null,null,"","","","","","","","","","","","","","","","","","","","","","","","","","","","","","","","","","","",null,null,null,null,null,null,null,null,null,null,null,null,{"$f":"IF($E$14=OFFSET(明細情報!$B$5, $DK221-1,0),1,0)","v":0},{"$f":"IF($DI221=0, 0, SUM($DI$28:$DI221))","v":0},66,{"$error":"#N/A"},0,0,0]
[null,67,"",null,null,"",null,null,null,"","","","","","","","","","","","","","","","","","","","","","","","","","","","","","","","","","","",null,null,null,null,null,null,null,null,null,null,null,null,null,67,"",null,null,"",null,null,null,"","","","","","","","","","","","","","","","","","","","","","","","","","","","","","","","","","","",null,null,null,null,null,null,null,null,null,null,null,null,{"$f":"IF($E$14=OFFSET(明細情報!$B$5, $DK222-1,0),1,0)","v":0},{"$f":"IF($DI222=0, 0, SUM($DI$28:$DI222))","v":0},67,{"$error":"#N/A"},0,0,0]
[null,68,"",null,null,"",null,null,null,"","","","","","","","","","","","","","","","","","","","","","","","","","","","","","","","","","","",null,null,null,null,null,null,null,null,null,null,null,null,null,68,"",null,null,"",null,null,null,"","","","","","","","","","","","","","","","","","","","","","","","","","","","","","","","","","","",null,null,null,null,null,null,null,null,null,null,null,null,{"$f":"IF($E$14=OFFSET(明細情報!$B$5, $DK223-1,0),1,0)","v":0},{"$f":"IF($DI223=0, 0, SUM($DI$28:$DI223))","v":0},68,{"$error":"#N/A"},0,0,0]
[null,69,"",null,null,"",null,null,null,"","","","","","","","","","","","","","","","","","","","","","","","","","","","","","","","","","","",null,null,null,null,null,null,null,null,null,null,null,null,null,69,"",null,null,"",null,null,null,"","","","","","","","","","","","","","","","","","","","","","","","","","","","","","","","","","","",null,null,null,null,null,null,null,null,null,null,null,null,{"$f":"IF($E$14=OFFSET(明細情報!$B$5, $DK224-1,0),1,0)","v":0},{"$f":"IF($DI224=0, 0, SUM($DI$28:$DI224))","v":0},69,{"$error":"#N/A"},0,0,0]
[null,70,"",null,null,"",null,null,null,"","","","","","","","","","","","","","","","","","","","","","","","","","","","","","","","","","","",null,null,null,null,null,null,null,null,null,null,null,null,null,70,"",null,null,"",null,null,null,"","","","","","","","","","","","","","","","","","","","","","","","","","","","","","","","","","","",null,null,null,null,null,null,null,null,null,null,null,null,{"$f":"IF($E$14=OFFSET(明細情報!$B$5, $DK225-1,0),1,0)","v":0},{"$f":"IF($DI225=0, 0, SUM($DI$28:$DI225))","v":0},70,{"$error":"#N/A"},0,0,0]
[null,71,"",null,null,"",null,null,null,"","","","","","","","","","","","","","","","","","","","","","","","","","","","","","","","","","","",null,null,null,null,null,null,null,null,null,null,null,null,null,71,"",null,null,"",null,null,null,"","","","","","","","","","","","","","","","","","","","","","","","","","","","","","","","","","","",null,null,null,null,null,null,null,null,null,null,null,null,{"$f":"IF($E$14=OFFSET(明細情報!$B$5, $DK226-1,0),1,0)","v":0},{"$f":"IF($DI226=0, 0, SUM($DI$28:$DI226))","v":0},71,{"$error":"#N/A"},0,0,0]
[null,72,"",null,null,"",null,null,null,"","","","","","","","","","","","","","","","","","","","","","","","","","","","","","","","","","","",null,null,null,null,null,null,null,null,null,null,null,null,null,72,"",null,null,"",null,null,null,"","","","","","","","","","","","","","","","","","","","","","","","","","","","","","","","","","","",null,null,null,null,null,null,null,null,null,null,null,null,{"$f":"IF($E$14=OFFSET(明細情報!$B$5, $DK227-1,0),1,0)","v":0},{"$f":"IF($DI227=0, 0, SUM($DI$28:$DI227))","v":0},72,{"$error":"#N/A"},0,0,0]
[null,73,"",null,null,"",null,null,null,"","","","","","","","","","","","","","","","","","","","","","","","","","","","","","","","","","","",null,null,null,null,null,null,null,null,null,null,null,null,null,73,"",null,null,"",null,null,null,"","","","","","","","","","","","","","","","","","","","","","","","","","","","","","","","","","","",null,null,null,null,null,null,null,null,null,null,null,null,{"$f":"IF($E$14=OFFSET(明細情報!$B$5, $DK228-1,0),1,0)","v":0},{"$f":"IF($DI228=0, 0, SUM($DI$28:$DI228))","v":0},73,{"$error":"#N/A"},0,0,0]
[null,74,"",null,null,"",null,null,null,"","","","","","","","","","","","","","","","","","","","","","","","","","","","","","","","","","","",null,null,null,null,null,null,null,null,null,null,null,null,null,74,"",null,null,"",null,null,null,"","","","","","","","","","","","","","","","","","","","","","","","","","","","","","","","","","","",null,null,null,null,null,null,null,null,null,null,null,null,{"$f":"IF($E$14=OFFSET(明細情報!$B$5, $DK229-1,0),1,0)","v":0},{"$f":"IF($DI229=0, 0, SUM($DI$28:$DI229))","v":0},74,{"$error":"#N/A"},0,0,0]
[null,75,"",null,null,"",null,null,null,"","","","","","","","","","","","","","","","","","","","","","","","","","","","","","","","","","","",null,null,null,null,null,null,null,null,null,null,null,null,null,75,"",null,null,"",null,null,null,"","","","","","","","","","","","","","","","","","","","","","","","","","","","","","","","","","","",null,null,null,null,null,null,null,null,null,null,null,null,{"$f":"IF($E$14=OFFSET(明細情報!$B$5, $DK230-1,0),1,0)","v":0},{"$f":"IF($DI230=0, 0, SUM($DI$28:$DI230))","v":0},75,{"$error":"#N/A"},0,0,0]
[null,null,null,null,null,null,null,null,null,null,null,null,null,null,null,null,null,null,null,null,null,null,"　　小　　　　　　計",null,null,null,null,null,null,null,null,null,null,null,{"$f":"getNumKeta0($DP231,9)","v":""},{"$f":"getNumKeta0($DP231,8)","v":""},{"$f":"getNumKeta0($DP231,7)","v":""},{"$f":"getNumKeta0($DP231,6)","v":""},{"$f":"getNumKeta0($DP231,5)","v":""},{"$f":"getNumKeta0($DP231,4)","v":""},{"$f":"getNumKeta0($DP231,3)","v":""},{"$f":"getNumKeta0($DP231,2)","v":""},{"$f":"getNumKeta0($DP231,1)","v":""},"Ａ",{"$f":"IF($DQ231=0,\"\", $DQ231)","v":""},null,null,null,null,null,null,null,null,{"$f":"IF($DP231<>$DQ231,\"*\",\"\")","v":""},null,null,null,null,null,null,null,null,null,null,null,null,null,null,null,null,null,null,null,null,null,null,null,null,"　　小　　　　　　計",null,null,null,null,null,null,null,null,null,null,null,{"$f":"getNumKeta0($DP231,9)","v":""},{"$f":"getNumKeta0($DP231,8)","v":""},{"$f":"getNumKeta0($DP231,7)","v":""},{"$f":"getNumKeta0($DP231,6)","v":""},{"$f":"getNumKeta0($DP231,5)","v":""},{"$f":"getNumKeta0($DP231,4)","v":""},{"$f":"getNumKeta0($DP231,3)","v":""},{"$f":"getNumKeta0($DP231,2)","v":""},{"$f":"getNumKeta0($DP231,1)","v":""},"Ａ",{"$f":"IF($DQ231=0,\"\", $DQ231)","v":""},null,null,null,null,null,null,null,null,{"$f":"IF($DP231<>$DQ231,\"*\",\"\")","v":""},null,null,null,null,null,null,null,null,null,{"$f":"IF($DK230/15=ROUNDUP(MAX($DJ:$DJ)/15,0),VLOOKUP($E$14,基本情報_工事名称マスタ,4,FALSE)+VLOOKUP($E$14,基本情報_工事名称マスタ,5,FALSE),0)","v":0},{"$f":"IF($DK230/15=ROUNDUP(MAX($DJ:$DJ)/15,0),DQ233-DQ232,0)","v":0}]
[null,null,null,null,null,null,null,null,null,null,null,null,null,null,null,null,null,null,null,null,null,null,"　消　費　税",null,null,null,null,null,null,null,{"$f":"基本情報_消費税率","v":0.1},null,null,null,{"$f":"getNumKeta0($DP232,9)","v":""},{"$f":"getNumKeta0($DP232,8)","v":""},{"$f":"getNumKeta0($DP232,7)","v":""},{"$f":"getNumKeta0($DP232,6)","v":""},{"$f":"getNumKeta0($DP232,5)","v":""},{"$f":"getNumKeta0($DP232,4)","v":""},{"$f":"getNumKeta0($DP232,3)","v":""},{"$f":"getNumKeta0($DP232,2)","v":""},{"$f":"getNumKeta0($DP232,1)","v":""},"Ｂ",{"$f":"IF($DQ232=0,\"\", $DQ232)","v":""},null,null,null,null,null,null,null,null,null,null,null,null,null,null,null,null,null,null,null,null,null,null,null,null,null,null,null,null,null,null,null,null,null,"　消　費　税",null,null,null,null,null,null,null,{"$f":"基本情報_消費税率","v":0.1},null,null,null,{"$f":"getNumKeta0($DP232,9)","v":""},{"$f":"getNumKeta0($DP232,8)","v":""},{"$f":"getNumKeta0($DP232,7)","v":""},{"$f":"getNumKeta0($DP232,6)","v":""},{"$f":"getNumKeta0($DP232,5)","v":""},{"$f":"getNumKeta0($DP232,4)","v":""},{"$f":"getNumKeta0($DP232,3)","v":""},{"$f":"getNumKeta0($DP232,2)","v":""},{"$f":"getNumKeta0($DP232,1)","v":""},"Ｂ",{"$f":"IF($DQ232=0,\"\", $DQ232)","v":""},null,null,null,null,null,null,null,null,null,null,null,null,null,null,null,null,null,null,{"$f":"IF($DK230/15=ROUNDUP(MAX($DJ:$DJ)/15,0),VLOOKUP($E$14,基本情報_工事名称マスタ,6,FALSE),0)","v":0},{"$f":"IF($DK230/15=ROUNDUP(MAX($DJ:$DJ)/15,0),ROUND((DQ233-VLOOKUP($E$14,基本情報_工事名称マスタ,5,FALSE))/(基本情報_消費税率*100+100)*(基本情報_消費税率*100),0),0)","v":0}]
[null,null,null,null,null,null,null,null,null,null,null,null,null,null,null,null,null,null,null,null,null,null,"　　合　　　　　　計",null,null,null,null,null,null,null,null,null,null,null,{"$f":"getNumKeta0($DP233,9)","v":""},{"$f":"getNumKeta0($DP233,8)","v":""},{"$f":"getNumKeta0($DP233,7)","v":""},{"$f":"getNumKeta0($DP233,6)","v":""},{"$f":"getNumKeta0($DP233,5)","v":""},{"$f":"getNumKeta0($DP233,4)","v":""},{"$f":"getNumKeta0($DP233,3)","v":""},{"$f":"getNumKeta0($DP233,2)","v":""},{"$f":"getNumKeta0($DP233,1)","v":""},"Ｃ",{"$f":"IF($DQ233=0,\"\", $DQ233)","v":""},null,null,null,null,null,null,null,null,null,null,null,null,null,null,null,null,null,null,null,null,null,null,null,null,null,null,null,null,null,null,null,null,null,"　　合　　　　　　計",null,null,null,null,null,null,null,null,null,null,null,{"$f":"getNumKeta0($DP233,9)","v":""},{"$f":"getNumKeta0($DP233,8)","v":""},{"$f":"getNumKeta0($DP233,7)","v":""},{"$f":"getNumKeta0($DP233,6)","v":""},{"$f":"getNumKeta0($DP233,5)","v":""},{"$f":"getNumKeta0($DP233,4)","v":""},{"$f":"getNumKeta0($DP233,3)","v":""},{"$f":"getNumKeta0($DP233,2)","v":""},{"$f":"getNumKeta0($DP233,1)","v":""},"Ｃ",{"$f":"IF($DQ233=0,\"\", $DQ233)","v":""},null,null,null,null,null,null,null,null,null,null,null,null,null,null,null,null,null,null,{"$f":"IF($DK230/15=ROUNDUP(MAX($DJ:$DJ)/15,0),VLOOKUP($E$14,基本情報_工事名称マスタ,7,FALSE),0)","v":0},{"$f":"DP233","v":0}]
[null,null,null,null,null,null,null,null,null,null,null,null,null,null,null,null,null,null,null,null,null,null,"貴社→請求書(添付)→経理(控)",null,null,null,null,null,null,null,null,null,null,null,null,null,null,null,null,null,null,null,null,null,null,null,null,null,null,null,null,null,null,null,null,null,null,null,null,null,null,null,null,null,null,null,null,null,null,null,null,null,null,null,null,null,null,null,"貴社→請求書(添付)→経理→作業所長(控)"]
[]
[null,null,null,null,null,null,null,null,null,null,null,null,null,null,null,null,null,null,null,null,null,null,null,null,null,null,null,null,null,null,null,null,null,null,null,null,null,null,null,null,null,null,null,null,{"$f":"\"P \" & B277/15 & \"/\" & ROUNDUP(COUNTIF(請求明細_工事場所, E249)/15,0)","v":"P 6/1"},null,null,null,null,null,null,null,null,null,null,null,null,null,null,null,null,null,null,null,null,null,null,null,null,null,null,null,null,null,null,null,null,null,null,null,null,null,null,null,null,null,null,null,null,null,null,null,null,null,null,null,null,null,null,null,{"$f":"\"P \" & BF277/15 & \"/\" & ROUNDUP(COUNTIF(請求明細_工事場所, BI249)/15,0)","v":"P 6/1"}]
[null,null,null,"請求明細書（一般）",null,null,null,null,null,null,null,null,null,null,null,null,null,null,null,null,null,null,null,null,null,"取引先",null,null,{"$f":"基本情報_取引先コード","v":999999},null,null,null,null,null,null,null,null,null,"締\n日",null,null,{"$f":"基本情報_請求締日","v":"2020-07-31"},null,null,null,null,null,null,null,null,null,null,null,null,null,null,null,null,null,"請求明細書（一般）",null,null,null,null,null,null,null,null,null,null,null,null,null,null,null,null,null,null,null,null,null,"取引先",null,null,{"$f":"基本情報_取引先コード","v":999999},null,null,null,null,null,null,null,null,null,"締\n日",null,null,{"$f":"基本情報_請求締日","v":"2020-07-31"}]
[null,null,null,null,null,null,null,null,null,"提出用",null,null,null,null,null,null,null,null,null,null,null,null,null,null,null,null,null,null,null,null,null,null,null,null,null,null,null,null,null,null,null,null,null,null,null,null,null,null,null,null,null,null,null,null,null,null,null,null,null,null,null,null,null,null,null,null,"提出用"]
[]
[null,null,null,null,null,null,null,null,null,null,null,null,null,null,null,null,null,null,null,null,null,null,null,null,null,"コード",null,null,null,null,null,null,null,null,null,null,null,null,null,null,null,null,null,null,null,null,null,null,null,null,null,null,null,null,null,null,null,null,null,null,null,null,null,null,null,null,null,null,null,null,null,null,null,null,null,null,null,null,null,null,null,"コード"]
[]
[]
[null,"丸高・みなと特定建設工事共同企業体　御中",null,null,null,null,null,null,null,null,null,null,null,null,null,null,null,null,null,null,null,null,null,null,null,"（住所・社名・電話）",null,null,null,null,null,null,null,null,null,null,null,null,null,null,null,null,null,null,null,null,null,null,null,null,null,null,null,null,null,null,null,"丸高・みなと特定建設工事共同企業体　御中",null,null,null,null,null,null,null,null,null,null,null,null,null,null,null,null,null,null,null,null,null,null,null,"（住所・社名・電話）"]
[]
[]
[]
[null,null,null,null,null,null,null,null,null,null,null,null,null,null,null,null,null,null,null,null,null,null,null,null,null,null,null,null,{"$f":"基本情報_住所","v":"酒田市○○○○１－１"},null,null,null,null,null,null,null,null,null,null,null,null,null,null,null,null,null,null,null,null,null,null,null,null,null,null,null,null,null,null,null,null,null,null,null,null,null,null,null,null,null,null,null,null,null,null,null,null,null,null,null,null,null,null,null,{"$f":"基本情報_住所","v":"酒田市○○○○１－１"}]
[]
[null,"工　事　名",null,null,{"$f":"$E$14","v":"×××××工事"},null,null,null,null,null,null,null,null,null,null,"承　　認",null,null,null,null,null,"検　　印",null,null,null,null,null,null,null,null,null,null,null,null,null,null,null,null,null,null,null,null,null,null,null,null,null,null,null,null,null,null,null,null,null,null,null,"工　事　名",null,null,{"$f":"$E$14","v":"×××××工事"},null,null,null,null,null,null,null,null,null,null,"承　　認",null,null,null,null,null,"検　　印"]
[]
[]
[null,null,null,null,null,null,null,null,null,null,null,null,null,null,null,null,null,null,null,null,null,null,null,null,null,null,null,null,{"$f":"基本情報_社名","v":"(株）○○建設"},null,null,null,null,null,null,null,null,null,null,null,null,null,null,null,null,null,null,null,null,null,"印",null,null,null,null,null,null,null,null,null,null,null,null,null,null,null,null,null,null,null,null,null,null,null,null,null,null,null,null,null,null,null,null,null,{"$f":"基本情報_社名","v":"(株）○○建設"},null,null,null,null,null,null,null,null,null,null,null,null,null,null,null,null,null,null,null,null,null,"印"]
[]
[]
[null,"作業所長名",null,null,{"$f":"VLOOKUP(E249,基本情報_工事名称マスタ,3,FALSE)","v":"××次郎"},null,null,null,null,null,null,null,null,null,null,null,null,null,null,null,null,null,null,null,null,null,null,null,null,null,null,null,null,null,null,null,null,null,null,null,null,null,null,null,null,null,null,null,null,null,null,null,null,null,null,null,null,"作業所長名",null,null,{"$f":"VLOOKUP(BI249,基本情報_工事名称マスタ,3,FALSE)","v":"××次郎"}]
[]
[null,null,null,null,null,null,null,null,null,null,null,null,null,null,null,null,null,null,null,null,null,null,null,null,null,null,null,null,{"$f":"基本情報_電話番号","v":"0234 - 00 - 0000"},null,null,null,null,null,null,null,null,null,null,null,null,null,null,null,null,null,null,null,null,null,null,null,null,null,null,null,null,null,null,null,null,null,null,null,null,null,null,null,null,null,null,null,null,null,null,null,null,null,null,null,null,null,null,null,{"$f":"基本情報_電話番号","v":"0234 - 00 - 0000"}]
[]
[]
[]
[]
[null,"通番","納入年月日",null,null,"品　名　・　規　格",null,null,null,"数　　　　量",null,null,null,null,null,null,null,null,null,null,null,"単 位","単　　　　価",null,null,null,null,null,null,null,null,null,null,null,"金　　　額",null,null,null,null,null,null,null,null,"備　考",null,null,null,null,null,null,null,null,null,null,null,null,null,"通番","納入年月日",null,null,"品　名　・　規　格",null,null,null,"数　　　　量",null,null,null,null,null,null,null,null,null,null,null,"単 位","単　　　　価",null,null,null,null,null,null,null,null,null,null,null,"金　　　額",null,null,null,null,null,null,null,null,"備　考",null,null,null,null,null,null,null,null,null,null,null,null,"ヒット","ランク","-","通番","数量","単価","金額"]
[null,{"$f":"B230+1","v":76},{"$f":"IF(ISNA($DL263),\"\",VLOOKUP($DL263,請求明細,3,FALSE))","v":""},null,null,{"$f":"IF(ISNA($DL263),\"\",VLOOKUP($DL263,請求明細,4,FALSE))","v":""},null,null,null,{"$f":"IF(ISNA($DL263),\"\",getNumKeta0($DM263,9))","v":""},{"$f":"IF(ISNA($DL263),\"\",getNumKeta0($DM263,8))","v":""},{"$f":"IF(ISNA($DL263),\"\",getNumKeta0($DM263,7))","v":""},{"$f":"IF(ISNA($DL263),\"\",getNumKeta0($DM263,6))","v":""},{"$f":"IF(ISNA($DL263),\"\",getNumKeta0($DM263,5))","v":""},{"$f":"IF(ISNA($DL263),\"\",getNumKeta0($DM263,4))","v":""},{"$f":"IF(ISNA($DL263),\"\",getNumKeta0($DM263,3))","v":""},{"$f":"IF(ISNA($DL263),\"\",getNumKeta0($DM263,2))","v":""},{"$f":"IF(ISNA($DL263),\"\",getNumKeta0($DM263,1))","v":""},{"$f":"IF(ISNA($DL263),\"\",getNumKeta0($DM263,-1))","v":""},{"$f":"IF(ISNA($DL263),\"\",getNumKeta0($DM263,-2))","v":""},{"$f":"IF(ISNA($DL263),\"\",getNumKeta0($DM263,-3))","v":""},{"$f":"IF(ISNA($DL263),\"\",VLOOKUP($DL263,請求明細,6,FALSE))","v":""},{"$f":"IF(ISNA($DL263),\"\",getNumKeta0($DN263,9))","v":""},{"$f":"IF(ISNA($DL263),\"\",getNumKeta0($DN263,8))","v":""},{"$f":"IF(ISNA($DL263),\"\",getNumKeta0($DN263,7))","v":""},{"$f":"IF(ISNA($DL263),\"\",getNumKeta0($DN263,6))","v":""},{"$f":"IF(ISNA($DL263),\"\",getNumKeta0($DN263,5))","v":""},{"$f":"IF(ISNA($DL263),\"\",getNumKeta0($DN263,4))","v":""},{"$f":"IF(ISNA($DL263),\"\",getNumKeta0($DN263,3))","v":""},{"$f":"IF(ISNA($DL263),\"\",getNumKeta0($DN263,2))","v":""},{"$f":"IF(ISNA($DL263),\"\",getNumKeta0($DN263,1))","v":""},{"$f":"IF(ISNA($DL263),\"\",getNumKeta0($DN263,-1))","v":""},{"$f":"IF(ISNA($DL263),\"\",getNumKeta0($DN263,-2))","v":""},{"$f":"IF(ISNA($DL263),\"\",getNumKeta0($DN263,-3))","v":""},{"$f":"IF(ISNA($DL263),\"\",getNumKeta0($DO263,9))","v":""},{"$f":"IF(ISNA($DL263),\"\",getNumKeta0($DO263,8))","v":""},{"$f":"IF(ISNA($DL263),\"\",getNumKeta0($DO263,7))","v":""},{"$f":"IF(ISNA($DL263),\"\",getNumKeta0($DO263,6))","v":""},{"$f":"IF(ISNA($DL263),\"\",getNumKeta0($DO263,5))","v":""},{"$f":"IF(ISNA($DL263),\"\",getNumKeta0($DO263,4))","v":""},{"$f":"IF(ISNA($DL263),\"\",getNumKeta0($DO263,3))","v":""},{"$f":"IF(ISNA($DL263),\"\",getNumKeta0($DO263,2))","v":""},{"$f":"IF(ISNA($DL263),\"\",getNumKeta0($DO263,1))","v":""},{"$f":"IF(ISNA($DL263),\"\",LEFT(VLOOKUP($DL263,請求明細,10,FALSE),16))","v":""},null,null,null,null,null,null,null,null,null,null,null,null,null,{"$f":"BF230+1","v":76},{"$f":"IF(ISNA($DL263),\"\",VLOOKUP($DL263,請求明細,3,FALSE))","v":""},null,null,{"$f":"IF(ISNA($DL263),\"\",VLOOKUP($DL263,請求明細,4,FALSE))","v":""},null,null,null,{"$f":"IF(ISNA($DL263),\"\",getNumKeta0($DM263,9))","v":""},{"$f":"IF(ISNA($DL263),\"\",getNumKeta0($DM263,8))","v":""},{"$f":"IF(ISNA($DL263),\"\",getNumKeta0($DM263,7))","v":""},{"$f":"IF(ISNA($DL263),\"\",getNumKeta0($DM263,6))","v":""},{"$f":"IF(ISNA($DL263),\"\",getNumKeta0($DM263,5))","v":""},{"$f":"IF(ISNA($DL263),\"\",getNumKeta0($DM263,4))","v":""},{"$f":"IF(ISNA($DL263),\"\",getNumKeta0($DM263,3))","v":""},{"$f":"IF(ISNA($DL263),\"\",getNumKeta0($DM263,2))","v":""},{"$f":"IF(ISNA($DL263),\"\",getNumKeta0($DM263,1))","v":""},{"$f":"IF(ISNA($DL263),\"\",getNumKeta0($DM263,-1))","v":""},{"$f":"IF(ISNA($DL263),\"\",getNumKeta0($DM263,-2))","v":""},{"$f":"IF(ISNA($DL263),\"\",getNumKeta0($DM263,-3))","v":""},{"$f":"IF(ISNA($DL263),\"\",VLOOKUP($DL263,請求明細,6,FALSE))","v":""},{"$f":"IF(ISNA($DL263),\"\",getNumKeta0($DN263,9))","v":""},{"$f":"IF(ISNA($DL263),\"\",getNumKeta0($DN263,8))","v":""},{"$f":"IF(ISNA($DL263),\"\",getNumKeta0($DN263,7))","v":""},{"$f":"IF(ISNA($DL263),\"\",getNumKeta0($DN263,6))","v":""},{"$f":"IF(ISNA($DL263),\"\",getNumKeta0($DN263,5))","v":""},{"$f":"IF(ISNA($DL263),\"\",getNumKeta0($DN263,4))","v":""},{"$f":"IF(ISNA($DL263),\"\",getNumKeta0($DN263,3))","v":""},{"$f":"IF(ISNA($DL263),\"\",getNumKeta0($DN263,2))","v":""},{"$f":"IF(ISNA($DL263),\"\",getNumKeta0($DN263,1))","v":""},{"$f":"IF(ISNA($DL263),\"\",getNumKeta0($DN263,-1))","v":""},{"$f":"IF(ISNA($DL263),\"\",getNumKeta0($DN263,-2))","v":""},{"$f":"IF(ISNA($DL263),\"\",getNumKeta0($DN263,-3))","v":""},{"$f":"IF(ISNA($DL263),\"\",getNumKeta0($DO263,9))","v":""},{"$f":"IF(ISNA($DL263),\"\",getNumKeta0($DO263,8))","v":""},{"$f":"IF(ISNA($DL263),\"\",getNumKeta0($DO263,7))","v":""},{"$f":"IF(ISNA($DL263),\"\",getNumKeta0($DO263,6))","v":""},{"$f":"IF(ISNA($DL263),\"\",getNumKeta0($DO263,5))","v":""},{"$f":"IF(ISNA($DL263),\"\",getNumKeta0($DO263,4))","v":""},{"$f":"IF(ISNA($DL263),\"\",getNumKeta0($DO263,3))","v":""},{"$f":"IF(ISNA($DL263),\"\",getNumKeta0($DO263,2))","v":""},{"$f":"IF(ISNA($DL263),\"\",getNumKeta0($DO263,1))","v":""},{"$f":"IF(ISNA($DL263),\"\",LEFT(VLOOKUP($DL263,請求明細,10,FALSE),16))","v":""},null,null,null,null,null,null,null,null,null,null,null,null,{"$f":"IF($E$14=OFFSET(明細情報!$B$5, $DK263-1,0),1,0)","v":0},{"$f":"IF($DI263=0, 0, SUM($DI$28:$DI263))","v":0},{"$f":"DK230+1","v":76},{"$f":"VLOOKUP(B263,$DJ$28:$DK$65536,2,FALSE)","v":{"$error":"#N/A"}},{"$f":"IF(ISNA($DL263),0,VLOOKUP($DL263,請求明細,5,FALSE))","v":0},{"$f":"IF(ISNA($DL263),0,VLOOKUP($DL263,請求明細,7,FALSE))","v":0},{"$f":"IF(ISNA($DL263),0,VLOOKUP($DL263,請求明細,9,FALSE))","v":0}]
[null,{"$f":"B263+1","v":77},"",null,null,"",null,null,null,"","","","","","","","","","","","","","","","","","","","","","","","","","","","","","","","","","","",null,null,null,null,null,null,null,null,null,null,null,null,null,{"$f":"BF263+1","v":77},"",null,null,"",null,null,null,"","","","","","","","","","","","","","","","","","","","","","","","","","","","","","","","","","","",null,null,null,null,null,null,null,null,null,null,null,null,{"$f":"IF($E$14=OFFSET(明細情報!$B$5, $DK264-1,0),1,0)","v":0},{"$f":"IF($DI264=0, 0, SUM($DI$28:$DI264))","v":0},{"$f":"DK263+1","v":77},{"$error":"#N/A"},0,0,0]
[null,78,"",null,null,"",null,null,null,"","","","","","","","","","","","","","","","","","","","","","","","","","","","","","","","","","","",null,null,null,null,null,null,null,null,null,null,null,null,null,78,"",null,null,"",null,null,null,"","","","","","","","","","","","","","","","","","","","","","","","","","","","","","","","","","","",null,null,null,null,null,null,null,null,null,null,null,null,{"$f":"IF($E$14=OFFSET(明細情報!$B$5, $DK265-1,0),1,0)","v":0},{"$f":"IF($DI265=0, 0, SUM($DI$28:$DI265))","v":0},78,{"$error":"#N/A"},0,0,0]
[null,79,"",null,null,"",null,null,null,"","","","","","","","","","","","","","","","","","","","","","","","","","","","","","","","","","","",null,null,null,null,null,null,null,null,null,null,null,null,null,79,"",null,null,"",null,null,null,"","","","","","","","","","","","","","","","","","","","","","","","","","","","","","","","","","","",null,null,null,null,null,null,null,null,null,null,null,null,{"$f":"IF($E$14=OFFSET(明細情報!$B$5, $DK266-1,0),1,0)","v":0},{"$f":"IF($DI266=0, 0, SUM($DI$28:$DI266))","v":0},79,{"$error":"#N/A"},0,0,0]
[null,80,"",null,null,"",null,null,null,"","","","","","","","","","","","","","","","","","","","","","","","","","","","","","","","","","","",null,null,null,null,null,null,null,null,null,null,null,null,null,80,"",null,null,"",null,null,null,"","","","","","","","","","","","","","","","","","","","","","","","","","","","","","","","","","","",null,null,null,null,null,null,null,null,null,null,null,null,{"$f":"IF($E$14=OFFSET(明細情報!$B$5, $DK267-1,0),1,0)","v":0},{"$f":"IF($DI267=0, 0, SUM($DI$28:$DI267))","v":0},80,{"$error":"#N/A"},0,0,0]
[null,81,"",null,null,"",null,null,null,"","","","","","","","","","","","","","","","","","","","","","","","","","","","","","","","","","","",null,null,null,null,null,null,null,null,null,null,null,null,null,81,"",null,null,"",null,null,null,"","","","","","","","","","","","","","","","","","","","","","","","","","","","","","","","","","","",null,null,null,null,null,null,null,null,null,null,null,null,{"$f":"IF($E$14=OFFSET(明細情報!$B$5, $DK268-1,0),1,0)","v":0},{"$f":"IF($DI268=0, 0, SUM($DI$28:$DI268))","v":0},81,{"$error":"#N/A"},0,0,0]
[null,82,"",null,null,"",null,null,null,"","","","","","","","","","","","","","","","","","","","","","","","","","","","","","","","","","","",null,null,null,null,null,null,null,null,null,null,null,null,null,82,"",null,null,"",null,null,null,"","","","","","","","","","","","","","","","","","","","","","","","","","","","","","","","","","","",null,null,null,null,null,null,null,null,null,null,null,null,{"$f":"IF($E$14=OFFSET(明細情報!$B$5, $DK269-1,0),1,0)","v":0},{"$f":"IF($DI269=0, 0, SUM($DI$28:$DI269))","v":0},82,{"$error":"#N/A"},0,0,0]
[null,83,"",null,null,"",null,null,null,"","","","","","","","","","","","","","","","","","","","","","","","","","","","","","","","","","","",null,null,null,null,null,null,null,null,null,null,null,null,null,83,"",null,null,"",null,null,null,"","","","","","","","","","","","","","","","","","","","","","","","","","","","","","","","","","","",null,null,null,null,null,null,null,null,null,null,null,null,{"$f":"IF($E$14=OFFSET(明細情報!$B$5, $DK270-1,0),1,0)","v":0},{"$f":"IF($DI270=0, 0, SUM($DI$28:$DI270))","v":0},83,{"$error":"#N/A"},0,0,0]
[null,84,"",null,null,"",null,null,null,"","","","","","","","","","","","","","","","","","","","","","","","","","","","","","","","","","","",null,null,null,null,null,null,null,null,null,null,null,null,null,84,"",null,null,"",null,null,null,"","","","","","","","","","","","","","","","","","","","","","","","","","","","","","","","","","","",null,null,null,null,null,null,null,null,null,null,null,null,{"$f":"IF($E$14=OFFSET(明細情報!$B$5, $DK271-1,0),1,0)","v":0},{"$f":"IF($DI271=0, 0, SUM($DI$28:$DI271))","v":0},84,{"$error":"#N/A"},0,0,0]
[null,85,"",null,null,"",null,null,null,"","","","","","","","","","","","","","","","","","","","","","","","","","","","","","","","","","","",null,null,null,null,null,null,null,null,null,null,null,null,null,85,"",null,null,"",null,null,null,"","","","","","","","","","","","","","","","","","","","","","","","","","","","","","","","","","","",null,null,null,null,null,null,null,null,null,null,null,null,{"$f":"IF($E$14=OFFSET(明細情報!$B$5, $DK272-1,0),1,0)","v":0},{"$f":"IF($DI272=0, 0, SUM($DI$28:$DI272))","v":0},85,{"$error":"#N/A"},0,0,0]
[null,86,"",null,null,"",null,null,null,"","","","","","","","","","","","","","","","","","","","","","","","","","","","","","","","","","","",null,null,null,null,null,null,null,null,null,null,null,null,null,86,"",null,null,"",null,null,null,"","","","","","","","","","","","","","","","","","","","","","","","","","","","","","","","","","","",null,null,null,null,null,null,null,null,null,null,null,null,{"$f":"IF($E$14=OFFSET(明細情報!$B$5, $DK273-1,0),1,0)","v":0},{"$f":"IF($DI273=0, 0, SUM($DI$28:$DI273))","v":0},86,{"$error":"#N/A"},0,0,0]
[null,87,"",null,null,"",null,null,null,"","","","","","","","","","","","","","","","","","","","","","","","","","","","","","","","","","","",null,null,null,null,null,null,null,null,null,null,null,null,null,87,"",null,null,"",null,null,null,"","","","","","","","","","","","","","","","","","","","","","","","","","","","","","","","","","","",null,null,null,null,null,null,null,null,null,null,null,null,{"$f":"IF($E$14=OFFSET(明細情報!$B$5, $DK274-1,0),1,0)","v":0},{"$f":"IF($DI274=0, 0, SUM($DI$28:$DI274))","v":0},87,{"$error":"#N/A"},0,0,0]
[null,88,"",null,null,"",null,null,null,"","","","","","","","","","","","","","","","","","","","","","","","","","","","","","","","","","","",null,null,null,null,null,null,null,null,null,null,null,null,null,88,"",null,null,"",null,null,null,"","","","","","","","","","","","","","","","","","","","","","","","","","","","","","","","","","","",null,null,null,null,null,null,null,null,null,null,null,null,{"$f":"IF($E$14=OFFSET(明細情報!$B$5, $DK275-1,0),1,0)","v":0},{"$f":"IF($DI275=0, 0, SUM($DI$28:$DI275))","v":0},88,{"$error":"#N/A"},0,0,0]
[null,89,"",null,null,"",null,null,null,"","","","","","","","","","","","","","","","","","","","","","","","","","","","","","","","","","","",null,null,null,null,null,null,null,null,null,null,null,null,null,89,"",null,null,"",null,null,null,"","","","","","","","","","","","","","","","","","","","","","","","","","","","","","","","","","","",null,null,null,null,null,null,null,null,null,null,null,null,{"$f":"IF($E$14=OFFSET(明細情報!$B$5, $DK276-1,0),1,0)","v":0},{"$f":"IF($DI276=0, 0, SUM($DI$28:$DI276))","v":0},89,{"$error":"#N/A"},0,0,0]
[null,90,"",null,null,"",null,null,null,"","","","","","","","","","","","","","","","","","","","","","","","","","","","","","","","","","","",null,null,null,null,null,null,null,null,null,null,null,null,null,90,"",null,null,"",null,null,null,"","","","","","","","","","","","","","","","","","","","","","","","","","","","","","","","","","","",null,null,null,null,null,null,null,null,null,null,null,null,{"$f":"IF($E$14=OFFSET(明細情報!$B$5, $DK277-1,0),1,0)","v":0},{"$f":"IF($DI277=0, 0, SUM($DI$28:$DI277))","v":0},90,{"$error":"#N/A"},0,0,0]
[null,null,null,null,null,null,null,null,null,null,null,null,null,null,null,null,null,null,null,null,null,null,"　　小　　　　　　計",null,null,null,null,null,null,null,null,null,null,null,{"$f":"getNumKeta0($DP278,9)","v":""},{"$f":"getNumKeta0($DP278,8)","v":""},{"$f":"getNumKeta0($DP278,7)","v":""},{"$f":"getNumKeta0($DP278,6)","v":""},{"$f":"getNumKeta0($DP278,5)","v":""},{"$f":"getNumKeta0($DP278,4)","v":""},{"$f":"getNumKeta0($DP278,3)","v":""},{"$f":"getNumKeta0($DP278,2)","v":""},{"$f":"getNumKeta0($DP278,1)","v":""},"Ａ",{"$f":"IF($DQ278=0,\"\", $DQ278)","v":""},null,null,null,null,null,null,null,null,{"$f":"IF($DP278<>$DQ278,\"*\",\"\")","v":""},null,null,null,null,null,null,null,null,null,null,null,null,null,null,null,null,null,null,null,null,null,null,null,null,"　　小　　　　　　計",null,null,null,null,null,null,null,null,null,null,null,{"$f":"getNumKeta0($DP278,9)","v":""},{"$f":"getNumKeta0($DP278,8)","v":""},{"$f":"getNumKeta0($DP278,7)","v":""},{"$f":"getNumKeta0($DP278,6)","v":""},{"$f":"getNumKeta0($DP278,5)","v":""},{"$f":"getNumKeta0($DP278,4)","v":""},{"$f":"getNumKeta0($DP278,3)","v":""},{"$f":"getNumKeta0($DP278,2)","v":""},{"$f":"getNumKeta0($DP278,1)","v":""},"Ａ",{"$f":"IF($DQ278=0,\"\", $DQ278)","v":""},null,null,null,null,null,null,null,null,{"$f":"IF($DP278<>$DQ278,\"*\",\"\")","v":""},null,null,null,null,null,null,null,null,null,{"$f":"IF($DK277/15=ROUNDUP(MAX($DJ:$DJ)/15,0),VLOOKUP($E$14,基本情報_工事名称マスタ,4,FALSE)+VLOOKUP($E$14,基本情報_工事名称マスタ,5,FALSE),0)","v":0},{"$f":"IF($DK277/15=ROUNDUP(MAX($DJ:$DJ)/15,0),DQ280-DQ279,0)","v":0}]
[null,null,null,null,null,null,null,null,null,null,null,null,null,null,null,null,null,null,null,null,null,null,"　消　費　税",null,null,null,null,null,null,null,{"$f":"基本情報_消費税率","v":0.1},null,null,null,{"$f":"getNumKeta0($DP279,9)","v":""},{"$f":"getNumKeta0($DP279,8)","v":""},{"$f":"getNumKeta0($DP279,7)","v":""},{"$f":"getNumKeta0($DP279,6)","v":""},{"$f":"getNumKeta0($DP279,5)","v":""},{"$f":"getNumKeta0($DP279,4)","v":""},{"$f":"getNumKeta0($DP279,3)","v":""},{"$f":"getNumKeta0($DP279,2)","v":""},{"$f":"getNumKeta0($DP279,1)","v":""},"Ｂ",{"$f":"IF($DQ279=0,\"\", $DQ279)","v":""},null,null,null,null,null,null,null,null,null,null,null,null,null,null,null,null,null,null,null,null,null,null,null,null,null,null,null,null,null,null,null,null,null,"　消　費　税",null,null,null,null,null,null,null,{"$f":"基本情報_消費税率","v":0.1},null,null,null,{"$f":"getNumKeta0($DP279,9)","v":""},{"$f":"getNumKeta0($DP279,8)","v":""},{"$f":"getNumKeta0($DP279,7)","v":""},{"$f":"getNumKeta0($DP279,6)","v":""},{"$f":"getNumKeta0($DP279,5)","v":""},{"$f":"getNumKeta0($DP279,4)","v":""},{"$f":"getNumKeta0($DP279,3)","v":""},{"$f":"getNumKeta0($DP279,2)","v":""},{"$f":"getNumKeta0($DP279,1)","v":""},"Ｂ",{"$f":"IF($DQ279=0,\"\", $DQ279)","v":""},null,null,null,null,null,null,null,null,null,null,null,null,null,null,null,null,null,null,{"$f":"IF($DK277/15=ROUNDUP(MAX($DJ:$DJ)/15,0),VLOOKUP($E$14,基本情報_工事名称マスタ,6,FALSE),0)","v":0},{"$f":"IF($DK277/15=ROUNDUP(MAX($DJ:$DJ)/15,0),ROUND((DQ280-VLOOKUP($E$14,基本情報_工事名称マスタ,5,FALSE))/(基本情報_消費税率*100+100)*(基本情報_消費税率*100),0),0)","v":0}]
[null,null,null,null,null,null,null,null,null,null,null,null,null,null,null,null,null,null,null,null,null,null,"　　合　　　　　　計",null,null,null,null,null,null,null,null,null,null,null,{"$f":"getNumKeta0($DP280,9)","v":""},{"$f":"getNumKeta0($DP280,8)","v":""},{"$f":"getNumKeta0($DP280,7)","v":""},{"$f":"getNumKeta0($DP280,6)","v":""},{"$f":"getNumKeta0($DP280,5)","v":""},{"$f":"getNumKeta0($DP280,4)","v":""},{"$f":"getNumKeta0($DP280,3)","v":""},{"$f":"getNumKeta0($DP280,2)","v":""},{"$f":"getNumKeta0($DP280,1)","v":""},"Ｃ",{"$f":"IF($DQ280=0,\"\", $DQ280)","v":""},null,null,null,null,null,null,null,null,null,null,null,null,null,null,null,null,null,null,null,null,null,null,null,null,null,null,null,null,null,null,null,null,null,"　　合　　　　　　計",null,null,null,null,null,null,null,null,null,null,null,{"$f":"getNumKeta0($DP280,9)","v":""},{"$f":"getNumKeta0($DP280,8)","v":""},{"$f":"getNumKeta0($DP280,7)","v":""},{"$f":"getNumKeta0($DP280,6)","v":""},{"$f":"getNumKeta0($DP280,5)","v":""},{"$f":"getNumKeta0($DP280,4)","v":""},{"$f":"getNumKeta0($DP280,3)","v":""},{"$f":"getNumKeta0($DP280,2)","v":""},{"$f":"getNumKeta0($DP280,1)","v":""},"Ｃ",{"$f":"IF($DQ280=0,\"\", $DQ280)","v":""},null,null,null,null,null,null,null,null,null,null,null,null,null,null,null,null,null,null,{"$f":"IF($DK277/15=ROUNDUP(MAX($DJ:$DJ)/15,0),VLOOKUP($E$14,基本情報_工事名称マスタ,7,FALSE),0)","v":0},{"$f":"DP280","v":0}]
[null,null,null,null,null,null,null,null,null,null,null,null,null,null,null,null,null,null,null,null,null,null,"貴社→請求書(添付)→経理(控)",null,null,null,null,null,null,null,null,null,null,null,null,null,null,null,null,null,null,null,null,null,null,null,null,null,null,null,null,null,null,null,null,null,null,null,null,null,null,null,null,null,null,null,null,null,null,null,null,null,null,null,null,null,null,null,"貴社→請求書(添付)→経理→作業所長(控)"]
[]
[null,null,null,null,null,null,null,null,null,null,null,null,null,null,null,null,null,null,null,null,null,null,null,null,null,null,null,null,null,null,null,null,null,null,null,null,null,null,null,null,null,null,null,null,{"$f":"\"P \" & B324/15 & \"/\" & ROUNDUP(COUNTIF(請求明細_工事場所, E296)/15,0)","v":"P 7/1"},null,null,null,null,null,null,null,null,null,null,null,null,null,null,null,null,null,null,null,null,null,null,null,null,null,null,null,null,null,null,null,null,null,null,null,null,null,null,null,null,null,null,null,null,null,null,null,null,null,null,null,null,null,null,null,{"$f":"\"P \" & BF324/15 & \"/\" & ROUNDUP(COUNTIF(請求明細_工事場所, BI296)/15,0)","v":"P 7/1"}]
[null,null,null,"請求明細書（一般）",null,null,null,null,null,null,null,null,null,null,null,null,null,null,null,null,null,null,null,null,null,"取引先",null,null,{"$f":"基本情報_取引先コード","v":999999},null,null,null,null,null,null,null,null,null,"締\n日",null,null,{"$f":"基本情報_請求締日","v":"2020-07-31"},null,null,null,null,null,null,null,null,null,null,null,null,null,null,null,null,null,"請求明細書（一般）",null,null,null,null,null,null,null,null,null,null,null,null,null,null,null,null,null,null,null,null,null,"取引先",null,null,{"$f":"基本情報_取引先コード","v":999999},null,null,null,null,null,null,null,null,null,"締\n日",null,null,{"$f":"基本情報_請求締日","v":"2020-07-31"}]
[null,null,null,null,null,null,null,null,null,"提出用",null,null,null,null,null,null,null,null,null,null,null,null,null,null,null,null,null,null,null,null,null,null,null,null,null,null,null,null,null,null,null,null,null,null,null,null,null,null,null,null,null,null,null,null,null,null,null,null,null,null,null,null,null,null,null,"提出用"]
[]
[null,null,null,null,null,null,null,null,null,null,null,null,null,null,null,null,null,null,null,null,null,null,null,null,null,"コード",null,null,null,null,null,null,null,null,null,null,null,null,null,null,null,null,null,null,null,null,null,null,null,null,null,null,null,null,null,null,null,null,null,null,null,null,null,null,null,null,null,null,null,null,null,null,null,null,null,null,null,null,null,null,null,"コード"]
[]
[]
[null,"丸高・みなと特定建設工事共同企業体　御中",null,null,null,null,null,null,null,null,null,null,null,null,null,null,null,null,null,null,null,null,null,null,null,"（住所・社名・電話）",null,null,null,null,null,null,null,null,null,null,null,null,null,null,null,null,null,null,null,null,null,null,null,null,null,null,null,null,null,null,null,"丸高・みなと特定建設工事共同企業体　御中",null,null,null,null,null,null,null,null,null,null,null,null,null,null,null,null,null,null,null,null,null,null,null,"（住所・社名・電話）"]
[]
[]
[]
[null,null,null,null,null,null,null,null,null,null,null,null,null,null,null,null,null,null,null,null,null,null,null,null,null,null,null,null,{"$f":"基本情報_住所","v":"酒田市○○○○１－１"},null,null,null,null,null,null,null,null,null,null,null,null,null,null,null,null,null,null,null,null,null,null,null,null,null,null,null,null,null,null,null,null,null,null,null,null,null,null,null,null,null,null,null,null,null,null,null,null,null,null,null,null,null,null,null,{"$f":"基本情報_住所","v":"酒田市○○○○１－１"}]
[]
[null,"工　事　名",null,null,{"$f":"$E$14","v":"×××××工事"},null,null,null,null,null,null,null,null,null,null,"承　　認",null,null,null,null,null,"検　　印",null,null,null,null,null,null,null,null,null,null,null,null,null,null,null,null,null,null,null,null,null,null,null,null,null,null,null,null,null,null,null,null,null,null,null,"工　事　名",null,null,{"$f":"$E$14","v":"×××××工事"},null,null,null,null,null,null,null,null,null,null,"承　　認",null,null,null,null,null,"検　　印"]
[]
[]
[null,null,null,null,null,null,null,null,null,null,null,null,null,null,null,null,null,null,null,null,null,null,null,null,null,null,null,null,{"$f":"基本情報_社名","v":"(株）○○建設"},null,null,null,null,null,null,null,null,null,null,null,null,null,null,null,null,null,null,null,null,null,"印",null,null,null,null,null,null,null,null,null,null,null,null,null,null,null,null,null,null,null,null,null,null,null,null,null,null,null,null,null,null,null,null,null,{"$f":"基本情報_社名","v":"(株）○○建設"},null,null,null,null,null,null,null,null,null,null,null,null,null,null,null,null,null,null,null,null,null,"印"]
[]
[]
[null,"作業所長名",null,null,{"$f":"VLOOKUP(E296,基本情報_工事名称マスタ,3,FALSE)","v":"××次郎"},null,null,null,null,null,null,null,null,null,null,null,null,null,null,null,null,null,null,null,null,null,null,null,null,null,null,null,null,null,null,null,null,null,null,null,null,null,null,null,null,null,null,null,null,null,null,null,null,null,null,null,null,"作業所長名",null,null,{"$f":"VLOOKUP(BI296,基本情報_工事名称マスタ,3,FALSE)","v":"××次郎"}]
[]
[null,null,null,null,null,null,null,null,null,null,null,null,null,null,null,null,null,null,null,null,null,null,null,null,null,null,null,null,{"$f":"基本情報_電話番号","v":"0234 - 00 - 0000"},null,null,null,null,null,null,null,null,null,null,null,null,null,null,null,null,null,null,null,null,null,null,null,null,null,null,null,null,null,null,null,null,null,null,null,null,null,null,null,null,null,null,null,null,null,null,null,null,null,null,null,null,null,null,null,{"$f":"基本情報_電話番号","v":"0234 - 00 - 0000"}]
[]
[]
[]
[]
[null,"通番","納入年月日",null,null,"品　名　・　規　格",null,null,null,"数　　　　量",null,null,null,null,null,null,null,null,null,null,null,"単 位","単　　　　価",null,null,null,null,null,null,null,null,null,null,null,"金　　　額",null,null,null,null,null,null,null,null,"備　考",null,null,null,null,null,null,null,null,null,null,null,null,null,"通番","納入年月日",null,null,"品　名　・　規　格",null,null,null,"数　　　　量",null,null,null,null,null,null,null,null,null,null,null,"単 位","単　　　　価",null,null,null,null,null,null,null,null,null,null,null,"金　　　額",null,null,null,null,null,null,null,null,"備　考",null,null,null,null,null,null,null,null,null,null,null,null,"ヒット","ランク","-","通番","数量","単価","金額"]
[null,{"$f":"B277+1","v":91},{"$f":"IF(ISNA($DL310),\"\",VLOOKUP($DL310,請求明細,3,FALSE))","v":""},null,null,{"$f":"IF(ISNA($DL310),\"\",VLOOKUP($DL310,請求明細,4,FALSE))","v":""},null,null,null,{"$f":"IF(ISNA($DL310),\"\",getNumKeta0($DM310,9))","v":""},{"$f":"IF(ISNA($DL310),\"\",getNumKeta0($DM310,8))","v":""},{"$f":"IF(ISNA($DL310),\"\",getNumKeta0($DM310,7))","v":""},{"$f":"IF(ISNA($DL310),\"\",getNumKeta0($DM310,6))","v":""},{"$f":"IF(ISNA($DL310),\"\",getNumKeta0($DM310,5))","v":""},{"$f":"IF(ISNA($DL310),\"\",getNumKeta0($DM310,4))","v":""},{"$f":"IF(ISNA($DL310),\"\",getNumKeta0($DM310,3))","v":""},{"$f":"IF(ISNA($DL310),\"\",getNumKeta0($DM310,2))","v":""},{"$f":"IF(ISNA($DL310),\"\",getNumKeta0($DM310,1))","v":""},{"$f":"IF(ISNA($DL310),\"\",getNumKeta0($DM310,-1))","v":""},{"$f":"IF(ISNA($DL310),\"\",getNumKeta0($DM310,-2))","v":""},{"$f":"IF(ISNA($DL310),\"\",getNumKeta0($DM310,-3))","v":""},{"$f":"IF(ISNA($DL310),\"\",VLOOKUP($DL310,請求明細,6,FALSE))","v":""},{"$f":"IF(ISNA($DL310),\"\",getNumKeta0($DN310,9))","v":""},{"$f":"IF(ISNA($DL310),\"\",getNumKeta0($DN310,8))","v":""},{"$f":"IF(ISNA($DL310),\"\",getNumKeta0($DN310,7))","v":""},{"$f":"IF(ISNA($DL310),\"\",getNumKeta0($DN310,6))","v":""},{"$f":"IF(ISNA($DL310),\"\",getNumKeta0($DN310,5))","v":""},{"$f":"IF(ISNA($DL310),\"\",getNumKeta0($DN310,4))","v":""},{"$f":"IF(ISNA($DL310),\"\",getNumKeta0($DN310,3))","v":""},{"$f":"IF(ISNA($DL310),\"\",getNumKeta0($DN310,2))","v":""},{"$f":"IF(ISNA($DL310),\"\",getNumKeta0($DN310,1))","v":""},{"$f":"IF(ISNA($DL310),\"\",getNumKeta0($DN310,-1))","v":""},{"$f":"IF(ISNA($DL310),\"\",getNumKeta0($DN310,-2))","v":""},{"$f":"IF(ISNA($DL310),\"\",getNumKeta0($DN310,-3))","v":""},{"$f":"IF(ISNA($DL310),\"\",getNumKeta0($DO310,9))","v":""},{"$f":"IF(ISNA($DL310),\"\",getNumKeta0($DO310,8))","v":""},{"$f":"IF(ISNA($DL310),\"\",getNumKeta0($DO310,7))","v":""},{"$f":"IF(ISNA($DL310),\"\",getNumKeta0($DO310,6))","v":""},{"$f":"IF(ISNA($DL310),\"\",getNumKeta0($DO310,5))","v":""},{"$f":"IF(ISNA($DL310),\"\",getNumKeta0($DO310,4))","v":""},{"$f":"IF(ISNA($DL310),\"\",getNumKeta0($DO310,3))","v":""},{"$f":"IF(ISNA($DL310),\"\",getNumKeta0($DO310,2))","v":""},{"$f":"IF(ISNA($DL310),\"\",getNumKeta0($DO310,1))","v":""},{"$f":"IF(ISNA($DL310),\"\",LEFT(VLOOKUP($DL310,請求明細,10,FALSE),16))","v":""},null,null,null,null,null,null,null,null,null,null,null,null,null,{"$f":"BF277+1","v":91},{"$f":"IF(ISNA($DL310),\"\",VLOOKUP($DL310,請求明細,3,FALSE))","v":""},null,null,{"$f":"IF(ISNA($DL310),\"\",VLOOKUP($DL310,請求明細,4,FALSE))","v":""},null,null,null,{"$f":"IF(ISNA($DL310),\"\",getNumKeta0($DM310,9))","v":""},{"$f":"IF(ISNA($DL310),\"\",getNumKeta0($DM310,8))","v":""},{"$f":"IF(ISNA($DL310),\"\",getNumKeta0($DM310,7))","v":""},{"$f":"IF(ISNA($DL310),\"\",getNumKeta0($DM310,6))","v":""},{"$f":"IF(ISNA($DL310),\"\",getNumKeta0($DM310,5))","v":""},{"$f":"IF(ISNA($DL310),\"\",getNumKeta0($DM310,4))","v":""},{"$f":"IF(ISNA($DL310),\"\",getNumKeta0($DM310,3))","v":""},{"$f":"IF(ISNA($DL310),\"\",getNumKeta0($DM310,2))","v":""},{"$f":"IF(ISNA($DL310),\"\",getNumKeta0($DM310,1))","v":""},{"$f":"IF(ISNA($DL310),\"\",getNumKeta0($DM310,-1))","v":""},{"$f":"IF(ISNA($DL310),\"\",getNumKeta0($DM310,-2))","v":""},{"$f":"IF(ISNA($DL310),\"\",getNumKeta0($DM310,-3))","v":""},{"$f":"IF(ISNA($DL310),\"\",VLOOKUP($DL310,請求明細,6,FALSE))","v":""},{"$f":"IF(ISNA($DL310),\"\",getNumKeta0($DN310,9))","v":""},{"$f":"IF(ISNA($DL310),\"\",getNumKeta0($DN310,8))","v":""},{"$f":"IF(ISNA($DL310),\"\",getNumKeta0($DN310,7))","v":""},{"$f":"IF(ISNA($DL310),\"\",getNumKeta0($DN310,6))","v":""},{"$f":"IF(ISNA($DL310),\"\",getNumKeta0($DN310,5))","v":""},{"$f":"IF(ISNA($DL310),\"\",getNumKeta0($DN310,4))","v":""},{"$f":"IF(ISNA($DL310),\"\",getNumKeta0($DN310,3))","v":""},{"$f":"IF(ISNA($DL310),\"\",getNumKeta0($DN310,2))","v":""},{"$f":"IF(ISNA($DL310),\"\",getNumKeta0($DN310,1))","v":""},{"$f":"IF(ISNA($DL310),\"\",getNumKeta0($DN310,-1))","v":""},{"$f":"IF(ISNA($DL310),\"\",getNumKeta0($DN310,-2))","v":""},{"$f":"IF(ISNA($DL310),\"\",getNumKeta0($DN310,-3))","v":""},{"$f":"IF(ISNA($DL310),\"\",getNumKeta0($DO310,9))","v":""},{"$f":"IF(ISNA($DL310),\"\",getNumKeta0($DO310,8))","v":""},{"$f":"IF(ISNA($DL310),\"\",getNumKeta0($DO310,7))","v":""},{"$f":"IF(ISNA($DL310),\"\",getNumKeta0($DO310,6))","v":""},{"$f":"IF(ISNA($DL310),\"\",getNumKeta0($DO310,5))","v":""},{"$f":"IF(ISNA($DL310),\"\",getNumKeta0($DO310,4))","v":""},{"$f":"IF(ISNA($DL310),\"\",getNumKeta0($DO310,3))","v":""},{"$f":"IF(ISNA($DL310),\"\",getNumKeta0($DO310,2))","v":""},{"$f":"IF(ISNA($DL310),\"\",getNumKeta0($DO310,1))","v":""},{"$f":"IF(ISNA($DL310),\"\",LEFT(VLOOKUP($DL310,請求明細,10,FALSE),16))","v":""},null,null,null,null,null,null,null,null,null,null,null,null,{"$f":"IF($E$14=OFFSET(明細情報!$B$5, $DK310-1,0),1,0)","v":0},{"$f":"IF($DI310=0, 0, SUM($DI$28:$DI310))","v":0},{"$f":"DK277+1","v":91},{"$f":"VLOOKUP(B310,$DJ$28:$DK$65536,2,FALSE)","v":{"$error":"#N/A"}},{"$f":"IF(ISNA($DL310),0,VLOOKUP($DL310,請求明細,5,FALSE))","v":0},{"$f":"IF(ISNA($DL310),0,VLOOKUP($DL310,請求明細,7,FALSE))","v":0},{"$f":"IF(ISNA($DL310),0,VLOOKUP($DL310,請求明細,9,FALSE))","v":0}]
[null,{"$f":"B310+1","v":92},"",null,null,"",null,null,null,"","","","","","","","","","","","","","","","","","","","","","","","","","","","","","","","","","","",null,null,null,null,null,null,null,null,null,null,null,null,null,{"$f":"BF310+1","v":92},"",null,null,"",null,null,null,"","","","","","","","","","","","","","","","","","","","","","","","","","","","","","","","","","","",null,null,null,null,null,null,null,null,null,null,null,null,{"$f":"IF($E$14=OFFSET(明細情報!$B$5, $DK311-1,0),1,0)","v":0},{"$f":"IF($DI311=0, 0, SUM($DI$28:$DI311))","v":0},{"$f":"DK310+1","v":92},{"$error":"#N/A"},0,0,0]
[null,93,"",null,null,"",null,null,null,"","","","","","","","","","","","","","","","","","","","","","","","","","","","","","","","","","","",null,null,null,null,null,null,null,null,null,null,null,null,null,93,"",null,null,"",null,null,null,"","","","","","","","","","","","","","","","","","","","","","","","","","","","","","","","","","","",null,null,null,null,null,null,null,null,null,null,null,null,{"$f":"IF($E$14=OFFSET(明細情報!$B$5, $DK312-1,0),1,0)","v":0},{"$f":"IF($DI312=0, 0, SUM($DI$28:$DI312))","v":0},93,{"$error":"#N/A"},0,0,0]
[null,94,"",null,null,"",null,null,null,"","","","","","","","","","","","","","","","","","","","","","","","","","","","","","","","","","","",null,null,null,null,null,null,null,null,null,null,null,null,null,94,"",null,null,"",null,null,null,"","","","","","","","","","","","","","","","","","","","","","","","","","","","","","","","","","","",null,null,null,null,null,null,null,null,null,null,null,null,{"$f":"IF($E$14=OFFSET(明細情報!$B$5, $DK313-1,0),1,0)","v":0},{"$f":"IF($DI313=0, 0, SUM($DI$28:$DI313))","v":0},94,{"$error":"#N/A"},0,0,0]
[null,95,"",null,null,"",null,null,null,"","","","","","","","","","","","","","","","","","","","","","","","","","","","","","","","","","","",null,null,null,null,null,null,null,null,null,null,null,null,null,95,"",null,null,"",null,null,null,"","","","","","","","","","","","","","","","","","","","","","","","","","","","","","","","","","","",null,null,null,null,null,null,null,null,null,null,null,null,{"$f":"IF($E$14=OFFSET(明細情報!$B$5, $DK314-1,0),1,0)","v":0},{"$f":"IF($DI314=0, 0, SUM($DI$28:$DI314))","v":0},95,{"$error":"#N/A"},0,0,0]
[null,96,"",null,null,"",null,null,null,"","","","","","","","","","","","","","","","","","","","","","","","","","","","","","","","","","","",null,null,null,null,null,null,null,null,null,null,null,null,null,96,"",null,null,"",null,null,null,"","","","","","","","","","","","","","","","","","","","","","","","","","","","","","","","","","","",null,null,null,null,null,null,null,null,null,null,null,null,{"$f":"IF($E$14=OFFSET(明細情報!$B$5, $DK315-1,0),1,0)","v":0},{"$f":"IF($DI315=0, 0, SUM($DI$28:$DI315))","v":0},96,{"$error":"#N/A"},0,0,0]
[null,97,"",null,null,"",null,null,null,"","","","","","","","","","","","","","","","","","","","","","","","","","","","","","","","","","","",null,null,null,null,null,null,null,null,null,null,null,null,null,97,"",null,null,"",null,null,null,"","","","","","","","","","","","","","","","","","","","","","","","","","","","","","","","","","","",null,null,null,null,null,null,null,null,null,null,null,null,{"$f":"IF($E$14=OFFSET(明細情報!$B$5, $DK316-1,0),1,0)","v":0},{"$f":"IF($DI316=0, 0, SUM($DI$28:$DI316))","v":0},97,{"$error":"#N/A"},0,0,0]
[null,98,"",null,null,"",null,null,null,"","","","","","","","","","","","","","","","","","","","","","","","","","","","","","","","","","","",null,null,null,null,null,null,null,null,null,null,null,null,null,98,"",null,null,"",null,null,null,"","","","","","","","","","","","","","","","","","","","","","","","","","","","","","","","","","","",null,null,null,null,null,null,null,null,null,null,null,null,{"$f":"IF($E$14=OFFSET(明細情報!$B$5, $DK317-1,0),1,0)","v":0},{"$f":"IF($DI317=0, 0, SUM($DI$28:$DI317))","v":0},98,{"$error":"#N/A"},0,0,0]
[null,99,"",null,null,"",null,null,null,"","","","","","","","","","","","","","","","","","","","","","","","","","","","","","","","","","","",null,null,null,null,null,null,null,null,null,null,null,null,null,99,"",null,null,"",null,null,null,"","","","","","","","","","","","","","","","","","","","","","","","","","","","","","","","","","","",null,null,null,null,null,null,null,null,null,null,null,null,{"$f":"IF($E$14=OFFSET(明細情報!$B$5, $DK318-1,0),1,0)","v":0},{"$f":"IF($DI318=0, 0, SUM($DI$28:$DI318))","v":0},99,{"$error":"#N/A"},0,0,0]
[null,100,"",null,null,"",null,null,null,"","","","","","","","","","","","","","","","","","","","","","","","","","","","","","","","","","","",null,null,null,null,null,null,null,null,null,null,null,null,null,100,"",null,null,"",null,null,null,"","","","","","","","","","","","","","","","","","","","","","","","","","","","","","","","","","","",null,null,null,null,null,null,null,null,null,null,null,null,{"$f":"IF($E$14=OFFSET(明細情報!$B$5, $DK319-1,0),1,0)","v":0},{"$f":"IF($DI319=0, 0, SUM($DI$28:$DI319))","v":0},100,{"$error":"#N/A"},0,0,0]
[null,101,"",null,null,"",null,null,null,"","","","","","","","","","","","","","","","","","","","","","","","","","","","","","","","","","","",null,null,null,null,null,null,null,null,null,null,null,null,null,101,"",null,null,"",null,null,null,"","","","","","","","","","","","","","","","","","","","","","","","","","","","","","","","","","","",null,null,null,null,null,null,null,null,null,null,null,null,{"$f":"IF($E$14=OFFSET(明細情報!$B$5, $DK320-1,0),1,0)","v":0},{"$f":"IF($DI320=0, 0, SUM($DI$28:$DI320))","v":0},101,{"$error":"#N/A"},0,0,0]
[null,102,"",null,null,"",null,null,null,"","","","","","","","","","","","","","","","","","","","","","","","","","","","","","","","","","","",null,null,null,null,null,null,null,null,null,null,null,null,null,102,"",null,null,"",null,null,null,"","","","","","","","","","","","","","","","","","","","","","","","","","","","","","","","","","","",null,null,null,null,null,null,null,null,null,null,null,null,{"$f":"IF($E$14=OFFSET(明細情報!$B$5, $DK321-1,0),1,0)","v":0},{"$f":"IF($DI321=0, 0, SUM($DI$28:$DI321))","v":0},102,{"$error":"#N/A"},0,0,0]
[null,103,"",null,null,"",null,null,null,"","","","","","","","","","","","","","","","","","","","","","","","","","","","","","","","","","","",null,null,null,null,null,null,null,null,null,null,null,null,null,103,"",null,null,"",null,null,null,"","","","","","","","","","","","","","","","","","","","","","","","","","","","","","","","","","","",null,null,null,null,null,null,null,null,null,null,null,null,{"$f":"IF($E$14=OFFSET(明細情報!$B$5, $DK322-1,0),1,0)","v":0},{"$f":"IF($DI322=0, 0, SUM($DI$28:$DI322))","v":0},103,{"$error":"#N/A"},0,0,0]
[null,104,"",null,null,"",null,null,null,"","","","","","","","","","","","","","","","","","","","","","","","","","","","","","","","","","","",null,null,null,null,null,null,null,null,null,null,null,null,null,104,"",null,null,"",null,null,null,"","","","","","","","","","","","","","","","","","","","","","","","","","","","","","","","","","","",null,null,null,null,null,null,null,null,null,null,null,null,{"$f":"IF($E$14=OFFSET(明細情報!$B$5, $DK323-1,0),1,0)","v":0},{"$f":"IF($DI323=0, 0, SUM($DI$28:$DI323))","v":0},104,{"$error":"#N/A"},0,0,0]
[null,105,"",null,null,"",null,null,null,"","","","","","","","","","","","","","","","","","","","","","","","","","","","","","","","","","","",null,null,null,null,null,null,null,null,null,null,null,null,null,105,"",null,null,"",null,null,null,"","","","","","","","","","","","","","","","","","","","","","","","","","","","","","","","","","","",null,null,null,null,null,null,null,null,null,null,null,null,{"$f":"IF($E$14=OFFSET(明細情報!$B$5, $DK324-1,0),1,0)","v":0},{"$f":"IF($DI324=0, 0, SUM($DI$28:$DI324))","v":0},105,{"$error":"#N/A"},0,0,0]
[null,null,null,null,null,null,null,null,null,null,null,null,null,null,null,null,null,null,null,null,null,null,"　　小　　　　　　計",null,null,null,null,null,null,null,null,null,null,null,{"$f":"getNumKeta0($DP325,9)","v":""},{"$f":"getNumKeta0($DP325,8)","v":""},{"$f":"getNumKeta0($DP325,7)","v":""},{"$f":"getNumKeta0($DP325,6)","v":""},{"$f":"getNumKeta0($DP325,5)","v":""},{"$f":"getNumKeta0($DP325,4)","v":""},{"$f":"getNumKeta0($DP325,3)","v":""},{"$f":"getNumKeta0($DP325,2)","v":""},{"$f":"getNumKeta0($DP325,1)","v":""},"Ａ",{"$f":"IF($DQ325=0,\"\", $DQ325)","v":""},null,null,null,null,null,null,null,null,{"$f":"IF($DP325<>$DQ325,\"*\",\"\")","v":""},null,null,null,null,null,null,null,null,null,null,null,null,null,null,null,null,null,null,null,null,null,null,null,null,"　　小　　　　　　計",null,null,null,null,null,null,null,null,null,null,null,{"$f":"getNumKeta0($DP325,9)","v":""},{"$f":"getNumKeta0($DP325,8)","v":""},{"$f":"getNumKeta0($DP325,7)","v":""},{"$f":"getNumKeta0($DP325,6)","v":""},{"$f":"getNumKeta0($DP325,5)","v":""},{"$f":"getNumKeta0($DP325,4)","v":""},{"$f":"getNumKeta0($DP325,3)","v":""},{"$f":"getNumKeta0($DP325,2)","v":""},{"$f":"getNumKeta0($DP325,1)","v":""},"Ａ",{"$f":"IF($DQ325=0,\"\", $DQ325)","v":""},null,null,null,null,null,null,null,null,{"$f":"IF($DP325<>$DQ325,\"*\",\"\")","v":""},null,null,null,null,null,null,null,null,null,{"$f":"IF($DK324/15=ROUNDUP(MAX($DJ:$DJ)/15,0),VLOOKUP($E$14,基本情報_工事名称マスタ,4,FALSE)+VLOOKUP($E$14,基本情報_工事名称マスタ,5,FALSE),0)","v":0},{"$f":"IF($DK324/15=ROUNDUP(MAX($DJ:$DJ)/15,0),DQ327-DQ326,0)","v":0}]
[null,null,null,null,null,null,null,null,null,null,null,null,null,null,null,null,null,null,null,null,null,null,"　消　費　税",null,null,null,null,null,null,null,{"$f":"基本情報_消費税率","v":0.1},null,null,null,{"$f":"getNumKeta0($DP326,9)","v":""},{"$f":"getNumKeta0($DP326,8)","v":""},{"$f":"getNumKeta0($DP326,7)","v":""},{"$f":"getNumKeta0($DP326,6)","v":""},{"$f":"getNumKeta0($DP326,5)","v":""},{"$f":"getNumKeta0($DP326,4)","v":""},{"$f":"getNumKeta0($DP326,3)","v":""},{"$f":"getNumKeta0($DP326,2)","v":""},{"$f":"getNumKeta0($DP326,1)","v":""},"Ｂ",{"$f":"IF($DQ326=0,\"\", $DQ326)","v":""},null,null,null,null,null,null,null,null,null,null,null,null,null,null,null,null,null,null,null,null,null,null,null,null,null,null,null,null,null,null,null,null,null,"　消　費　税",null,null,null,null,null,null,null,{"$f":"基本情報_消費税率","v":0.1},null,null,null,{"$f":"getNumKeta0($DP326,9)","v":""},{"$f":"getNumKeta0($DP326,8)","v":""},{"$f":"getNumKeta0($DP326,7)","v":""},{"$f":"getNumKeta0($DP326,6)","v":""},{"$f":"getNumKeta0($DP326,5)","v":""},{"$f":"getNumKeta0($DP326,4)","v":""},{"$f":"getNumKeta0($DP326,3)","v":""},{"$f":"getNumKeta0($DP326,2)","v":""},{"$f":"getNumKeta0($DP326,1)","v":""},"Ｂ",{"$f":"IF($DQ326=0,\"\", $DQ326)","v":""},null,null,null,null,null,null,null,null,null,null,null,null,null,null,null,null,null,null,{"$f":"IF($DK324/15=ROUNDUP(MAX($DJ:$DJ)/15,0),VLOOKUP($E$14,基本情報_工事名称マスタ,6,FALSE),0)","v":0},{"$f":"IF($DK324/15=ROUNDUP(MAX($DJ:$DJ)/15,0),ROUND((DQ327-VLOOKUP($E$14,基本情報_工事名称マスタ,5,FALSE))/(基本情報_消費税率*100+100)*(基本情報_消費税率*100),0),0)","v":0}]
[null,null,null,null,null,null,null,null,null,null,null,null,null,null,null,null,null,null,null,null,null,null,"　　合　　　　　　計",null,null,null,null,null,null,null,null,null,null,null,{"$f":"getNumKeta0($DP327,9)","v":""},{"$f":"getNumKeta0($DP327,8)","v":""},{"$f":"getNumKeta0($DP327,7)","v":""},{"$f":"getNumKeta0($DP327,6)","v":""},{"$f":"getNumKeta0($DP327,5)","v":""},{"$f":"getNumKeta0($DP327,4)","v":""},{"$f":"getNumKeta0($DP327,3)","v":""},{"$f":"getNumKeta0($DP327,2)","v":""},{"$f":"getNumKeta0($DP327,1)","v":""},"Ｃ",{"$f":"IF($DQ327=0,\"\", $DQ327)","v":""},null,null,null,null,null,null,null,null,null,null,null,null,null,null,null,null,null,null,null,null,null,null,null,null,null,null,null,null,null,null,null,null,null,"　　合　　　　　　計",null,null,null,null,null,null,null,null,null,null,null,{"$f":"getNumKeta0($DP327,9)","v":""},{"$f":"getNumKeta0($DP327,8)","v":""},{"$f":"getNumKeta0($DP327,7)","v":""},{"$f":"getNumKeta0($DP327,6)","v":""},{"$f":"getNumKeta0($DP327,5)","v":""},{"$f":"getNumKeta0($DP327,4)","v":""},{"$f":"getNumKeta0($DP327,3)","v":""},{"$f":"getNumKeta0($DP327,2)","v":""},{"$f":"getNumKeta0($DP327,1)","v":""},"Ｃ",{"$f":"IF($DQ327=0,\"\", $DQ327)","v":""},null,null,null,null,null,null,null,null,null,null,null,null,null,null,null,null,null,null,{"$f":"IF($DK324/15=ROUNDUP(MAX($DJ:$DJ)/15,0),VLOOKUP($E$14,基本情報_工事名称マスタ,7,FALSE),0)","v":0},{"$f":"DP327","v":0}]
[null,null,null,null,null,null,null,null,null,null,null,null,null,null,null,null,null,null,null,null,null,null,"貴社→請求書(添付)→経理(控)",null,null,null,null,null,null,null,null,null,null,null,null,null,null,null,null,null,null,null,null,null,null,null,null,null,null,null,null,null,null,null,null,null,null,null,null,null,null,null,null,null,null,null,null,null,null,null,null,null,null,null,null,null,null,null,"貴社→請求書(添付)→経理→作業所長(控)"]
[]
[null,null,null,null,null,null,null,null,null,null,null,null,null,null,null,null,null,null,null,null,null,null,null,null,null,null,null,null,null,null,null,null,null,null,null,null,null,null,null,null,null,null,null,null,{"$f":"\"P \" & B371/15 & \"/\" & ROUNDUP(COUNTIF(請求明細_工事場所, E343)/15,0)","v":"P 8/1"},null,null,null,null,null,null,null,null,null,null,null,null,null,null,null,null,null,null,null,null,null,null,null,null,null,null,null,null,null,null,null,null,null,null,null,null,null,null,null,null,null,null,null,null,null,null,null,null,null,null,null,null,null,null,null,{"$f":"\"P \" & BF371/15 & \"/\" & ROUNDUP(COUNTIF(請求明細_工事場所, BI343)/15,0)","v":"P 8/1"}]
[null,null,null,"請求明細書（一般）",null,null,null,null,null,null,null,null,null,null,null,null,null,null,null,null,null,null,null,null,null,"取引先",null,null,{"$f":"基本情報_取引先コード","v":999999},null,null,null,null,null,null,null,null,null,"締\n日",null,null,{"$f":"基本情報_請求締日","v":"2020-07-31"},null,null,null,null,null,null,null,null,null,null,null,null,null,null,null,null,null,"請求明細書（一般）",null,null,null,null,null,null,null,null,null,null,null,null,null,null,null,null,null,null,null,null,null,"取引先",null,null,{"$f":"基本情報_取引先コード","v":999999},null,null,null,null,null,null,null,null,null,"締\n日",null,null,{"$f":"基本情報_請求締日","v":"2020-07-31"}]
[null,null,null,null,null,null,null,null,null,"提出用",null,null,null,null,null,null,null,null,null,null,null,null,null,null,null,null,null,null,null,null,null,null,null,null,null,null,null,null,null,null,null,null,null,null,null,null,null,null,null,null,null,null,null,null,null,null,null,null,null,null,null,null,null,null,null,"提出用"]
[]
[null,null,null,null,null,null,null,null,null,null,null,null,null,null,null,null,null,null,null,null,null,null,null,null,null,"コード",null,null,null,null,null,null,null,null,null,null,null,null,null,null,null,null,null,null,null,null,null,null,null,null,null,null,null,null,null,null,null,null,null,null,null,null,null,null,null,null,null,null,null,null,null,null,null,null,null,null,null,null,null,null,null,"コード"]
[]
[]
[null,"丸高・みなと特定建設工事共同企業体　御中",null,null,null,null,null,null,null,null,null,null,null,null,null,null,null,null,null,null,null,null,null,null,null,"（住所・社名・電話）",null,null,null,null,null,null,null,null,null,null,null,null,null,null,null,null,null,null,null,null,null,null,null,null,null,null,null,null,null,null,null,"丸高・みなと特定建設工事共同企業体　御中",null,null,null,null,null,null,null,null,null,null,null,null,null,null,null,null,null,null,null,null,null,null,null,"（住所・社名・電話）"]
[]
[]
[]
[null,null,null,null,null,null,null,null,null,null,null,null,null,null,null,null,null,null,null,null,null,null,null,null,null,null,null,null,{"$f":"基本情報_住所","v":"酒田市○○○○１－１"},null,null,null,null,null,null,null,null,null,null,null,null,null,null,null,null,null,null,null,null,null,null,null,null,null,null,null,null,null,null,null,null,null,null,null,null,null,null,null,null,null,null,null,null,null,null,null,null,null,null,null,null,null,null,null,{"$f":"基本情報_住所","v":"酒田市○○○○１－１"}]
[]
[null,"工　事　名",null,null,{"$f":"$E$14","v":"×××××工事"},null,null,null,null,null,null,null,null,null,null,"承　　認",null,null,null,null,null,"検　　印",null,null,null,null,null,null,null,null,null,null,null,null,null,null,null,null,null,null,null,null,null,null,null,null,null,null,null,null,null,null,null,null,null,null,null,"工　事　名",null,null,{"$f":"$E$14","v":"×××××工事"},null,null,null,null,null,null,null,null,null,null,"承　　認",null,null,null,null,null,"検　　印"]
[]
[]
[null,null,null,null,null,null,null,null,null,null,null,null,null,null,null,null,null,null,null,null,null,null,null,null,null,null,null,null,{"$f":"基本情報_社名","v":"(株）○○建設"},null,null,null,null,null,null,null,null,null,null,null,null,null,null,null,null,null,null,null,null,null,"印",null,null,null,null,null,null,null,null,null,null,null,null,null,null,null,null,null,null,null,null,null,null,null,null,null,null,null,null,null,null,null,null,null,{"$f":"基本情報_社名","v":"(株）○○建設"},null,null,null,null,null,null,null,null,null,null,null,null,null,null,null,null,null,null,null,null,null,"印"]
[]
[]
[null,"作業所長名",null,null,{"$f":"VLOOKUP(E343,基本情報_工事名称マスタ,3,FALSE)","v":"××次郎"},null,null,null,null,null,null,null,null,null,null,null,null,null,null,null,null,null,null,null,null,null,null,null,null,null,null,null,null,null,null,null,null,null,null,null,null,null,null,null,null,null,null,null,null,null,null,null,null,null,null,null,null,"作業所長名",null,null,{"$f":"VLOOKUP(BI343,基本情報_工事名称マスタ,3,FALSE)","v":"××次郎"}]
[]
[null,null,null,null,null,null,null,null,null,null,null,null,null,null,null,null,null,null,null,null,null,null,null,null,null,null,null,null,{"$f":"基本情報_電話番号","v":"0234 - 00 - 0000"},null,null,null,null,null,null,null,null,null,null,null,null,null,null,null,null,null,null,null,null,null,null,null,null,null,null,null,null,null,null,null,null,null,null,null,null,null,null,null,null,null,null,null,null,null,null,null,null,null,null,null,null,null,null,null,{"$f":"基本情報_電話番号","v":"0234 - 00 - 0000"}]
[]
[]
[]
[]
[null,"通番","納入年月日",null,null,"品　名　・　規　格",null,null,null,"数　　　　量",null,null,null,null,null,null,null,null,null,null,null,"単 位","単　　　　価",null,null,null,null,null,null,null,null,null,null,null,"金　　　額",null,null,null,null,null,null,null,null,"備　考",null,null,null,null,null,null,null,null,null,null,null,null,null,"通番","納入年月日",null,null,"品　名　・　規　格",null,null,null,"数　　　　量",null,null,null,null,null,null,null,null,null,null,null,"単 位","単　　　　価",null,null,null,null,null,null,null,null,null,null,null,"金　　　額",null,null,null,null,null,null,null,null,"備　考",null,null,null,null,null,null,null,null,null,null,null,null,"ヒット","ランク","-","通番","数量","単価","金額"]
[null,{"$f":"B324+1","v":106},{"$f":"IF(ISNA($DL357),\"\",VLOOKUP($DL357,請求明細,3,FALSE))","v":""},null,null,{"$f":"IF(ISNA($DL357),\"\",VLOOKUP($DL357,請求明細,4,FALSE))","v":""},null,null,null,{"$f":"IF(ISNA($DL357),\"\",getNumKeta0($DM357,9))","v":""},{"$f":"IF(ISNA($DL357),\"\",getNumKeta0($DM357,8))","v":""},{"$f":"IF(ISNA($DL357),\"\",getNumKeta0($DM357,7))","v":""},{"$f":"IF(ISNA($DL357),\"\",getNumKeta0($DM357,6))","v":""},{"$f":"IF(ISNA($DL357),\"\",getNumKeta0($DM357,5))","v":""},{"$f":"IF(ISNA($DL357),\"\",getNumKeta0($DM357,4))","v":""},{"$f":"IF(ISNA($DL357),\"\",getNumKeta0($DM357,3))","v":""},{"$f":"IF(ISNA($DL357),\"\",getNumKeta0($DM357,2))","v":""},{"$f":"IF(ISNA($DL357),\"\",getNumKeta0($DM357,1))","v":""},{"$f":"IF(ISNA($DL357),\"\",getNumKeta0($DM357,-1))","v":""},{"$f":"IF(ISNA($DL357),\"\",getNumKeta0($DM357,-2))","v":""},{"$f":"IF(ISNA($DL357),\"\",getNumKeta0($DM357,-3))","v":""},{"$f":"IF(ISNA($DL357),\"\",VLOOKUP($DL357,請求明細,6,FALSE))","v":""},{"$f":"IF(ISNA($DL357),\"\",getNumKeta0($DN357,9))","v":""},{"$f":"IF(ISNA($DL357),\"\",getNumKeta0($DN357,8))","v":""},{"$f":"IF(ISNA($DL357),\"\",getNumKeta0($DN357,7))","v":""},{"$f":"IF(ISNA($DL357),\"\",getNumKeta0($DN357,6))","v":""},{"$f":"IF(ISNA($DL357),\"\",getNumKeta0($DN357,5))","v":""},{"$f":"IF(ISNA($DL357),\"\",getNumKeta0($DN357,4))","v":""},{"$f":"IF(ISNA($DL357),\"\",getNumKeta0($DN357,3))","v":""},{"$f":"IF(ISNA($DL357),\"\",getNumKeta0($DN357,2))","v":""},{"$f":"IF(ISNA($DL357),\"\",getNumKeta0($DN357,1))","v":""},{"$f":"IF(ISNA($DL357),\"\",getNumKeta0($DN357,-1))","v":""},{"$f":"IF(ISNA($DL357),\"\",getNumKeta0($DN357,-2))","v":""},{"$f":"IF(ISNA($DL357),\"\",getNumKeta0($DN357,-3))","v":""},{"$f":"IF(ISNA($DL357),\"\",getNumKeta0($DO357,9))","v":""},{"$f":"IF(ISNA($DL357),\"\",getNumKeta0($DO357,8))","v":""},{"$f":"IF(ISNA($DL357),\"\",getNumKeta0($DO357,7))","v":""},{"$f":"IF(ISNA($DL357),\"\",getNumKeta0($DO357,6))","v":""},{"$f":"IF(ISNA($DL357),\"\",getNumKeta0($DO357,5))","v":""},{"$f":"IF(ISNA($DL357),\"\",getNumKeta0($DO357,4))","v":""},{"$f":"IF(ISNA($DL357),\"\",getNumKeta0($DO357,3))","v":""},{"$f":"IF(ISNA($DL357),\"\",getNumKeta0($DO357,2))","v":""},{"$f":"IF(ISNA($DL357),\"\",getNumKeta0($DO357,1))","v":""},{"$f":"IF(ISNA($DL357),\"\",LEFT(VLOOKUP($DL357,請求明細,10,FALSE),16))","v":""},null,null,null,null,null,null,null,null,null,null,null,null,null,{"$f":"BF324+1","v":106},{"$f":"IF(ISNA($DL357),\"\",VLOOKUP($DL357,請求明細,3,FALSE))","v":""},null,null,{"$f":"IF(ISNA($DL357),\"\",VLOOKUP($DL357,請求明細,4,FALSE))","v":""},null,null,null,{"$f":"IF(ISNA($DL357),\"\",getNumKeta0($DM357,9))","v":""},{"$f":"IF(ISNA($DL357),\"\",getNumKeta0($DM357,8))","v":""},{"$f":"IF(ISNA($DL357),\"\",getNumKeta0($DM357,7))","v":""},{"$f":"IF(ISNA($DL357),\"\",getNumKeta0($DM357,6))","v":""},{"$f":"IF(ISNA($DL357),\"\",getNumKeta0($DM357,5))","v":""},{"$f":"IF(ISNA($DL357),\"\",getNumKeta0($DM357,4))","v":""},{"$f":"IF(ISNA($DL357),\"\",getNumKeta0($DM357,3))","v":""},{"$f":"IF(ISNA($DL357),\"\",getNumKeta0($DM357,2))","v":""},{"$f":"IF(ISNA($DL357),\"\",getNumKeta0($DM357,1))","v":""},{"$f":"IF(ISNA($DL357),\"\",getNumKeta0($DM357,-1))","v":""},{"$f":"IF(ISNA($DL357),\"\",getNumKeta0($DM357,-2))","v":""},{"$f":"IF(ISNA($DL357),\"\",getNumKeta0($DM357,-3))","v":""},{"$f":"IF(ISNA($DL357),\"\",VLOOKUP($DL357,請求明細,6,FALSE))","v":""},{"$f":"IF(ISNA($DL357),\"\",getNumKeta0($DN357,9))","v":""},{"$f":"IF(ISNA($DL357),\"\",getNumKeta0($DN357,8))","v":""},{"$f":"IF(ISNA($DL357),\"\",getNumKeta0($DN357,7))","v":""},{"$f":"IF(ISNA($DL357),\"\",getNumKeta0($DN357,6))","v":""},{"$f":"IF(ISNA($DL357),\"\",getNumKeta0($DN357,5))","v":""},{"$f":"IF(ISNA($DL357),\"\",getNumKeta0($DN357,4))","v":""},{"$f":"IF(ISNA($DL357),\"\",getNumKeta0($DN357,3))","v":""},{"$f":"IF(ISNA($DL357),\"\",getNumKeta0($DN357,2))","v":""},{"$f":"IF(ISNA($DL357),\"\",getNumKeta0($DN357,1))","v":""},{"$f":"IF(ISNA($DL357),\"\",getNumKeta0($DN357,-1))","v":""},{"$f":"IF(ISNA($DL357),\"\",getNumKeta0($DN357,-2))","v":""},{"$f":"IF(ISNA($DL357),\"\",getNumKeta0($DN357,-3))","v":""},{"$f":"IF(ISNA($DL357),\"\",getNumKeta0($DO357,9))","v":""},{"$f":"IF(ISNA($DL357),\"\",getNumKeta0($DO357,8))","v":""},{"$f":"IF(ISNA($DL357),\"\",getNumKeta0($DO357,7))","v":""},{"$f":"IF(ISNA($DL357),\"\",getNumKeta0($DO357,6))","v":""},{"$f":"IF(ISNA($DL357),\"\",getNumKeta0($DO357,5))","v":""},{"$f":"IF(ISNA($DL357),\"\",getNumKeta0($DO357,4))","v":""},{"$f":"IF(ISNA($DL357),\"\",getNumKeta0($DO357,3))","v":""},{"$f":"IF(ISNA($DL357),\"\",getNumKeta0($DO357,2))","v":""},{"$f":"IF(ISNA($DL357),\"\",getNumKeta0($DO357,1))","v":""},{"$f":"IF(ISNA($DL357),\"\",LEFT(VLOOKUP($DL357,請求明細,10,FALSE),16))","v":""},null,null,null,null,null,null,null,null,null,null,null,null,{"$f":"IF($E$14=OFFSET(明細情報!$B$5, $DK357-1,0),1,0)","v":0},{"$f":"IF($DI357=0, 0, SUM($DI$28:$DI357))","v":0},{"$f":"DK324+1","v":106},{"$f":"VLOOKUP(B357,$DJ$28:$DK$65536,2,FALSE)","v":{"$error":"#N/A"}},{"$f":"IF(ISNA($DL357),0,VLOOKUP($DL357,請求明細,5,FALSE))","v":0},{"$f":"IF(ISNA($DL357),0,VLOOKUP($DL357,請求明細,7,FALSE))","v":0},{"$f":"IF(ISNA($DL357),0,VLOOKUP($DL357,請求明細,9,FALSE))","v":0}]
[null,{"$f":"B357+1","v":107},"",null,null,"",null,null,null,"","","","","","","","","","","","","","","","","","","","","","","","","","","","","","","","","","","",null,null,null,null,null,null,null,null,null,null,null,null,null,{"$f":"BF357+1","v":107},"",null,null,"",null,null,null,"","","","","","","","","","","","","","","","","","","","","","","","","","","","","","","","","","","",null,null,null,null,null,null,null,null,null,null,null,null,{"$f":"IF($E$14=OFFSET(明細情報!$B$5, $DK358-1,0),1,0)","v":0},{"$f":"IF($DI358=0, 0, SUM($DI$28:$DI358))","v":0},{"$f":"DK357+1","v":107},{"$error":"#N/A"},0,0,0]
[null,108,"",null,null,"",null,null,null,"","","","","","","","","","","","","","","","","","","","","","","","","","","","","","","","","","","",null,null,null,null,null,null,null,null,null,null,null,null,null,108,"",null,null,"",null,null,null,"","","","","","","","","","","","","","","","","","","","","","","","","","","","","","","","","","","",null,null,null,null,null,null,null,null,null,null,null,null,{"$f":"IF($E$14=OFFSET(明細情報!$B$5, $DK359-1,0),1,0)","v":0},{"$f":"IF($DI359=0, 0, SUM($DI$28:$DI359))","v":0},108,{"$error":"#N/A"},0,0,0]
[null,109,"",null,null,"",null,null,null,"","","","","","","","","","","","","","","","","","","","","","","","","","","","","","","","","","","",null,null,null,null,null,null,null,null,null,null,null,null,null,109,"",null,null,"",null,null,null,"","","","","","","","","","","","","","","","","","","","","","","","","","","","","","","","","","","",null,null,null,null,null,null,null,null,null,null,null,null,{"$f":"IF($E$14=OFFSET(明細情報!$B$5, $DK360-1,0),1,0)","v":0},{"$f":"IF($DI360=0, 0, SUM($DI$28:$DI360))","v":0},109,{"$error":"#N/A"},0,0,0]
[null,110,"",null,null,"",null,null,null,"","","","","","","","","","","","","","","","","","","","","","","","","","","","","","","","","","","",null,null,null,null,null,null,null,null,null,null,null,null,null,110,"",null,null,"",null,null,null,"","","","","","","","","","","","","","","","","","","","","","","","","","","","","","","","","","","",null,null,null,null,null,null,null,null,null,null,null,null,{"$f":"IF($E$14=OFFSET(明細情報!$B$5, $DK361-1,0),1,0)","v":0},{"$f":"IF($DI361=0, 0, SUM($DI$28:$DI361))","v":0},110,{"$error":"#N/A"},0,0,0]
[null,111,"",null,null,"",null,null,null,"","","","","","","","","","","","","","","","","","","","","","","","","","","","","","","","","","","",null,null,null,null,null,null,null,null,null,null,null,null,null,111,"",null,null,"",null,null,null,"","","","","","","","","","","","","","","","","","","","","","","","","","","","","","","","","","","",null,null,null,null,null,null,null,null,null,null,null,null,{"$f":"IF($E$14=OFFSET(明細情報!$B$5, $DK362-1,0),1,0)","v":0},{"$f":"IF($DI362=0, 0, SUM($DI$28:$DI362))","v":0},111,{"$error":"#N/A"},0,0,0]
[null,112,"",null,null,"",null,null,null,"","","","","","","","","","","","","","","","","","","","","","","","","","","","","","","","","","","",null,null,null,null,null,null,null,null,null,null,null,null,null,112,"",null,null,"",null,null,null,"","","","","","","","","","","","","","","","","","","","","","","","","","","","","","","","","","","",null,null,null,null,null,null,null,null,null,null,null,null,{"$f":"IF($E$14=OFFSET(明細情報!$B$5, $DK363-1,0),1,0)","v":0},{"$f":"IF($DI363=0, 0, SUM($DI$28:$DI363))","v":0},112,{"$error":"#N/A"},0,0,0]
[null,113,"",null,null,"",null,null,null,"","","","","","","","","","","","","","","","","","","","","","","","","","","","","","","","","","","",null,null,null,null,null,null,null,null,null,null,null,null,null,113,"",null,null,"",null,null,null,"","","","","","","","","","","","","","","","","","","","","","","","","","","","","","","","","","","",null,null,null,null,null,null,null,null,null,null,null,null,{"$f":"IF($E$14=OFFSET(明細情報!$B$5, $DK364-1,0),1,0)","v":0},{"$f":"IF($DI364=0, 0, SUM($DI$28:$DI364))","v":0},113,{"$error":"#N/A"},0,0,0]
[null,114,"",null,null,"",null,null,null,"","","","","","","","","","","","","","","","","","","","","","","","","","","","","","","","","","","",null,null,null,null,null,null,null,null,null,null,null,null,null,114,"",null,null,"",null,null,null,"","","","","","","","","","","","","","","","","","","","","","","","","","","","","","","","","","","",null,null,null,null,null,null,null,null,null,null,null,null,{"$f":"IF($E$14=OFFSET(明細情報!$B$5, $DK365-1,0),1,0)","v":0},{"$f":"IF($DI365=0, 0, SUM($DI$28:$DI365))","v":0},114,{"$error":"#N/A"},0,0,0]
[null,115,"",null,null,"",null,null,null,"","","","","","","","","","","","","","","","","","","","","","","","","","","","","","","","","","","",null,null,null,null,null,null,null,null,null,null,null,null,null,115,"",null,null,"",null,null,null,"","","","","","","","","","","","","","","","","","","","","","","","","","","","","","","","","","","",null,null,null,null,null,null,null,null,null,null,null,null,{"$f":"IF($E$14=OFFSET(明細情報!$B$5, $DK366-1,0),1,0)","v":0},{"$f":"IF($DI366=0, 0, SUM($DI$28:$DI366))","v":0},115,{"$error":"#N/A"},0,0,0]
[null,116,"",null,null,"",null,null,null,"","","","","","","","","","","","","","","","","","","","","","","","","","","","","","","","","","","",null,null,null,null,null,null,null,null,null,null,null,null,null,116,"",null,null,"",null,null,null,"","","","","","","","","","","","","","","","","","","","","","","","","","","","","","","","","","","",null,null,null,null,null,null,null,null,null,null,null,null,{"$f":"IF($E$14=OFFSET(明細情報!$B$5, $DK367-1,0),1,0)","v":0},{"$f":"IF($DI367=0, 0, SUM($DI$28:$DI367))","v":0},116,{"$error":"#N/A"},0,0,0]
[null,117,"",null,null,"",null,null,null,"","","","","","","","","","","","","","","","","","","","","","","","","","","","","","","","","","","",null,null,null,null,null,null,null,null,null,null,null,null,null,117,"",null,null,"",null,null,null,"","","","","","","","","","","","","","","","","","","","","","","","","","","","","","","","","","","",null,null,null,null,null,null,null,null,null,null,null,null,{"$f":"IF($E$14=OFFSET(明細情報!$B$5, $DK368-1,0),1,0)","v":0},{"$f":"IF($DI368=0, 0, SUM($DI$28:$DI368))","v":0},117,{"$error":"#N/A"},0,0,0]
[null,118,"",null,null,"",null,null,null,"","","","","","","","","","","","","","","","","","","","","","","","","","","","","","","","","","","",null,null,null,null,null,null,null,null,null,null,null,null,null,118,"",null,null,"",null,null,null,"","","","","","","","","","","","","","","","","","","","","","","","","","","","","","","","","","","",null,null,null,null,null,null,null,null,null,null,null,null,{"$f":"IF($E$14=OFFSET(明細情報!$B$5, $DK369-1,0),1,0)","v":0},{"$f":"IF($DI369=0, 0, SUM($DI$28:$DI369))","v":0},118,{"$error":"#N/A"},0,0,0]
[null,119,"",null,null,"",null,null,null,"","","","","","","","","","","","","","","","","","","","","","","","","","","","","","","","","","","",null,null,null,null,null,null,null,null,null,null,null,null,null,119,"",null,null,"",null,null,null,"","","","","","","","","","","","","","","","","","","","","","","","","","","","","","","","","","","",null,null,null,null,null,null,null,null,null,null,null,null,{"$f":"IF($E$14=OFFSET(明細情報!$B$5, $DK370-1,0),1,0)","v":0},{"$f":"IF($DI370=0, 0, SUM($DI$28:$DI370))","v":0},119,{"$error":"#N/A"},0,0,0]
[null,120,"",null,null,"",null,null,null,"","","","","","","","","","","","","","","","","","","","","","","","","","","","","","","","","","","",null,null,null,null,null,null,null,null,null,null,null,null,null,120,"",null,null,"",null,null,null,"","","","","","","","","","","","","","","","","","","","","","","","","","","","","","","","","","","",null,null,null,null,null,null,null,null,null,null,null,null,{"$f":"IF($E$14=OFFSET(明細情報!$B$5, $DK371-1,0),1,0)","v":0},{"$f":"IF($DI371=0, 0, SUM($DI$28:$DI371))","v":0},120,{"$error":"#N/A"},0,0,0]
[null,null,null,null,null,null,null,null,null,null,null,null,null,null,null,null,null,null,null,null,null,null,"　　小　　　　　　計",null,null,null,null,null,null,null,null,null,null,null,{"$f":"getNumKeta0($DP372,9)","v":""},{"$f":"getNumKeta0($DP372,8)","v":""},{"$f":"getNumKeta0($DP372,7)","v":""},{"$f":"getNumKeta0($DP372,6)","v":""},{"$f":"getNumKeta0($DP372,5)","v":""},{"$f":"getNumKeta0($DP372,4)","v":""},{"$f":"getNumKeta0($DP372,3)","v":""},{"$f":"getNumKeta0($DP372,2)","v":""},{"$f":"getNumKeta0($DP372,1)","v":""},"Ａ",{"$f":"IF($DQ372=0,\"\", $DQ372)","v":""},null,null,null,null,null,null,null,null,{"$f":"IF($DP372<>$DQ372,\"*\",\"\")","v":""},null,null,null,null,null,null,null,null,null,null,null,null,null,null,null,null,null,null,null,null,null,null,null,null,"　　小　　　　　　計",null,null,null,null,null,null,null,null,null,null,null,{"$f":"getNumKeta0($DP372,9)","v":""},{"$f":"getNumKeta0($DP372,8)","v":""},{"$f":"getNumKeta0($DP372,7)","v":""},{"$f":"getNumKeta0($DP372,6)","v":""},{"$f":"getNumKeta0($DP372,5)","v":""},{"$f":"getNumKeta0($DP372,4)","v":""},{"$f":"getNumKeta0($DP372,3)","v":""},{"$f":"getNumKeta0($DP372,2)","v":""},{"$f":"getNumKeta0($DP372,1)","v":""},"Ａ",{"$f":"IF($DQ372=0,\"\", $DQ372)","v":""},null,null,null,null,null,null,null,null,{"$f":"IF($DP372<>$DQ372,\"*\",\"\")","v":""},null,null,null,null,null,null,null,null,null,{"$f":"IF($DK371/15=ROUNDUP(MAX($DJ:$DJ)/15,0),VLOOKUP($E$14,基本情報_工事名称マスタ,4,FALSE)+VLOOKUP($E$14,基本情報_工事名称マスタ,5,FALSE),0)","v":0},{"$f":"IF($DK371/15=ROUNDUP(MAX($DJ:$DJ)/15,0),DQ374-DQ373,0)","v":0}]
[null,null,null,null,null,null,null,null,null,null,null,null,null,null,null,null,null,null,null,null,null,null,"　消　費　税",null,null,null,null,null,null,null,{"$f":"基本情報_消費税率","v":0.1},null,null,null,{"$f":"getNumKeta0($DP373,9)","v":""},{"$f":"getNumKeta0($DP373,8)","v":""},{"$f":"getNumKeta0($DP373,7)","v":""},{"$f":"getNumKeta0($DP373,6)","v":""},{"$f":"getNumKeta0($DP373,5)","v":""},{"$f":"getNumKeta0($DP373,4)","v":""},{"$f":"getNumKeta0($DP373,3)","v":""},{"$f":"getNumKeta0($DP373,2)","v":""},{"$f":"getNumKeta0($DP373,1)","v":""},"Ｂ",{"$f":"IF($DQ373=0,\"\", $DQ373)","v":""},null,null,null,null,null,null,null,null,null,null,null,null,null,null,null,null,null,null,null,null,null,null,null,null,null,null,null,null,null,null,null,null,null,"　消　費　税",null,null,null,null,null,null,null,{"$f":"基本情報_消費税率","v":0.1},null,null,null,{"$f":"getNumKeta0($DP373,9)","v":""},{"$f":"getNumKeta0($DP373,8)","v":""},{"$f":"getNumKeta0($DP373,7)","v":""},{"$f":"getNumKeta0($DP373,6)","v":""},{"$f":"getNumKeta0($DP373,5)","v":""},{"$f":"getNumKeta0($DP373,4)","v":""},{"$f":"getNumKeta0($DP373,3)","v":""},{"$f":"getNumKeta0($DP373,2)","v":""},{"$f":"getNumKeta0($DP373,1)","v":""},"Ｂ",{"$f":"IF($DQ373=0,\"\", $DQ373)","v":""},null,null,null,null,null,null,null,null,null,null,null,null,null,null,null,null,null,null,{"$f":"IF($DK371/15=ROUNDUP(MAX($DJ:$DJ)/15,0),VLOOKUP($E$14,基本情報_工事名称マスタ,6,FALSE),0)","v":0},{"$f":"IF($DK371/15=ROUNDUP(MAX($DJ:$DJ)/15,0),ROUND((DQ374-VLOOKUP($E$14,基本情報_工事名称マスタ,5,FALSE))/(基本情報_消費税率*100+100)*(基本情報_消費税率*100),0),0)","v":0}]
[null,null,null,null,null,null,null,null,null,null,null,null,null,null,null,null,null,null,null,null,null,null,"　　合　　　　　　計",null,null,null,null,null,null,null,null,null,null,null,{"$f":"getNumKeta0($DP374,9)","v":""},{"$f":"getNumKeta0($DP374,8)","v":""},{"$f":"getNumKeta0($DP374,7)","v":""},{"$f":"getNumKeta0($DP374,6)","v":""},{"$f":"getNumKeta0($DP374,5)","v":""},{"$f":"getNumKeta0($DP374,4)","v":""},{"$f":"getNumKeta0($DP374,3)","v":""},{"$f":"getNumKeta0($DP374,2)","v":""},{"$f":"getNumKeta0($DP374,1)","v":""},"Ｃ",{"$f":"IF($DQ374=0,\"\", $DQ374)","v":""},null,null,null,null,null,null,null,null,null,null,null,null,null,null,null,null,null,null,null,null,null,null,null,null,null,null,null,null,null,null,null,null,null,"　　合　　　　　　計",null,null,null,null,null,null,null,null,null,null,null,{"$f":"getNumKeta0($DP374,9)","v":""},{"$f":"getNumKeta0($DP374,8)","v":""},{"$f":"getNumKeta0($DP374,7)","v":""},{"$f":"getNumKeta0($DP374,6)","v":""},{"$f":"getNumKeta0($DP374,5)","v":""},{"$f":"getNumKeta0($DP374,4)","v":""},{"$f":"getNumKeta0($DP374,3)","v":""},{"$f":"getNumKeta0($DP374,2)","v":""},{"$f":"getNumKeta0($DP374,1)","v":""},"Ｃ",{"$f":"IF($DQ374=0,\"\", $DQ374)","v":""},null,null,null,null,null,null,null,null,null,null,null,null,null,null,null,null,null,null,{"$f":"IF($DK371/15=ROUNDUP(MAX($DJ:$DJ)/15,0),VLOOKUP($E$14,基本情報_工事名称マスタ,7,FALSE),0)","v":0},{"$f":"DP374","v":0}]
[null,null,null,null,null,null,null,null,null,null,null,null,null,null,null,null,null,null,null,null,null,null,"貴社→請求書(添付)→経理(控)",null,null,null,null,null,null,null,null,null,null,null,null,null,null,null,null,null,null,null,null,null,null,null,null,null,null,null,null,null,null,null,null,null,null,null,null,null,null,null,null,null,null,null,null,null,null,null,null,null,null,null,null,null,null,null,"貴社→請求書(添付)→経理→作業所長(控)"]
[]
[null,null,null,null,null,null,null,null,null,null,null,null,null,null,null,null,null,null,null,null,null,null,null,null,null,null,null,null,null,null,null,null,null,null,null,null,null,null,null,null,null,null,null,null,{"$f":"\"P \" & B418/15 & \"/\" & ROUNDUP(COUNTIF(請求明細_工事場所, E390)/15,0)","v":"P 9/1"},null,null,null,null,null,null,null,null,null,null,null,null,null,null,null,null,null,null,null,null,null,null,null,null,null,null,null,null,null,null,null,null,null,null,null,null,null,null,null,null,null,null,null,null,null,null,null,null,null,null,null,null,null,null,null,{"$f":"\"P \" & BF418/15 & \"/\" & ROUNDUP(COUNTIF(請求明細_工事場所, BI390)/15,0)","v":"P 9/1"}]
[null,null,null,"請求明細書（一般）",null,null,null,null,null,null,null,null,null,null,null,null,null,null,null,null,null,null,null,null,null,"取引先",null,null,{"$f":"基本情報_取引先コード","v":999999},null,null,null,null,null,null,null,null,null,"締\n日",null,null,{"$f":"基本情報_請求締日","v":"2020-07-31"},null,null,null,null,null,null,null,null,null,null,null,null,null,null,null,null,null,"請求明細書（一般）",null,null,null,null,null,null,null,null,null,null,null,null,null,null,null,null,null,null,null,null,null,"取引先",null,null,{"$f":"基本情報_取引先コード","v":999999},null,null,null,null,null,null,null,null,null,"締\n日",null,null,{"$f":"基本情報_請求締日","v":"2020-07-31"}]
[null,null,null,null,null,null,null,null,null,"提出用",null,null,null,null,null,null,null,null,null,null,null,null,null,null,null,null,null,null,null,null,null,null,null,null,null,null,null,null,null,null,null,null,null,null,null,null,null,null,null,null,null,null,null,null,null,null,null,null,null,null,null,null,null,null,null,"提出用"]
[]
[null,null,null,null,null,null,null,null,null,null,null,null,null,null,null,null,null,null,null,null,null,null,null,null,null,"コード",null,null,null,null,null,null,null,null,null,null,null,null,null,null,null,null,null,null,null,null,null,null,null,null,null,null,null,null,null,null,null,null,null,null,null,null,null,null,null,null,null,null,null,null,null,null,null,null,null,null,null,null,null,null,null,"コード"]
[]
[]
[null,"丸高・みなと特定建設工事共同企業体　御中",null,null,null,null,null,null,null,null,null,null,null,null,null,null,null,null,null,null,null,null,null,null,null,"（住所・社名・電話）",null,null,null,null,null,null,null,null,null,null,null,null,null,null,null,null,null,null,null,null,null,null,null,null,null,null,null,null,null,null,null,"丸高・みなと特定建設工事共同企業体　御中",null,null,null,null,null,null,null,null,null,null,null,null,null,null,null,null,null,null,null,null,null,null,null,"（住所・社名・電話）"]
[]
[]
[]
[null,null,null,null,null,null,null,null,null,null,null,null,null,null,null,null,null,null,null,null,null,null,null,null,null,null,null,null,{"$f":"基本情報_住所","v":"酒田市○○○○１－１"},null,null,null,null,null,null,null,null,null,null,null,null,null,null,null,null,null,null,null,null,null,null,null,null,null,null,null,null,null,null,null,null,null,null,null,null,null,null,null,null,null,null,null,null,null,null,null,null,null,null,null,null,null,null,null,{"$f":"基本情報_住所","v":"酒田市○○○○１－１"}]
[]
[null,"工　事　名",null,null,{"$f":"$E$14","v":"×××××工事"},null,null,null,null,null,null,null,null,null,null,"承　　認",null,null,null,null,null,"検　　印",null,null,null,null,null,null,null,null,null,null,null,null,null,null,null,null,null,null,null,null,null,null,null,null,null,null,null,null,null,null,null,null,null,null,null,"工　事　名",null,null,{"$f":"$E$14","v":"×××××工事"},null,null,null,null,null,null,null,null,null,null,"承　　認",null,null,null,null,null,"検　　印"]
[]
[]
[null,null,null,null,null,null,null,null,null,null,null,null,null,null,null,null,null,null,null,null,null,null,null,null,null,null,null,null,{"$f":"基本情報_社名","v":"(株）○○建設"},null,null,null,null,null,null,null,null,null,null,null,null,null,null,null,null,null,null,null,null,null,"印",null,null,null,null,null,null,null,null,null,null,null,null,null,null,null,null,null,null,null,null,null,null,null,null,null,null,null,null,null,null,null,null,null,{"$f":"基本情報_社名","v":"(株）○○建設"},null,null,null,null,null,null,null,null,null,null,null,null,null,null,null,null,null,null,null,null,null,"印"]
[]
[]
[null,"作業所長名",null,null,{"$f":"VLOOKUP(E390,基本情報_工事名称マスタ,3,FALSE)","v":"××次郎"},null,null,null,null,null,null,null,null,null,null,null,null,null,null,null,null,null,null,null,null,null,null,null,null,null,null,null,null,null,null,null,null,null,null,null,null,null,null,null,null,null,null,null,null,null,null,null,null,null,null,null,null,"作業所長名",null,null,{"$f":"VLOOKUP(BI390,基本情報_工事名称マスタ,3,FALSE)","v":"××次郎"}]
[]
[null,null,null,null,null,null,null,null,null,null,null,null,null,null,null,null,null,null,null,null,null,null,null,null,null,null,null,null,{"$f":"基本情報_電話番号","v":"0234 - 00 - 0000"},null,null,null,null,null,null,null,null,null,null,null,null,null,null,null,null,null,null,null,null,null,null,null,null,null,null,null,null,null,null,null,null,null,null,null,null,null,null,null,null,null,null,null,null,null,null,null,null,null,null,null,null,null,null,null,{"$f":"基本情報_電話番号","v":"0234 - 00 - 0000"}]
[]
[]
[]
[]
[null,"通番","納入年月日",null,null,"品　名　・　規　格",null,null,null,"数　　　　量",null,null,null,null,null,null,null,null,null,null,null,"単 位","単　　　　価",null,null,null,null,null,null,null,null,null,null,null,"金　　　額",null,null,null,null,null,null,null,null,"備　考",null,null,null,null,null,null,null,null,null,null,null,null,null,"通番","納入年月日",null,null,"品　名　・　規　格",null,null,null,"数　　　　量",null,null,null,null,null,null,null,null,null,null,null,"単 位","単　　　　価",null,null,null,null,null,null,null,null,null,null,null,"金　　　額",null,null,null,null,null,null,null,null,"備　考",null,null,null,null,null,null,null,null,null,null,null,null,"ヒット","ランク","-","通番","数量","単価","金額"]
[null,{"$f":"B371+1","v":121},{"$f":"IF(ISNA($DL404),\"\",VLOOKUP($DL404,請求明細,3,FALSE))","v":""},null,null,{"$f":"IF(ISNA($DL404),\"\",VLOOKUP($DL404,請求明細,4,FALSE))","v":""},null,null,null,{"$f":"IF(ISNA($DL404),\"\",getNumKeta0($DM404,9))","v":""},{"$f":"IF(ISNA($DL404),\"\",getNumKeta0($DM404,8))","v":""},{"$f":"IF(ISNA($DL404),\"\",getNumKeta0($DM404,7))","v":""},{"$f":"IF(ISNA($DL404),\"\",getNumKeta0($DM404,6))","v":""},{"$f":"IF(ISNA($DL404),\"\",getNumKeta0($DM404,5))","v":""},{"$f":"IF(ISNA($DL404),\"\",getNumKeta0($DM404,4))","v":""},{"$f":"IF(ISNA($DL404),\"\",getNumKeta0($DM404,3))","v":""},{"$f":"IF(ISNA($DL404),\"\",getNumKeta0($DM404,2))","v":""},{"$f":"IF(ISNA($DL404),\"\",getNumKeta0($DM404,1))","v":""},{"$f":"IF(ISNA($DL404),\"\",getNumKeta0($DM404,-1))","v":""},{"$f":"IF(ISNA($DL404),\"\",getNumKeta0($DM404,-2))","v":""},{"$f":"IF(ISNA($DL404),\"\",getNumKeta0($DM404,-3))","v":""},{"$f":"IF(ISNA($DL404),\"\",VLOOKUP($DL404,請求明細,6,FALSE))","v":""},{"$f":"IF(ISNA($DL404),\"\",getNumKeta0($DN404,9))","v":""},{"$f":"IF(ISNA($DL404),\"\",getNumKeta0($DN404,8))","v":""},{"$f":"IF(ISNA($DL404),\"\",getNumKeta0($DN404,7))","v":""},{"$f":"IF(ISNA($DL404),\"\",getNumKeta0($DN404,6))","v":""},{"$f":"IF(ISNA($DL404),\"\",getNumKeta0($DN404,5))","v":""},{"$f":"IF(ISNA($DL404),\"\",getNumKeta0($DN404,4))","v":""},{"$f":"IF(ISNA($DL404),\"\",getNumKeta0($DN404,3))","v":""},{"$f":"IF(ISNA($DL404),\"\",getNumKeta0($DN404,2))","v":""},{"$f":"IF(ISNA($DL404),\"\",getNumKeta0($DN404,1))","v":""},{"$f":"IF(ISNA($DL404),\"\",getNumKeta0($DN404,-1))","v":""},{"$f":"IF(ISNA($DL404),\"\",getNumKeta0($DN404,-2))","v":""},{"$f":"IF(ISNA($DL404),\"\",getNumKeta0($DN404,-3))","v":""},{"$f":"IF(ISNA($DL404),\"\",getNumKeta0($DO404,9))","v":""},{"$f":"IF(ISNA($DL404),\"\",getNumKeta0($DO404,8))","v":""},{"$f":"IF(ISNA($DL404),\"\",getNumKeta0($DO404,7))","v":""},{"$f":"IF(ISNA($DL404),\"\",getNumKeta0($DO404,6))","v":""},{"$f":"IF(ISNA($DL404),\"\",getNumKeta0($DO404,5))","v":""},{"$f":"IF(ISNA($DL404),\"\",getNumKeta0($DO404,4))","v":""},{"$f":"IF(ISNA($DL404),\"\",getNumKeta0($DO404,3))","v":""},{"$f":"IF(ISNA($DL404),\"\",getNumKeta0($DO404,2))","v":""},{"$f":"IF(ISNA($DL404),\"\",getNumKeta0($DO404,1))","v":""},{"$f":"IF(ISNA($DL404),\"\",LEFT(VLOOKUP($DL404,請求明細,10,FALSE),16))","v":""},null,null,null,null,null,null,null,null,null,null,null,null,null,{"$f":"BF371+1","v":121},{"$f":"IF(ISNA($DL404),\"\",VLOOKUP($DL404,請求明細,3,FALSE))","v":""},null,null,{"$f":"IF(ISNA($DL404),\"\",VLOOKUP($DL404,請求明細,4,FALSE))","v":""},null,null,null,{"$f":"IF(ISNA($DL404),\"\",getNumKeta0($DM404,9))","v":""},{"$f":"IF(ISNA($DL404),\"\",getNumKeta0($DM404,8))","v":""},{"$f":"IF(ISNA($DL404),\"\",getNumKeta0($DM404,7))","v":""},{"$f":"IF(ISNA($DL404),\"\",getNumKeta0($DM404,6))","v":""},{"$f":"IF(ISNA($DL404),\"\",getNumKeta0($DM404,5))","v":""},{"$f":"IF(ISNA($DL404),\"\",getNumKeta0($DM404,4))","v":""},{"$f":"IF(ISNA($DL404),\"\",getNumKeta0($DM404,3))","v":""},{"$f":"IF(ISNA($DL404),\"\",getNumKeta0($DM404,2))","v":""},{"$f":"IF(ISNA($DL404),\"\",getNumKeta0($DM404,1))","v":""},{"$f":"IF(ISNA($DL404),\"\",getNumKeta0($DM404,-1))","v":""},{"$f":"IF(ISNA($DL404),\"\",getNumKeta0($DM404,-2))","v":""},{"$f":"IF(ISNA($DL404),\"\",getNumKeta0($DM404,-3))","v":""},{"$f":"IF(ISNA($DL404),\"\",VLOOKUP($DL404,請求明細,6,FALSE))","v":""},{"$f":"IF(ISNA($DL404),\"\",getNumKeta0($DN404,9))","v":""},{"$f":"IF(ISNA($DL404),\"\",getNumKeta0($DN404,8))","v":""},{"$f":"IF(ISNA($DL404),\"\",getNumKeta0($DN404,7))","v":""},{"$f":"IF(ISNA($DL404),\"\",getNumKeta0($DN404,6))","v":""},{"$f":"IF(ISNA($DL404),\"\",getNumKeta0($DN404,5))","v":""},{"$f":"IF(ISNA($DL404),\"\",getNumKeta0($DN404,4))","v":""},{"$f":"IF(ISNA($DL404),\"\",getNumKeta0($DN404,3))","v":""},{"$f":"IF(ISNA($DL404),\"\",getNumKeta0($DN404,2))","v":""},{"$f":"IF(ISNA($DL404),\"\",getNumKeta0($DN404,1))","v":""},{"$f":"IF(ISNA($DL404),\"\",getNumKeta0($DN404,-1))","v":""},{"$f":"IF(ISNA($DL404),\"\",getNumKeta0($DN404,-2))","v":""},{"$f":"IF(ISNA($DL404),\"\",getNumKeta0($DN404,-3))","v":""},{"$f":"IF(ISNA($DL404),\"\",getNumKeta0($DO404,9))","v":""},{"$f":"IF(ISNA($DL404),\"\",getNumKeta0($DO404,8))","v":""},{"$f":"IF(ISNA($DL404),\"\",getNumKeta0($DO404,7))","v":""},{"$f":"IF(ISNA($DL404),\"\",getNumKeta0($DO404,6))","v":""},{"$f":"IF(ISNA($DL404),\"\",getNumKeta0($DO404,5))","v":""},{"$f":"IF(ISNA($DL404),\"\",getNumKeta0($DO404,4))","v":""},{"$f":"IF(ISNA($DL404),\"\",getNumKeta0($DO404,3))","v":""},{"$f":"IF(ISNA($DL404),\"\",getNumKeta0($DO404,2))","v":""},{"$f":"IF(ISNA($DL404),\"\",getNumKeta0($DO404,1))","v":""},{"$f":"IF(ISNA($DL404),\"\",LEFT(VLOOKUP($DL404,請求明細,10,FALSE),16))","v":""},null,null,null,null,null,null,null,null,null,null,null,null,{"$f":"IF($E$14=OFFSET(明細情報!$B$5, $DK404-1,0),1,0)","v":0},{"$f":"IF($DI404=0, 0, SUM($DI$28:$DI404))","v":0},{"$f":"DK371+1","v":121},{"$f":"VLOOKUP(B404,$DJ$28:$DK$65536,2,FALSE)","v":{"$error":"#N/A"}},{"$f":"IF(ISNA($DL404),0,VLOOKUP($DL404,請求明細,5,FALSE))","v":0},{"$f":"IF(ISNA($DL404),0,VLOOKUP($DL404,請求明細,7,FALSE))","v":0},{"$f":"IF(ISNA($DL404),0,VLOOKUP($DL404,請求明細,9,FALSE))","v":0}]
[null,{"$f":"B404+1","v":122},"",null,null,"",null,null,null,"","","","","","","","","","","","","","","","","","","","","","","","","","","","","","","","","","","",null,null,null,null,null,null,null,null,null,null,null,null,null,{"$f":"BF404+1","v":122},"",null,null,"",null,null,null,"","","","","","","","","","","","","","","","","","","","","","","","","","","","","","","","","","","",null,null,null,null,null,null,null,null,null,null,null,null,{"$f":"IF($E$14=OFFSET(明細情報!$B$5, $DK405-1,0),1,0)","v":0},{"$f":"IF($DI405=0, 0, SUM($DI$28:$DI405))","v":0},{"$f":"DK404+1","v":122},{"$error":"#N/A"},0,0,0]
[null,123,"",null,null,"",null,null,null,"","","","","","","","","","","","","","","","","","","","","","","","","","","","","","","","","","","",null,null,null,null,null,null,null,null,null,null,null,null,null,123,"",null,null,"",null,null,null,"","","","","","","","","","","","","","","","","","","","","","","","","","","","","","","","","","","",null,null,null,null,null,null,null,null,null,null,null,null,{"$f":"IF($E$14=OFFSET(明細情報!$B$5, $DK406-1,0),1,0)","v":0},{"$f":"IF($DI406=0, 0, SUM($DI$28:$DI406))","v":0},123,{"$error":"#N/A"},0,0,0]
[null,124,"",null,null,"",null,null,null,"","","","","","","","","","","","","","","","","","","","","","","","","","","","","","","","","","","",null,null,null,null,null,null,null,null,null,null,null,null,null,124,"",null,null,"",null,null,null,"","","","","","","","","","","","","","","","","","","","","","","","","","","","","","","","","","","",null,null,null,null,null,null,null,null,null,null,null,null,{"$f":"IF($E$14=OFFSET(明細情報!$B$5, $DK407-1,0),1,0)","v":0},{"$f":"IF($DI407=0, 0, SUM($DI$28:$DI407))","v":0},124,{"$error":"#N/A"},0,0,0]
[null,125,"",null,null,"",null,null,null,"","","","","","","","","","","","","","","","","","","","","","","","","","","","","","","","","","","",null,null,null,null,null,null,null,null,null,null,null,null,null,125,"",null,null,"",null,null,null,"","","","","","","","","","","","","","","","","","","","","","","","","","","","","","","","","","","",null,null,null,null,null,null,null,null,null,null,null,null,{"$f":"IF($E$14=OFFSET(明細情報!$B$5, $DK408-1,0),1,0)","v":0},{"$f":"IF($DI408=0, 0, SUM($DI$28:$DI408))","v":0},125,{"$error":"#N/A"},0,0,0]
[null,126,"",null,null,"",null,null,null,"","","","","","","","","","","","","","","","","","","","","","","","","","","","","","","","","","","",null,null,null,null,null,null,null,null,null,null,null,null,null,126,"",null,null,"",null,null,null,"","","","","","","","","","","","","","","","","","","","","","","","","","","","","","","","","","","",null,null,null,null,null,null,null,null,null,null,null,null,{"$f":"IF($E$14=OFFSET(明細情報!$B$5, $DK409-1,0),1,0)","v":0},{"$f":"IF($DI409=0, 0, SUM($DI$28:$DI409))","v":0},126,{"$error":"#N/A"},0,0,0]
[null,127,"",null,null,"",null,null,null,"","","","","","","","","","","","","","","","","","","","","","","","","","","","","","","","","","","",null,null,null,null,null,null,null,null,null,null,null,null,null,127,"",null,null,"",null,null,null,"","","","","","","","","","","","","","","","","","","","","","","","","","","","","","","","","","","",null,null,null,null,null,null,null,null,null,null,null,null,{"$f":"IF($E$14=OFFSET(明細情報!$B$5, $DK410-1,0),1,0)","v":0},{"$f":"IF($DI410=0, 0, SUM($DI$28:$DI410))","v":0},127,{"$error":"#N/A"},0,0,0]
[null,128,"",null,null,"",null,null,null,"","","","","","","","","","","","","","","","","","","","","","","","","","","","","","","","","","","",null,null,null,null,null,null,null,null,null,null,null,null,null,128,"",null,null,"",null,null,null,"","","","","","","","","","","","","","","","","","","","","","","","","","","","","","","","","","","",null,null,null,null,null,null,null,null,null,null,null,null,{"$f":"IF($E$14=OFFSET(明細情報!$B$5, $DK411-1,0),1,0)","v":0},{"$f":"IF($DI411=0, 0, SUM($DI$28:$DI411))","v":0},128,{"$error":"#N/A"},0,0,0]
[null,129,"",null,null,"",null,null,null,"","","","","","","","","","","","","","","","","","","","","","","","","","","","","","","","","","","",null,null,null,null,null,null,null,null,null,null,null,null,null,129,"",null,null,"",null,null,null,"","","","","","","","","","","","","","","","","","","","","","","","","","","","","","","","","","","",null,null,null,null,null,null,null,null,null,null,null,null,{"$f":"IF($E$14=OFFSET(明細情報!$B$5, $DK412-1,0),1,0)","v":0},{"$f":"IF($DI412=0, 0, SUM($DI$28:$DI412))","v":0},129,{"$error":"#N/A"},0,0,0]
[null,130,"",null,null,"",null,null,null,"","","","","","","","","","","","","","","","","","","","","","","","","","","","","","","","","","","",null,null,null,null,null,null,null,null,null,null,null,null,null,130,"",null,null,"",null,null,null,"","","","","","","","","","","","","","","","","","","","","","","","","","","","","","","","","","","",null,null,null,null,null,null,null,null,null,null,null,null,{"$f":"IF($E$14=OFFSET(明細情報!$B$5, $DK413-1,0),1,0)","v":0},{"$f":"IF($DI413=0, 0, SUM($DI$28:$DI413))","v":0},130,{"$error":"#N/A"},0,0,0]
[null,131,"",null,null,"",null,null,null,"","","","","","","","","","","","","","","","","","","","","","","","","","","","","","","","","","","",null,null,null,null,null,null,null,null,null,null,null,null,null,131,"",null,null,"",null,null,null,"","","","","","","","","","","","","","","","","","","","","","","","","","","","","","","","","","","",null,null,null,null,null,null,null,null,null,null,null,null,{"$f":"IF($E$14=OFFSET(明細情報!$B$5, $DK414-1,0),1,0)","v":0},{"$f":"IF($DI414=0, 0, SUM($DI$28:$DI414))","v":0},131,{"$error":"#N/A"},0,0,0]
[null,132,"",null,null,"",null,null,null,"","","","","","","","","","","","","","","","","","","","","","","","","","","","","","","","","","","",null,null,null,null,null,null,null,null,null,null,null,null,null,132,"",null,null,"",null,null,null,"","","","","","","","","","","","","","","","","","","","","","","","","","","","","","","","","","","",null,null,null,null,null,null,null,null,null,null,null,null,{"$f":"IF($E$14=OFFSET(明細情報!$B$5, $DK415-1,0),1,0)","v":0},{"$f":"IF($DI415=0, 0, SUM($DI$28:$DI415))","v":0},132,{"$error":"#N/A"},0,0,0]
[null,133,"",null,null,"",null,null,null,"","","","","","","","","","","","","","","","","","","","","","","","","","","","","","","","","","","",null,null,null,null,null,null,null,null,null,null,null,null,null,133,"",null,null,"",null,null,null,"","","","","","","","","","","","","","","","","","","","","","","","","","","","","","","","","","","",null,null,null,null,null,null,null,null,null,null,null,null,{"$f":"IF($E$14=OFFSET(明細情報!$B$5, $DK416-1,0),1,0)","v":0},{"$f":"IF($DI416=0, 0, SUM($DI$28:$DI416))","v":0},133,{"$error":"#N/A"},0,0,0]
[null,134,"",null,null,"",null,null,null,"","","","","","","","","","","","","","","","","","","","","","","","","","","","","","","","","","","",null,null,null,null,null,null,null,null,null,null,null,null,null,134,"",null,null,"",null,null,null,"","","","","","","","","","","","","","","","","","","","","","","","","","","","","","","","","","","",null,null,null,null,null,null,null,null,null,null,null,null,{"$f":"IF($E$14=OFFSET(明細情報!$B$5, $DK417-1,0),1,0)","v":0},{"$f":"IF($DI417=0, 0, SUM($DI$28:$DI417))","v":0},134,{"$error":"#N/A"},0,0,0]
[null,135,"",null,null,"",null,null,null,"","","","","","","","","","","","","","","","","","","","","","","","","","","","","","","","","","","",null,null,null,null,null,null,null,null,null,null,null,null,null,135,"",null,null,"",null,null,null,"","","","","","","","","","","","","","","","","","","","","","","","","","","","","","","","","","","",null,null,null,null,null,null,null,null,null,null,null,null,{"$f":"IF($E$14=OFFSET(明細情報!$B$5, $DK418-1,0),1,0)","v":0},{"$f":"IF($DI418=0, 0, SUM($DI$28:$DI418))","v":0},135,{"$error":"#N/A"},0,0,0]
[null,null,null,null,null,null,null,null,null,null,null,null,null,null,null,null,null,null,null,null,null,null,"　　小　　　　　　計",null,null,null,null,null,null,null,null,null,null,null,{"$f":"getNumKeta0($DP419,9)","v":""},{"$f":"getNumKeta0($DP419,8)","v":""},{"$f":"getNumKeta0($DP419,7)","v":""},{"$f":"getNumKeta0($DP419,6)","v":""},{"$f":"getNumKeta0($DP419,5)","v":""},{"$f":"getNumKeta0($DP419,4)","v":""},{"$f":"getNumKeta0($DP419,3)","v":""},{"$f":"getNumKeta0($DP419,2)","v":""},{"$f":"getNumKeta0($DP419,1)","v":""},"Ａ",{"$f":"IF($DQ419=0,\"\", $DQ419)","v":""},null,null,null,null,null,null,null,null,{"$f":"IF($DP419<>$DQ419,\"*\",\"\")","v":""},null,null,null,null,null,null,null,null,null,null,null,null,null,null,null,null,null,null,null,null,null,null,null,null,"　　小　　　　　　計",null,null,null,null,null,null,null,null,null,null,null,{"$f":"getNumKeta0($DP419,9)","v":""},{"$f":"getNumKeta0($DP419,8)","v":""},{"$f":"getNumKeta0($DP419,7)","v":""},{"$f":"getNumKeta0($DP419,6)","v":""},{"$f":"getNumKeta0($DP419,5)","v":""},{"$f":"getNumKeta0($DP419,4)","v":""},{"$f":"getNumKeta0($DP419,3)","v":""},{"$f":"getNumKeta0($DP419,2)","v":""},{"$f":"getNumKeta0($DP419,1)","v":""},"Ａ",{"$f":"IF($DQ419=0,\"\", $DQ419)","v":""},null,null,null,null,null,null,null,null,{"$f":"IF($DP419<>$DQ419,\"*\",\"\")","v":""},null,null,null,null,null,null,null,null,null,{"$f":"IF($DK418/15=ROUNDUP(MAX($DJ:$DJ)/15,0),VLOOKUP($E$14,基本情報_工事名称マスタ,4,FALSE)+VLOOKUP($E$14,基本情報_工事名称マスタ,5,FALSE),0)","v":0},{"$f":"IF($DK418/15=ROUNDUP(MAX($DJ:$DJ)/15,0),DQ421-DQ420,0)","v":0}]
[null,null,null,null,null,null,null,null,null,null,null,null,null,null,null,null,null,null,null,null,null,null,"　消　費　税",null,null,null,null,null,null,null,{"$f":"基本情報_消費税率","v":0.1},null,null,null,{"$f":"getNumKeta0($DP420,9)","v":""},{"$f":"getNumKeta0($DP420,8)","v":""},{"$f":"getNumKeta0($DP420,7)","v":""},{"$f":"getNumKeta0($DP420,6)","v":""},{"$f":"getNumKeta0($DP420,5)","v":""},{"$f":"getNumKeta0($DP420,4)","v":""},{"$f":"getNumKeta0($DP420,3)","v":""},{"$f":"getNumKeta0($DP420,2)","v":""},{"$f":"getNumKeta0($DP420,1)","v":""},"Ｂ",{"$f":"IF($DQ420=0,\"\", $DQ420)","v":""},null,null,null,null,null,null,null,null,null,null,null,null,null,null,null,null,null,null,null,null,null,null,null,null,null,null,null,null,null,null,null,null,null,"　消　費　税",null,null,null,null,null,null,null,{"$f":"基本情報_消費税率","v":0.1},null,null,null,{"$f":"getNumKeta0($DP420,9)","v":""},{"$f":"getNumKeta0($DP420,8)","v":""},{"$f":"getNumKeta0($DP420,7)","v":""},{"$f":"getNumKeta0($DP420,6)","v":""},{"$f":"getNumKeta0($DP420,5)","v":""},{"$f":"getNumKeta0($DP420,4)","v":""},{"$f":"getNumKeta0($DP420,3)","v":""},{"$f":"getNumKeta0($DP420,2)","v":""},{"$f":"getNumKeta0($DP420,1)","v":""},"Ｂ",{"$f":"IF($DQ420=0,\"\", $DQ420)","v":""},null,null,null,null,null,null,null,null,null,null,null,null,null,null,null,null,null,null,{"$f":"IF($DK418/15=ROUNDUP(MAX($DJ:$DJ)/15,0),VLOOKUP($E$14,基本情報_工事名称マスタ,6,FALSE),0)","v":0},{"$f":"IF($DK418/15=ROUNDUP(MAX($DJ:$DJ)/15,0),ROUND((DQ421-VLOOKUP($E$14,基本情報_工事名称マスタ,5,FALSE))/(基本情報_消費税率*100+100)*(基本情報_消費税率*100),0),0)","v":0}]
[null,null,null,null,null,null,null,null,null,null,null,null,null,null,null,null,null,null,null,null,null,null,"　　合　　　　　　計",null,null,null,null,null,null,null,null,null,null,null,{"$f":"getNumKeta0($DP421,9)","v":""},{"$f":"getNumKeta0($DP421,8)","v":""},{"$f":"getNumKeta0($DP421,7)","v":""},{"$f":"getNumKeta0($DP421,6)","v":""},{"$f":"getNumKeta0($DP421,5)","v":""},{"$f":"getNumKeta0($DP421,4)","v":""},{"$f":"getNumKeta0($DP421,3)","v":""},{"$f":"getNumKeta0($DP421,2)","v":""},{"$f":"getNumKeta0($DP421,1)","v":""},"Ｃ",{"$f":"IF($DQ421=0,\"\", $DQ421)","v":""},null,null,null,null,null,null,null,null,null,null,null,null,null,null,null,null,null,null,null,null,null,null,null,null,null,null,null,null,null,null,null,null,null,"　　合　　　　　　計",null,null,null,null,null,null,null,null,null,null,null,{"$f":"getNumKeta0($DP421,9)","v":""},{"$f":"getNumKeta0($DP421,8)","v":""},{"$f":"getNumKeta0($DP421,7)","v":""},{"$f":"getNumKeta0($DP421,6)","v":""},{"$f":"getNumKeta0($DP421,5)","v":""},{"$f":"getNumKeta0($DP421,4)","v":""},{"$f":"getNumKeta0($DP421,3)","v":""},{"$f":"getNumKeta0($DP421,2)","v":""},{"$f":"getNumKeta0($DP421,1)","v":""},"Ｃ",{"$f":"IF($DQ421=0,\"\", $DQ421)","v":""},null,null,null,null,null,null,null,null,null,null,null,null,null,null,null,null,null,null,{"$f":"IF($DK418/15=ROUNDUP(MAX($DJ:$DJ)/15,0),VLOOKUP($E$14,基本情報_工事名称マスタ,7,FALSE),0)","v":0},{"$f":"DP421","v":0}]
[null,null,null,null,null,null,null,null,null,null,null,null,null,null,null,null,null,null,null,null,null,null,"貴社→請求書(添付)→経理(控)",null,null,null,null,null,null,null,null,null,null,null,null,null,null,null,null,null,null,null,null,null,null,null,null,null,null,null,null,null,null,null,null,null,null,null,null,null,null,null,null,null,null,null,null,null,null,null,null,null,null,null,null,null,null,null,"貴社→請求書(添付)→経理→作業所長(控)"]
[]
[null,null,null,null,null,null,null,null,null,null,null,null,null,null,null,null,null,null,null,null,null,null,null,null,null,null,null,null,null,null,null,null,null,null,null,null,null,null,null,null,null,null,null,null,{"$f":"\"P \" & B465/15 & \"/\" & ROUNDUP(COUNTIF(請求明細_工事場所, E437)/15,0)","v":"P 10/1"},null,null,null,null,null,null,null,null,null,null,null,null,null,null,null,null,null,null,null,null,null,null,null,null,null,null,null,null,null,null,null,null,null,null,null,null,null,null,null,null,null,null,null,null,null,null,null,null,null,null,null,null,null,null,null,{"$f":"\"P \" & BF465/15 & \"/\" & ROUNDUP(COUNTIF(請求明細_工事場所, BI437)/15,0)","v":"P 10/1"}]
[null,null,null,"請求明細書（一般）",null,null,null,null,null,null,null,null,null,null,null,null,null,null,null,null,null,null,null,null,null,"取引先",null,null,{"$f":"基本情報_取引先コード","v":999999},null,null,null,null,null,null,null,null,null,"締\n日",null,null,{"$f":"基本情報_請求締日","v":"2020-07-31"},null,null,null,null,null,null,null,null,null,null,null,null,null,null,null,null,null,"請求明細書（一般）",null,null,null,null,null,null,null,null,null,null,null,null,null,null,null,null,null,null,null,null,null,"取引先",null,null,{"$f":"基本情報_取引先コード","v":999999},null,null,null,null,null,null,null,null,null,"締\n日",null,null,{"$f":"基本情報_請求締日","v":"2020-07-31"}]
[null,null,null,null,null,null,null,null,null,"提出用",null,null,null,null,null,null,null,null,null,null,null,null,null,null,null,null,null,null,null,null,null,null,null,null,null,null,null,null,null,null,null,null,null,null,null,null,null,null,null,null,null,null,null,null,null,null,null,null,null,null,null,null,null,null,null,"提出用"]
[]
[null,null,null,null,null,null,null,null,null,null,null,null,null,null,null,null,null,null,null,null,null,null,null,null,null,"コード",null,null,null,null,null,null,null,null,null,null,null,null,null,null,null,null,null,null,null,null,null,null,null,null,null,null,null,null,null,null,null,null,null,null,null,null,null,null,null,null,null,null,null,null,null,null,null,null,null,null,null,null,null,null,null,"コード"]
[]
[]
[null,"丸高・みなと特定建設工事共同企業体　御中",null,null,null,null,null,null,null,null,null,null,null,null,null,null,null,null,null,null,null,null,null,null,null,"（住所・社名・電話）",null,null,null,null,null,null,null,null,null,null,null,null,null,null,null,null,null,null,null,null,null,null,null,null,null,null,null,null,null,null,null,"丸高・みなと特定建設工事共同企業体　御中",null,null,null,null,null,null,null,null,null,null,null,null,null,null,null,null,null,null,null,null,null,null,null,"（住所・社名・電話）"]
[]
[]
[]
[null,null,null,null,null,null,null,null,null,null,null,null,null,null,null,null,null,null,null,null,null,null,null,null,null,null,null,null,{"$f":"基本情報_住所","v":"酒田市○○○○１－１"},null,null,null,null,null,null,null,null,null,null,null,null,null,null,null,null,null,null,null,null,null,null,null,null,null,null,null,null,null,null,null,null,null,null,null,null,null,null,null,null,null,null,null,null,null,null,null,null,null,null,null,null,null,null,null,{"$f":"基本情報_住所","v":"酒田市○○○○１－１"}]
[]
[null,"工　事　名",null,null,{"$f":"$E$14","v":"×××××工事"},null,null,null,null,null,null,null,null,null,null,"承　　認",null,null,null,null,null,"検　　印",null,null,null,null,null,null,null,null,null,null,null,null,null,null,null,null,null,null,null,null,null,null,null,null,null,null,null,null,null,null,null,null,null,null,null,"工　事　名",null,null,{"$f":"$E$14","v":"×××××工事"},null,null,null,null,null,null,null,null,null,null,"承　　認",null,null,null,null,null,"検　　印"]
[]
[]
[null,null,null,null,null,null,null,null,null,null,null,null,null,null,null,null,null,null,null,null,null,null,null,null,null,null,null,null,{"$f":"基本情報_社名","v":"(株）○○建設"},null,null,null,null,null,null,null,null,null,null,null,null,null,null,null,null,null,null,null,null,null,"印",null,null,null,null,null,null,null,null,null,null,null,null,null,null,null,null,null,null,null,null,null,null,null,null,null,null,null,null,null,null,null,null,null,{"$f":"基本情報_社名","v":"(株）○○建設"},null,null,null,null,null,null,null,null,null,null,null,null,null,null,null,null,null,null,null,null,null,"印"]
[]
[]
[null,"作業所長名",null,null,{"$f":"VLOOKUP(E437,基本情報_工事名称マスタ,3,FALSE)","v":"××次郎"},null,null,null,null,null,null,null,null,null,null,null,null,null,null,null,null,null,null,null,null,null,null,null,null,null,null,null,null,null,null,null,null,null,null,null,null,null,null,null,null,null,null,null,null,null,null,null,null,null,null,null,null,"作業所長名",null,null,{"$f":"VLOOKUP(BI437,基本情報_工事名称マスタ,3,FALSE)","v":"××次郎"}]
[]
[null,null,null,null,null,null,null,null,null,null,null,null,null,null,null,null,null,null,null,null,null,null,null,null,null,null,null,null,{"$f":"基本情報_電話番号","v":"0234 - 00 - 0000"},null,null,null,null,null,null,null,null,null,null,null,null,null,null,null,null,null,null,null,null,null,null,null,null,null,null,null,null,null,null,null,null,null,null,null,null,null,null,null,null,null,null,null,null,null,null,null,null,null,null,null,null,null,null,null,{"$f":"基本情報_電話番号","v":"0234 - 00 - 0000"}]
[]
[]
[]
[]
[null,"通番","納入年月日",null,null,"品　名　・　規　格",null,null,null,"数　　　　量",null,null,null,null,null,null,null,null,null,null,null,"単 位","単　　　　価",null,null,null,null,null,null,null,null,null,null,null,"金　　　額",null,null,null,null,null,null,null,null,"備　考",null,null,null,null,null,null,null,null,null,null,null,null,null,"通番","納入年月日",null,null,"品　名　・　規　格",null,null,null,"数　　　　量",null,null,null,null,null,null,null,null,null,null,null,"単 位","単　　　　価",null,null,null,null,null,null,null,null,null,null,null,"金　　　額",null,null,null,null,null,null,null,null,"備　考",null,null,null,null,null,null,null,null,null,null,null,null,"ヒット","ランク","-","通番","数量","単価","金額"]
[null,{"$f":"B418+1","v":136},{"$f":"IF(ISNA($DL451),\"\",VLOOKUP($DL451,請求明細,3,FALSE))","v":""},null,null,{"$f":"IF(ISNA($DL451),\"\",VLOOKUP($DL451,請求明細,4,FALSE))","v":""},null,null,null,{"$f":"IF(ISNA($DL451),\"\",getNumKeta0($DM451,9))","v":""},{"$f":"IF(ISNA($DL451),\"\",getNumKeta0($DM451,8))","v":""},{"$f":"IF(ISNA($DL451),\"\",getNumKeta0($DM451,7))","v":""},{"$f":"IF(ISNA($DL451),\"\",getNumKeta0($DM451,6))","v":""},{"$f":"IF(ISNA($DL451),\"\",getNumKeta0($DM451,5))","v":""},{"$f":"IF(ISNA($DL451),\"\",getNumKeta0($DM451,4))","v":""},{"$f":"IF(ISNA($DL451),\"\",getNumKeta0($DM451,3))","v":""},{"$f":"IF(ISNA($DL451),\"\",getNumKeta0($DM451,2))","v":""},{"$f":"IF(ISNA($DL451),\"\",getNumKeta0($DM451,1))","v":""},{"$f":"IF(ISNA($DL451),\"\",getNumKeta0($DM451,-1))","v":""},{"$f":"IF(ISNA($DL451),\"\",getNumKeta0($DM451,-2))","v":""},{"$f":"IF(ISNA($DL451),\"\",getNumKeta0($DM451,-3))","v":""},{"$f":"IF(ISNA($DL451),\"\",VLOOKUP($DL451,請求明細,6,FALSE))","v":""},{"$f":"IF(ISNA($DL451),\"\",getNumKeta0($DN451,9))","v":""},{"$f":"IF(ISNA($DL451),\"\",getNumKeta0($DN451,8))","v":""},{"$f":"IF(ISNA($DL451),\"\",getNumKeta0($DN451,7))","v":""},{"$f":"IF(ISNA($DL451),\"\",getNumKeta0($DN451,6))","v":""},{"$f":"IF(ISNA($DL451),\"\",getNumKeta0($DN451,5))","v":""},{"$f":"IF(ISNA($DL451),\"\",getNumKeta0($DN451,4))","v":""},{"$f":"IF(ISNA($DL451),\"\",getNumKeta0($DN451,3))","v":""},{"$f":"IF(ISNA($DL451),\"\",getNumKeta0($DN451,2))","v":""},{"$f":"IF(ISNA($DL451),\"\",getNumKeta0($DN451,1))","v":""},{"$f":"IF(ISNA($DL451),\"\",getNumKeta0($DN451,-1))","v":""},{"$f":"IF(ISNA($DL451),\"\",getNumKeta0($DN451,-2))","v":""},{"$f":"IF(ISNA($DL451),\"\",getNumKeta0($DN451,-3))","v":""},{"$f":"IF(ISNA($DL451),\"\",getNumKeta0($DO451,9))","v":""},{"$f":"IF(ISNA($DL451),\"\",getNumKeta0($DO451,8))","v":""},{"$f":"IF(ISNA($DL451),\"\",getNumKeta0($DO451,7))","v":""},{"$f":"IF(ISNA($DL451),\"\",getNumKeta0($DO451,6))","v":""},{"$f":"IF(ISNA($DL451),\"\",getNumKeta0($DO451,5))","v":""},{"$f":"IF(ISNA($DL451),\"\",getNumKeta0($DO451,4))","v":""},{"$f":"IF(ISNA($DL451),\"\",getNumKeta0($DO451,3))","v":""},{"$f":"IF(ISNA($DL451),\"\",getNumKeta0($DO451,2))","v":""},{"$f":"IF(ISNA($DL451),\"\",getNumKeta0($DO451,1))","v":""},{"$f":"IF(ISNA($DL451),\"\",LEFT(VLOOKUP($DL451,請求明細,10,FALSE),16))","v":""},null,null,null,null,null,null,null,null,null,null,null,null,null,{"$f":"BF418+1","v":136},{"$f":"IF(ISNA($DL451),\"\",VLOOKUP($DL451,請求明細,3,FALSE))","v":""},null,null,{"$f":"IF(ISNA($DL451),\"\",VLOOKUP($DL451,請求明細,4,FALSE))","v":""},null,null,null,{"$f":"IF(ISNA($DL451),\"\",getNumKeta0($DM451,9))","v":""},{"$f":"IF(ISNA($DL451),\"\",getNumKeta0($DM451,8))","v":""},{"$f":"IF(ISNA($DL451),\"\",getNumKeta0($DM451,7))","v":""},{"$f":"IF(ISNA($DL451),\"\",getNumKeta0($DM451,6))","v":""},{"$f":"IF(ISNA($DL451),\"\",getNumKeta0($DM451,5))","v":""},{"$f":"IF(ISNA($DL451),\"\",getNumKeta0($DM451,4))","v":""},{"$f":"IF(ISNA($DL451),\"\",getNumKeta0($DM451,3))","v":""},{"$f":"IF(ISNA($DL451),\"\",getNumKeta0($DM451,2))","v":""},{"$f":"IF(ISNA($DL451),\"\",getNumKeta0($DM451,1))","v":""},{"$f":"IF(ISNA($DL451),\"\",getNumKeta0($DM451,-1))","v":""},{"$f":"IF(ISNA($DL451),\"\",getNumKeta0($DM451,-2))","v":""},{"$f":"IF(ISNA($DL451),\"\",getNumKeta0($DM451,-3))","v":""},{"$f":"IF(ISNA($DL451),\"\",VLOOKUP($DL451,請求明細,6,FALSE))","v":""},{"$f":"IF(ISNA($DL451),\"\",getNumKeta0($DN451,9))","v":""},{"$f":"IF(ISNA($DL451),\"\",getNumKeta0($DN451,8))","v":""},{"$f":"IF(ISNA($DL451),\"\",getNumKeta0($DN451,7))","v":""},{"$f":"IF(ISNA($DL451),\"\",getNumKeta0($DN451,6))","v":""},{"$f":"IF(ISNA($DL451),\"\",getNumKeta0($DN451,5))","v":""},{"$f":"IF(ISNA($DL451),\"\",getNumKeta0($DN451,4))","v":""},{"$f":"IF(ISNA($DL451),\"\",getNumKeta0($DN451,3))","v":""},{"$f":"IF(ISNA($DL451),\"\",getNumKeta0($DN451,2))","v":""},{"$f":"IF(ISNA($DL451),\"\",getNumKeta0($DN451,1))","v":""},{"$f":"IF(ISNA($DL451),\"\",getNumKeta0($DN451,-1))","v":""},{"$f":"IF(ISNA($DL451),\"\",getNumKeta0($DN451,-2))","v":""},{"$f":"IF(ISNA($DL451),\"\",getNumKeta0($DN451,-3))","v":""},{"$f":"IF(ISNA($DL451),\"\",getNumKeta0($DO451,9))","v":""},{"$f":"IF(ISNA($DL451),\"\",getNumKeta0($DO451,8))","v":""},{"$f":"IF(ISNA($DL451),\"\",getNumKeta0($DO451,7))","v":""},{"$f":"IF(ISNA($DL451),\"\",getNumKeta0($DO451,6))","v":""},{"$f":"IF(ISNA($DL451),\"\",getNumKeta0($DO451,5))","v":""},{"$f":"IF(ISNA($DL451),\"\",getNumKeta0($DO451,4))","v":""},{"$f":"IF(ISNA($DL451),\"\",getNumKeta0($DO451,3))","v":""},{"$f":"IF(ISNA($DL451),\"\",getNumKeta0($DO451,2))","v":""},{"$f":"IF(ISNA($DL451),\"\",getNumKeta0($DO451,1))","v":""},{"$f":"IF(ISNA($DL451),\"\",LEFT(VLOOKUP($DL451,請求明細,10,FALSE),16))","v":""},null,null,null,null,null,null,null,null,null,null,null,null,{"$f":"IF($E$14=OFFSET(明細情報!$B$5, $DK451-1,0),1,0)","v":0},{"$f":"IF($DI451=0, 0, SUM($DI$28:$DI451))","v":0},{"$f":"DK418+1","v":136},{"$f":"VLOOKUP(B451,$DJ$28:$DK$65536,2,FALSE)","v":{"$error":"#N/A"}},{"$f":"IF(ISNA($DL451),0,VLOOKUP($DL451,請求明細,5,FALSE))","v":0},{"$f":"IF(ISNA($DL451),0,VLOOKUP($DL451,請求明細,7,FALSE))","v":0},{"$f":"IF(ISNA($DL451),0,VLOOKUP($DL451,請求明細,9,FALSE))","v":0}]
[null,{"$f":"B451+1","v":137},"",null,null,"",null,null,null,"","","","","","","","","","","","","","","","","","","","","","","","","","","","","","","","","","","",null,null,null,null,null,null,null,null,null,null,null,null,null,{"$f":"BF451+1","v":137},"",null,null,"",null,null,null,"","","","","","","","","","","","","","","","","","","","","","","","","","","","","","","","","","","",null,null,null,null,null,null,null,null,null,null,null,null,{"$f":"IF($E$14=OFFSET(明細情報!$B$5, $DK452-1,0),1,0)","v":0},{"$f":"IF($DI452=0, 0, SUM($DI$28:$DI452))","v":0},{"$f":"DK451+1","v":137},{"$error":"#N/A"},0,0,0]
[null,138,"",null,null,"",null,null,null,"","","","","","","","","","","","","","","","","","","","","","","","","","","","","","","","","","","",null,null,null,null,null,null,null,null,null,null,null,null,null,138,"",null,null,"",null,null,null,"","","","","","","","","","","","","","","","","","","","","","","","","","","","","","","","","","","",null,null,null,null,null,null,null,null,null,null,null,null,{"$f":"IF($E$14=OFFSET(明細情報!$B$5, $DK453-1,0),1,0)","v":0},{"$f":"IF($DI453=0, 0, SUM($DI$28:$DI453))","v":0},138,{"$error":"#N/A"},0,0,0]
[null,139,"",null,null,"",null,null,null,"","","","","","","","","","","","","","","","","","","","","","","","","","","","","","","","","","","",null,null,null,null,null,null,null,null,null,null,null,null,null,139,"",null,null,"",null,null,null,"","","","","","","","","","","","","","","","","","","","","","","","","","","","","","","","","","","",null,null,null,null,null,null,null,null,null,null,null,null,{"$f":"IF($E$14=OFFSET(明細情報!$B$5, $DK454-1,0),1,0)","v":0},{"$f":"IF($DI454=0, 0, SUM($DI$28:$DI454))","v":0},139,{"$error":"#N/A"},0,0,0]
[null,140,"",null,null,"",null,null,null,"","","","","","","","","","","","","","","","","","","","","","","","","","","","","","","","","","","",null,null,null,null,null,null,null,null,null,null,null,null,null,140,"",null,null,"",null,null,null,"","","","","","","","","","","","","","","","","","","","","","","","","","","","","","","","","","","",null,null,null,null,null,null,null,null,null,null,null,null,{"$f":"IF($E$14=OFFSET(明細情報!$B$5, $DK455-1,0),1,0)","v":0},{"$f":"IF($DI455=0, 0, SUM($DI$28:$DI455))","v":0},140,{"$error":"#N/A"},0,0,0]
[null,141,"",null,null,"",null,null,null,"","","","","","","","","","","","","","","","","","","","","","","","","","","","","","","","","","","",null,null,null,null,null,null,null,null,null,null,null,null,null,141,"",null,null,"",null,null,null,"","","","","","","","","","","","","","","","","","","","","","","","","","","","","","","","","","","",null,null,null,null,null,null,null,null,null,null,null,null,{"$f":"IF($E$14=OFFSET(明細情報!$B$5, $DK456-1,0),1,0)","v":0},{"$f":"IF($DI456=0, 0, SUM($DI$28:$DI456))","v":0},141,{"$error":"#N/A"},0,0,0]
[null,142,"",null,null,"",null,null,null,"","","","","","","","","","","","","","","","","","","","","","","","","","","","","","","","","","","",null,null,null,null,null,null,null,null,null,null,null,null,null,142,"",null,null,"",null,null,null,"","","","","","","","","","","","","","","","","","","","","","","","","","","","","","","","","","","",null,null,null,null,null,null,null,null,null,null,null,null,{"$f":"IF($E$14=OFFSET(明細情報!$B$5, $DK457-1,0),1,0)","v":0},{"$f":"IF($DI457=0, 0, SUM($DI$28:$DI457))","v":0},142,{"$error":"#N/A"},0,0,0]
[null,143,"",null,null,"",null,null,null,"","","","","","","","","","","","","","","","","","","","","","","","","","","","","","","","","","","",null,null,null,null,null,null,null,null,null,null,null,null,null,143,"",null,null,"",null,null,null,"","","","","","","","","","","","","","","","","","","","","","","","","","","","","","","","","","","",null,null,null,null,null,null,null,null,null,null,null,null,{"$f":"IF($E$14=OFFSET(明細情報!$B$5, $DK458-1,0),1,0)","v":0},{"$f":"IF($DI458=0, 0, SUM($DI$28:$DI458))","v":0},143,{"$error":"#N/A"},0,0,0]
[null,144,"",null,null,"",null,null,null,"","","","","","","","","","","","","","","","","","","","","","","","","","","","","","","","","","","",null,null,null,null,null,null,null,null,null,null,null,null,null,144,"",null,null,"",null,null,null,"","","","","","","","","","","","","","","","","","","","","","","","","","","","","","","","","","","",null,null,null,null,null,null,null,null,null,null,null,null,{"$f":"IF($E$14=OFFSET(明細情報!$B$5, $DK459-1,0),1,0)","v":0},{"$f":"IF($DI459=0, 0, SUM($DI$28:$DI459))","v":0},144,{"$error":"#N/A"},0,0,0]
[null,145,"",null,null,"",null,null,null,"","","","","","","","","","","","","","","","","","","","","","","","","","","","","","","","","","","",null,null,null,null,null,null,null,null,null,null,null,null,null,145,"",null,null,"",null,null,null,"","","","","","","","","","","","","","","","","","","","","","","","","","","","","","","","","","","",null,null,null,null,null,null,null,null,null,null,null,null,{"$f":"IF($E$14=OFFSET(明細情報!$B$5, $DK460-1,0),1,0)","v":0},{"$f":"IF($DI460=0, 0, SUM($DI$28:$DI460))","v":0},145,{"$error":"#N/A"},0,0,0]
[null,146,"",null,null,"",null,null,null,"","","","","","","","","","","","","","","","","","","","","","","","","","","","","","","","","","","",null,null,null,null,null,null,null,null,null,null,null,null,null,146,"",null,null,"",null,null,null,"","","","","","","","","","","","","","","","","","","","","","","","","","","","","","","","","","","",null,null,null,null,null,null,null,null,null,null,null,null,{"$f":"IF($E$14=OFFSET(明細情報!$B$5, $DK461-1,0),1,0)","v":0},{"$f":"IF($DI461=0, 0, SUM($DI$28:$DI461))","v":0},146,{"$error":"#N/A"},0,0,0]
[null,147,"",null,null,"",null,null,null,"","","","","","","","","","","","","","","","","","","","","","","","","","","","","","","","","","","",null,null,null,null,null,null,null,null,null,null,null,null,null,147,"",null,null,"",null,null,null,"","","","","","","","","","","","","","","","","","","","","","","","","","","","","","","","","","","",null,null,null,null,null,null,null,null,null,null,null,null,{"$f":"IF($E$14=OFFSET(明細情報!$B$5, $DK462-1,0),1,0)","v":0},{"$f":"IF($DI462=0, 0, SUM($DI$28:$DI462))","v":0},147,{"$error":"#N/A"},0,0,0]
[null,148,"",null,null,"",null,null,null,"","","","","","","","","","","","","","","","","","","","","","","","","","","","","","","","","","","",null,null,null,null,null,null,null,null,null,null,null,null,null,148,"",null,null,"",null,null,null,"","","","","","","","","","","","","","","","","","","","","","","","","","","","","","","","","","","",null,null,null,null,null,null,null,null,null,null,null,null,{"$f":"IF($E$14=OFFSET(明細情報!$B$5, $DK463-1,0),1,0)","v":0},{"$f":"IF($DI463=0, 0, SUM($DI$28:$DI463))","v":0},148,{"$error":"#N/A"},0,0,0]
[null,149,"",null,null,"",null,null,null,"","","","","","","","","","","","","","","","","","","","","","","","","","","","","","","","","","","",null,null,null,null,null,null,null,null,null,null,null,null,null,149,"",null,null,"",null,null,null,"","","","","","","","","","","","","","","","","","","","","","","","","","","","","","","","","","","",null,null,null,null,null,null,null,null,null,null,null,null,{"$f":"IF($E$14=OFFSET(明細情報!$B$5, $DK464-1,0),1,0)","v":0},{"$f":"IF($DI464=0, 0, SUM($DI$28:$DI464))","v":0},149,{"$error":"#N/A"},0,0,0]
[null,150,"",null,null,"",null,null,null,"","","","","","","","","","","","","","","","","","","","","","","","","","","","","","","","","","","",null,null,null,null,null,null,null,null,null,null,null,null,null,150,"",null,null,"",null,null,null,"","","","","","","","","","","","","","","","","","","","","","","","","","","","","","","","","","","",null,null,null,null,null,null,null,null,null,null,null,null,{"$f":"IF($E$14=OFFSET(明細情報!$B$5, $DK465-1,0),1,0)","v":0},{"$f":"IF($DI465=0, 0, SUM($DI$28:$DI465))","v":0},150,{"$error":"#N/A"},0,0,0]
[null,null,null,null,null,null,null,null,null,null,null,null,null,null,null,null,null,null,null,null,null,null,"　　小　　　　　　計",null,null,null,null,null,null,null,null,null,null,null,{"$f":"getNumKeta0($DP466,9)","v":""},{"$f":"getNumKeta0($DP466,8)","v":""},{"$f":"getNumKeta0($DP466,7)","v":""},{"$f":"getNumKeta0($DP466,6)","v":""},{"$f":"getNumKeta0($DP466,5)","v":""},{"$f":"getNumKeta0($DP466,4)","v":""},{"$f":"getNumKeta0($DP466,3)","v":""},{"$f":"getNumKeta0($DP466,2)","v":""},{"$f":"getNumKeta0($DP466,1)","v":""},"Ａ",{"$f":"IF($DQ466=0,\"\", $DQ466)","v":""},null,null,null,null,null,null,null,null,{"$f":"IF($DP466<>$DQ466,\"*\",\"\")","v":""},null,null,null,null,null,null,null,null,null,null,null,null,null,null,null,null,null,null,null,null,null,null,null,null,"　　小　　　　　　計",null,null,null,null,null,null,null,null,null,null,null,{"$f":"getNumKeta0($DP466,9)","v":""},{"$f":"getNumKeta0($DP466,8)","v":""},{"$f":"getNumKeta0($DP466,7)","v":""},{"$f":"getNumKeta0($DP466,6)","v":""},{"$f":"getNumKeta0($DP466,5)","v":""},{"$f":"getNumKeta0($DP466,4)","v":""},{"$f":"getNumKeta0($DP466,3)","v":""},{"$f":"getNumKeta0($DP466,2)","v":""},{"$f":"getNumKeta0($DP466,1)","v":""},"Ａ",{"$f":"IF($DQ466=0,\"\", $DQ466)","v":""},null,null,null,null,null,null,null,null,{"$f":"IF($DP466<>$DQ466,\"*\",\"\")","v":""},null,null,null,null,null,null,null,null,null,{"$f":"IF($DK465/15=ROUNDUP(MAX($DJ:$DJ)/15,0),VLOOKUP($E$14,基本情報_工事名称マスタ,4,FALSE)+VLOOKUP($E$14,基本情報_工事名称マスタ,5,FALSE),0)","v":0},{"$f":"IF($DK465/15=ROUNDUP(MAX($DJ:$DJ)/15,0),DQ468-DQ467,0)","v":0}]
[null,null,null,null,null,null,null,null,null,null,null,null,null,null,null,null,null,null,null,null,null,null,"　消　費　税",null,null,null,null,null,null,null,{"$f":"基本情報_消費税率","v":0.1},null,null,null,{"$f":"getNumKeta0($DP467,9)","v":""},{"$f":"getNumKeta0($DP467,8)","v":""},{"$f":"getNumKeta0($DP467,7)","v":""},{"$f":"getNumKeta0($DP467,6)","v":""},{"$f":"getNumKeta0($DP467,5)","v":""},{"$f":"getNumKeta0($DP467,4)","v":""},{"$f":"getNumKeta0($DP467,3)","v":""},{"$f":"getNumKeta0($DP467,2)","v":""},{"$f":"getNumKeta0($DP467,1)","v":""},"Ｂ",{"$f":"IF($DQ467=0,\"\", $DQ467)","v":""},null,null,null,null,null,null,null,null,null,null,null,null,null,null,null,null,null,null,null,null,null,null,null,null,null,null,null,null,null,null,null,null,null,"　消　費　税",null,null,null,null,null,null,null,{"$f":"基本情報_消費税率","v":0.1},null,null,null,{"$f":"getNumKeta0($DP467,9)","v":""},{"$f":"getNumKeta0($DP467,8)","v":""},{"$f":"getNumKeta0($DP467,7)","v":""},{"$f":"getNumKeta0($DP467,6)","v":""},{"$f":"getNumKeta0($DP467,5)","v":""},{"$f":"getNumKeta0($DP467,4)","v":""},{"$f":"getNumKeta0($DP467,3)","v":""},{"$f":"getNumKeta0($DP467,2)","v":""},{"$f":"getNumKeta0($DP467,1)","v":""},"Ｂ",{"$f":"IF($DQ467=0,\"\", $DQ467)","v":""},null,null,null,null,null,null,null,null,null,null,null,null,null,null,null,null,null,null,{"$f":"IF($DK465/15=ROUNDUP(MAX($DJ:$DJ)/15,0),VLOOKUP($E$14,基本情報_工事名称マスタ,6,FALSE),0)","v":0},{"$f":"IF($DK465/15=ROUNDUP(MAX($DJ:$DJ)/15,0),ROUND((DQ468-VLOOKUP($E$14,基本情報_工事名称マスタ,5,FALSE))/(基本情報_消費税率*100+100)*(基本情報_消費税率*100),0),0)","v":0}]
[null,null,null,null,null,null,null,null,null,null,null,null,null,null,null,null,null,null,null,null,null,null,"　　合　　　　　　計",null,null,null,null,null,null,null,null,null,null,null,{"$f":"getNumKeta0($DP468,9)","v":""},{"$f":"getNumKeta0($DP468,8)","v":""},{"$f":"getNumKeta0($DP468,7)","v":""},{"$f":"getNumKeta0($DP468,6)","v":""},{"$f":"getNumKeta0($DP468,5)","v":""},{"$f":"getNumKeta0($DP468,4)","v":""},{"$f":"getNumKeta0($DP468,3)","v":""},{"$f":"getNumKeta0($DP468,2)","v":""},{"$f":"getNumKeta0($DP468,1)","v":""},"Ｃ",{"$f":"IF($DQ468=0,\"\", $DQ468)","v":""},null,null,null,null,null,null,null,null,null,null,null,null,null,null,null,null,null,null,null,null,null,null,null,null,null,null,null,null,null,null,null,null,null,"　　合　　　　　　計",null,null,null,null,null,null,null,null,null,null,null,{"$f":"getNumKeta0($DP468,9)","v":""},{"$f":"getNumKeta0($DP468,8)","v":""},{"$f":"getNumKeta0($DP468,7)","v":""},{"$f":"getNumKeta0($DP468,6)","v":""},{"$f":"getNumKeta0($DP468,5)","v":""},{"$f":"getNumKeta0($DP468,4)","v":""},{"$f":"getNumKeta0($DP468,3)","v":""},{"$f":"getNumKeta0($DP468,2)","v":""},{"$f":"getNumKeta0($DP468,1)","v":""},"Ｃ",{"$f":"IF($DQ468=0,\"\", $DQ468)","v":""},null,null,null,null,null,null,null,null,null,null,null,null,null,null,null,null,null,null,{"$f":"IF($DK465/15=ROUNDUP(MAX($DJ:$DJ)/15,0),VLOOKUP($E$14,基本情報_工事名称マスタ,7,FALSE),0)","v":0},{"$f":"DP468","v":0}]
[null,null,null,null,null,null,null,null,null,null,null,null,null,null,null,null,null,null,null,null,null,null,"貴社→請求書(添付)→経理(控)",null,null,null,null,null,null,null,null,null,null,null,null,null,null,null,null,null,null,null,null,null,null,null,null,null,null,null,null,null,null,null,null,null,null,null,null,null,null,null,null,null,null,null,null,null,null,null,null,null,null,null,null,null,null,null,"貴社→請求書(添付)→経理→作業所長(控)"]
[]
[null,null,null,null,null,null,null,null,null,null,null,null,null,null,null,null,null,null,null,null,null,null,null,null,null,null,null,null,null,null,null,null,null,null,null,null,null,null,null,null,null,null,null,null,{"$f":"\"P \" & B512/15 & \"/\" & ROUNDUP(COUNTIF(請求明細_工事場所, E484)/15,0)","v":"P 11/1"},null,null,null,null,null,null,null,null,null,null,null,null,null,null,null,null,null,null,null,null,null,null,null,null,null,null,null,null,null,null,null,null,null,null,null,null,null,null,null,null,null,null,null,null,null,null,null,null,null,null,null,null,null,null,null,{"$f":"\"P \" & BF512/15 & \"/\" & ROUNDUP(COUNTIF(請求明細_工事場所, BI484)/15,0)","v":"P 11/1"}]
[null,null,null,"請求明細書（一般）",null,null,null,null,null,null,null,null,null,null,null,null,null,null,null,null,null,null,null,null,null,"取引先",null,null,{"$f":"基本情報_取引先コード","v":999999},null,null,null,null,null,null,null,null,null,"締\n日",null,null,{"$f":"基本情報_請求締日","v":"2020-07-31"},null,null,null,null,null,null,null,null,null,null,null,null,null,null,null,null,null,"請求明細書（一般）",null,null,null,null,null,null,null,null,null,null,null,null,null,null,null,null,null,null,null,null,null,"取引先",null,null,{"$f":"基本情報_取引先コード","v":999999},null,null,null,null,null,null,null,null,null,"締\n日",null,null,{"$f":"基本情報_請求締日","v":"2020-07-31"}]
[null,null,null,null,null,null,null,null,null,"提出用",null,null,null,null,null,null,null,null,null,null,null,null,null,null,null,null,null,null,null,null,null,null,null,null,null,null,null,null,null,null,null,null,null,null,null,null,null,null,null,null,null,null,null,null,null,null,null,null,null,null,null,null,null,null,null,"提出用"]
[]
[null,null,null,null,null,null,null,null,null,null,null,null,null,null,null,null,null,null,null,null,null,null,null,null,null,"コード",null,null,null,null,null,null,null,null,null,null,null,null,null,null,null,null,null,null,null,null,null,null,null,null,null,null,null,null,null,null,null,null,null,null,null,null,null,null,null,null,null,null,null,null,null,null,null,null,null,null,null,null,null,null,null,"コード"]
[]
[]
[null,"丸高・みなと特定建設工事共同企業体　御中",null,null,null,null,null,null,null,null,null,null,null,null,null,null,null,null,null,null,null,null,null,null,null,"（住所・社名・電話）",null,null,null,null,null,null,null,null,null,null,null,null,null,null,null,null,null,null,null,null,null,null,null,null,null,null,null,null,null,null,null,"丸高・みなと特定建設工事共同企業体　御中",null,null,null,null,null,null,null,null,null,null,null,null,null,null,null,null,null,null,null,null,null,null,null,"（住所・社名・電話）"]
[]
[]
[]
[null,null,null,null,null,null,null,null,null,null,null,null,null,null,null,null,null,null,null,null,null,null,null,null,null,null,null,null,{"$f":"基本情報_住所","v":"酒田市○○○○１－１"},null,null,null,null,null,null,null,null,null,null,null,null,null,null,null,null,null,null,null,null,null,null,null,null,null,null,null,null,null,null,null,null,null,null,null,null,null,null,null,null,null,null,null,null,null,null,null,null,null,null,null,null,null,null,null,{"$f":"基本情報_住所","v":"酒田市○○○○１－１"}]
[]
[null,"工　事　名",null,null,{"$f":"$E$14","v":"×××××工事"},null,null,null,null,null,null,null,null,null,null,"承　　認",null,null,null,null,null,"検　　印",null,null,null,null,null,null,null,null,null,null,null,null,null,null,null,null,null,null,null,null,null,null,null,null,null,null,null,null,null,null,null,null,null,null,null,"工　事　名",null,null,{"$f":"$E$14","v":"×××××工事"},null,null,null,null,null,null,null,null,null,null,"承　　認",null,null,null,null,null,"検　　印"]
[]
[]
[null,null,null,null,null,null,null,null,null,null,null,null,null,null,null,null,null,null,null,null,null,null,null,null,null,null,null,null,{"$f":"基本情報_社名","v":"(株）○○建設"},null,null,null,null,null,null,null,null,null,null,null,null,null,null,null,null,null,null,null,null,null,"印",null,null,null,null,null,null,null,null,null,null,null,null,null,null,null,null,null,null,null,null,null,null,null,null,null,null,null,null,null,null,null,null,null,{"$f":"基本情報_社名","v":"(株）○○建設"},null,null,null,null,null,null,null,null,null,null,null,null,null,null,null,null,null,null,null,null,null,"印"]
[]
[]
[null,"作業所長名",null,null,{"$f":"VLOOKUP(E484,基本情報_工事名称マスタ,3,FALSE)","v":"××次郎"},null,null,null,null,null,null,null,null,null,null,null,null,null,null,null,null,null,null,null,null,null,null,null,null,null,null,null,null,null,null,null,null,null,null,null,null,null,null,null,null,null,null,null,null,null,null,null,null,null,null,null,null,"作業所長名",null,null,{"$f":"VLOOKUP(BI484,基本情報_工事名称マスタ,3,FALSE)","v":"××次郎"}]
[]
[null,null,null,null,null,null,null,null,null,null,null,null,null,null,null,null,null,null,null,null,null,null,null,null,null,null,null,null,{"$f":"基本情報_電話番号","v":"0234 - 00 - 0000"},null,null,null,null,null,null,null,null,null,null,null,null,null,null,null,null,null,null,null,null,null,null,null,null,null,null,null,null,null,null,null,null,null,null,null,null,null,null,null,null,null,null,null,null,null,null,null,null,null,null,null,null,null,null,null,{"$f":"基本情報_電話番号","v":"0234 - 00 - 0000"}]
[]
[]
[]
[]
[null,"通番","納入年月日",null,null,"品　名　・　規　格",null,null,null,"数　　　　量",null,null,null,null,null,null,null,null,null,null,null,"単 位","単　　　　価",null,null,null,null,null,null,null,null,null,null,null,"金　　　額",null,null,null,null,null,null,null,null,"備　考",null,null,null,null,null,null,null,null,null,null,null,null,null,"通番","納入年月日",null,null,"品　名　・　規　格",null,null,null,"数　　　　量",null,null,null,null,null,null,null,null,null,null,null,"単 位","単　　　　価",null,null,null,null,null,null,null,null,null,null,null,"金　　　額",null,null,null,null,null,null,null,null,"備　考",null,null,null,null,null,null,null,null,null,null,null,null,"ヒット","ランク","-","通番","数量","単価","金額"]
[null,{"$f":"B465+1","v":151},{"$f":"IF(ISNA($DL498),\"\",VLOOKUP($DL498,請求明細,3,FALSE))","v":""},null,null,{"$f":"IF(ISNA($DL498),\"\",VLOOKUP($DL498,請求明細,4,FALSE))","v":""},null,null,null,{"$f":"IF(ISNA($DL498),\"\",getNumKeta0($DM498,9))","v":""},{"$f":"IF(ISNA($DL498),\"\",getNumKeta0($DM498,8))","v":""},{"$f":"IF(ISNA($DL498),\"\",getNumKeta0($DM498,7))","v":""},{"$f":"IF(ISNA($DL498),\"\",getNumKeta0($DM498,6))","v":""},{"$f":"IF(ISNA($DL498),\"\",getNumKeta0($DM498,5))","v":""},{"$f":"IF(ISNA($DL498),\"\",getNumKeta0($DM498,4))","v":""},{"$f":"IF(ISNA($DL498),\"\",getNumKeta0($DM498,3))","v":""},{"$f":"IF(ISNA($DL498),\"\",getNumKeta0($DM498,2))","v":""},{"$f":"IF(ISNA($DL498),\"\",getNumKeta0($DM498,1))","v":""},{"$f":"IF(ISNA($DL498),\"\",getNumKeta0($DM498,-1))","v":""},{"$f":"IF(ISNA($DL498),\"\",getNumKeta0($DM498,-2))","v":""},{"$f":"IF(ISNA($DL498),\"\",getNumKeta0($DM498,-3))","v":""},{"$f":"IF(ISNA($DL498),\"\",VLOOKUP($DL498,請求明細,6,FALSE))","v":""},{"$f":"IF(ISNA($DL498),\"\",getNumKeta0($DN498,9))","v":""},{"$f":"IF(ISNA($DL498),\"\",getNumKeta0($DN498,8))","v":""},{"$f":"IF(ISNA($DL498),\"\",getNumKeta0($DN498,7))","v":""},{"$f":"IF(ISNA($DL498),\"\",getNumKeta0($DN498,6))","v":""},{"$f":"IF(ISNA($DL498),\"\",getNumKeta0($DN498,5))","v":""},{"$f":"IF(ISNA($DL498),\"\",getNumKeta0($DN498,4))","v":""},{"$f":"IF(ISNA($DL498),\"\",getNumKeta0($DN498,3))","v":""},{"$f":"IF(ISNA($DL498),\"\",getNumKeta0($DN498,2))","v":""},{"$f":"IF(ISNA($DL498),\"\",getNumKeta0($DN498,1))","v":""},{"$f":"IF(ISNA($DL498),\"\",getNumKeta0($DN498,-1))","v":""},{"$f":"IF(ISNA($DL498),\"\",getNumKeta0($DN498,-2))","v":""},{"$f":"IF(ISNA($DL498),\"\",getNumKeta0($DN498,-3))","v":""},{"$f":"IF(ISNA($DL498),\"\",getNumKeta0($DO498,9))","v":""},{"$f":"IF(ISNA($DL498),\"\",getNumKeta0($DO498,8))","v":""},{"$f":"IF(ISNA($DL498),\"\",getNumKeta0($DO498,7))","v":""},{"$f":"IF(ISNA($DL498),\"\",getNumKeta0($DO498,6))","v":""},{"$f":"IF(ISNA($DL498),\"\",getNumKeta0($DO498,5))","v":""},{"$f":"IF(ISNA($DL498),\"\",getNumKeta0($DO498,4))","v":""},{"$f":"IF(ISNA($DL498),\"\",getNumKeta0($DO498,3))","v":""},{"$f":"IF(ISNA($DL498),\"\",getNumKeta0($DO498,2))","v":""},{"$f":"IF(ISNA($DL498),\"\",getNumKeta0($DO498,1))","v":""},{"$f":"IF(ISNA($DL498),\"\",LEFT(VLOOKUP($DL498,請求明細,10,FALSE),16))","v":""},null,null,null,null,null,null,null,null,null,null,null,null,null,{"$f":"BF465+1","v":151},{"$f":"IF(ISNA($DL498),\"\",VLOOKUP($DL498,請求明細,3,FALSE))","v":""},null,null,{"$f":"IF(ISNA($DL498),\"\",VLOOKUP($DL498,請求明細,4,FALSE))","v":""},null,null,null,{"$f":"IF(ISNA($DL498),\"\",getNumKeta0($DM498,9))","v":""},{"$f":"IF(ISNA($DL498),\"\",getNumKeta0($DM498,8))","v":""},{"$f":"IF(ISNA($DL498),\"\",getNumKeta0($DM498,7))","v":""},{"$f":"IF(ISNA($DL498),\"\",getNumKeta0($DM498,6))","v":""},{"$f":"IF(ISNA($DL498),\"\",getNumKeta0($DM498,5))","v":""},{"$f":"IF(ISNA($DL498),\"\",getNumKeta0($DM498,4))","v":""},{"$f":"IF(ISNA($DL498),\"\",getNumKeta0($DM498,3))","v":""},{"$f":"IF(ISNA($DL498),\"\",getNumKeta0($DM498,2))","v":""},{"$f":"IF(ISNA($DL498),\"\",getNumKeta0($DM498,1))","v":""},{"$f":"IF(ISNA($DL498),\"\",getNumKeta0($DM498,-1))","v":""},{"$f":"IF(ISNA($DL498),\"\",getNumKeta0($DM498,-2))","v":""},{"$f":"IF(ISNA($DL498),\"\",getNumKeta0($DM498,-3))","v":""},{"$f":"IF(ISNA($DL498),\"\",VLOOKUP($DL498,請求明細,6,FALSE))","v":""},{"$f":"IF(ISNA($DL498),\"\",getNumKeta0($DN498,9))","v":""},{"$f":"IF(ISNA($DL498),\"\",getNumKeta0($DN498,8))","v":""},{"$f":"IF(ISNA($DL498),\"\",getNumKeta0($DN498,7))","v":""},{"$f":"IF(ISNA($DL498),\"\",getNumKeta0($DN498,6))","v":""},{"$f":"IF(ISNA($DL498),\"\",getNumKeta0($DN498,5))","v":""},{"$f":"IF(ISNA($DL498),\"\",getNumKeta0($DN498,4))","v":""},{"$f":"IF(ISNA($DL498),\"\",getNumKeta0($DN498,3))","v":""},{"$f":"IF(ISNA($DL498),\"\",getNumKeta0($DN498,2))","v":""},{"$f":"IF(ISNA($DL498),\"\",getNumKeta0($DN498,1))","v":""},{"$f":"IF(ISNA($DL498),\"\",getNumKeta0($DN498,-1))","v":""},{"$f":"IF(ISNA($DL498),\"\",getNumKeta0($DN498,-2))","v":""},{"$f":"IF(ISNA($DL498),\"\",getNumKeta0($DN498,-3))","v":""},{"$f":"IF(ISNA($DL498),\"\",getNumKeta0($DO498,9))","v":""},{"$f":"IF(ISNA($DL498),\"\",getNumKeta0($DO498,8))","v":""},{"$f":"IF(ISNA($DL498),\"\",getNumKeta0($DO498,7))","v":""},{"$f":"IF(ISNA($DL498),\"\",getNumKeta0($DO498,6))","v":""},{"$f":"IF(ISNA($DL498),\"\",getNumKeta0($DO498,5))","v":""},{"$f":"IF(ISNA($DL498),\"\",getNumKeta0($DO498,4))","v":""},{"$f":"IF(ISNA($DL498),\"\",getNumKeta0($DO498,3))","v":""},{"$f":"IF(ISNA($DL498),\"\",getNumKeta0($DO498,2))","v":""},{"$f":"IF(ISNA($DL498),\"\",getNumKeta0($DO498,1))","v":""},{"$f":"IF(ISNA($DL498),\"\",LEFT(VLOOKUP($DL498,請求明細,10,FALSE),16))","v":""},null,null,null,null,null,null,null,null,null,null,null,null,{"$f":"IF($E$14=OFFSET(明細情報!$B$5, $DK498-1,0),1,0)","v":0},{"$f":"IF($DI498=0, 0, SUM($DI$28:$DI498))","v":0},{"$f":"DK465+1","v":151},{"$f":"VLOOKUP(B498,$DJ$28:$DK$65536,2,FALSE)","v":{"$error":"#N/A"}},{"$f":"IF(ISNA($DL498),0,VLOOKUP($DL498,請求明細,5,FALSE))","v":0},{"$f":"IF(ISNA($DL498),0,VLOOKUP($DL498,請求明細,7,FALSE))","v":0},{"$f":"IF(ISNA($DL498),0,VLOOKUP($DL498,請求明細,9,FALSE))","v":0}]
[null,{"$f":"B498+1","v":152},"",null,null,"",null,null,null,"","","","","","","","","","","","","","","","","","","","","","","","","","","","","","","","","","","",null,null,null,null,null,null,null,null,null,null,null,null,null,{"$f":"BF498+1","v":152},"",null,null,"",null,null,null,"","","","","","","","","","","","","","","","","","","","","","","","","","","","","","","","","","","",null,null,null,null,null,null,null,null,null,null,null,null,{"$f":"IF($E$14=OFFSET(明細情報!$B$5, $DK499-1,0),1,0)","v":0},{"$f":"IF($DI499=0, 0, SUM($DI$28:$DI499))","v":0},{"$f":"DK498+1","v":152},{"$error":"#N/A"},0,0,0]
[null,153,"",null,null,"",null,null,null,"","","","","","","","","","","","","","","","","","","","","","","","","","","","","","","","","","","",null,null,null,null,null,null,null,null,null,null,null,null,null,153,"",null,null,"",null,null,null,"","","","","","","","","","","","","","","","","","","","","","","","","","","","","","","","","","","",null,null,null,null,null,null,null,null,null,null,null,null,{"$f":"IF($E$14=OFFSET(明細情報!$B$5, $DK500-1,0),1,0)","v":0},{"$f":"IF($DI500=0, 0, SUM($DI$28:$DI500))","v":0},153,{"$error":"#N/A"},0,0,0]
[null,154,"",null,null,"",null,null,null,"","","","","","","","","","","","","","","","","","","","","","","","","","","","","","","","","","","",null,null,null,null,null,null,null,null,null,null,null,null,null,154,"",null,null,"",null,null,null,"","","","","","","","","","","","","","","","","","","","","","","","","","","","","","","","","","","",null,null,null,null,null,null,null,null,null,null,null,null,{"$f":"IF($E$14=OFFSET(明細情報!$B$5, $DK501-1,0),1,0)","v":0},{"$f":"IF($DI501=0, 0, SUM($DI$28:$DI501))","v":0},154,{"$error":"#N/A"},0,0,0]
[null,155,"",null,null,"",null,null,null,"","","","","","","","","","","","","","","","","","","","","","","","","","","","","","","","","","","",null,null,null,null,null,null,null,null,null,null,null,null,null,155,"",null,null,"",null,null,null,"","","","","","","","","","","","","","","","","","","","","","","","","","","","","","","","","","","",null,null,null,null,null,null,null,null,null,null,null,null,{"$f":"IF($E$14=OFFSET(明細情報!$B$5, $DK502-1,0),1,0)","v":0},{"$f":"IF($DI502=0, 0, SUM($DI$28:$DI502))","v":0},155,{"$error":"#N/A"},0,0,0]
[null,156,"",null,null,"",null,null,null,"","","","","","","","","","","","","","","","","","","","","","","","","","","","","","","","","","","",null,null,null,null,null,null,null,null,null,null,null,null,null,156,"",null,null,"",null,null,null,"","","","","","","","","","","","","","","","","","","","","","","","","","","","","","","","","","","",null,null,null,null,null,null,null,null,null,null,null,null,{"$f":"IF($E$14=OFFSET(明細情報!$B$5, $DK503-1,0),1,0)","v":0},{"$f":"IF($DI503=0, 0, SUM($DI$28:$DI503))","v":0},156,{"$error":"#N/A"},0,0,0]
[null,157,"",null,null,"",null,null,null,"","","","","","","","","","","","","","","","","","","","","","","","","","","","","","","","","","","",null,null,null,null,null,null,null,null,null,null,null,null,null,157,"",null,null,"",null,null,null,"","","","","","","","","","","","","","","","","","","","","","","","","","","","","","","","","","","",null,null,null,null,null,null,null,null,null,null,null,null,{"$f":"IF($E$14=OFFSET(明細情報!$B$5, $DK504-1,0),1,0)","v":0},{"$f":"IF($DI504=0, 0, SUM($DI$28:$DI504))","v":0},157,{"$error":"#N/A"},0,0,0]
[null,158,"",null,null,"",null,null,null,"","","","","","","","","","","","","","","","","","","","","","","","","","","","","","","","","","","",null,null,null,null,null,null,null,null,null,null,null,null,null,158,"",null,null,"",null,null,null,"","","","","","","","","","","","","","","","","","","","","","","","","","","","","","","","","","","",null,null,null,null,null,null,null,null,null,null,null,null,{"$f":"IF($E$14=OFFSET(明細情報!$B$5, $DK505-1,0),1,0)","v":0},{"$f":"IF($DI505=0, 0, SUM($DI$28:$DI505))","v":0},158,{"$error":"#N/A"},0,0,0]
[null,159,"",null,null,"",null,null,null,"","","","","","","","","","","","","","","","","","","","","","","","","","","","","","","","","","","",null,null,null,null,null,null,null,null,null,null,null,null,null,159,"",null,null,"",null,null,null,"","","","","","","","","","","","","","","","","","","","","","","","","","","","","","","","","","","",null,null,null,null,null,null,null,null,null,null,null,null,{"$f":"IF($E$14=OFFSET(明細情報!$B$5, $DK506-1,0),1,0)","v":0},{"$f":"IF($DI506=0, 0, SUM($DI$28:$DI506))","v":0},159,{"$error":"#N/A"},0,0,0]
[null,160,"",null,null,"",null,null,null,"","","","","","","","","","","","","","","","","","","","","","","","","","","","","","","","","","","",null,null,null,null,null,null,null,null,null,null,null,null,null,160,"",null,null,"",null,null,null,"","","","","","","","","","","","","","","","","","","","","","","","","","","","","","","","","","","",null,null,null,null,null,null,null,null,null,null,null,null,{"$f":"IF($E$14=OFFSET(明細情報!$B$5, $DK507-1,0),1,0)","v":0},{"$f":"IF($DI507=0, 0, SUM($DI$28:$DI507))","v":0},160,{"$error":"#N/A"},0,0,0]
[null,161,"",null,null,"",null,null,null,"","","","","","","","","","","","","","","","","","","","","","","","","","","","","","","","","","","",null,null,null,null,null,null,null,null,null,null,null,null,null,161,"",null,null,"",null,null,null,"","","","","","","","","","","","","","","","","","","","","","","","","","","","","","","","","","","",null,null,null,null,null,null,null,null,null,null,null,null,{"$f":"IF($E$14=OFFSET(明細情報!$B$5, $DK508-1,0),1,0)","v":0},{"$f":"IF($DI508=0, 0, SUM($DI$28:$DI508))","v":0},161,{"$error":"#N/A"},0,0,0]
[null,162,"",null,null,"",null,null,null,"","","","","","","","","","","","","","","","","","","","","","","","","","","","","","","","","","","",null,null,null,null,null,null,null,null,null,null,null,null,null,162,"",null,null,"",null,null,null,"","","","","","","","","","","","","","","","","","","","","","","","","","","","","","","","","","","",null,null,null,null,null,null,null,null,null,null,null,null,{"$f":"IF($E$14=OFFSET(明細情報!$B$5, $DK509-1,0),1,0)","v":0},{"$f":"IF($DI509=0, 0, SUM($DI$28:$DI509))","v":0},162,{"$error":"#N/A"},0,0,0]
[null,163,"",null,null,"",null,null,null,"","","","","","","","","","","","","","","","","","","","","","","","","","","","","","","","","","","",null,null,null,null,null,null,null,null,null,null,null,null,null,163,"",null,null,"",null,null,null,"","","","","","","","","","","","","","","","","","","","","","","","","","","","","","","","","","","",null,null,null,null,null,null,null,null,null,null,null,null,{"$f":"IF($E$14=OFFSET(明細情報!$B$5, $DK510-1,0),1,0)","v":0},{"$f":"IF($DI510=0, 0, SUM($DI$28:$DI510))","v":0},163,{"$error":"#N/A"},0,0,0]
[null,164,"",null,null,"",null,null,null,"","","","","","","","","","","","","","","","","","","","","","","","","","","","","","","","","","","",null,null,null,null,null,null,null,null,null,null,null,null,null,164,"",null,null,"",null,null,null,"","","","","","","","","","","","","","","","","","","","","","","","","","","","","","","","","","","",null,null,null,null,null,null,null,null,null,null,null,null,{"$f":"IF($E$14=OFFSET(明細情報!$B$5, $DK511-1,0),1,0)","v":0},{"$f":"IF($DI511=0, 0, SUM($DI$28:$DI511))","v":0},164,{"$error":"#N/A"},0,0,0]
[null,165,"",null,null,"",null,null,null,"","","","","","","","","","","","","","","","","","","","","","","","","","","","","","","","","","","",null,null,null,null,null,null,null,null,null,null,null,null,null,165,"",null,null,"",null,null,null,"","","","","","","","","","","","","","","","","","","","","","","","","","","","","","","","","","","",null,null,null,null,null,null,null,null,null,null,null,null,{"$f":"IF($E$14=OFFSET(明細情報!$B$5, $DK512-1,0),1,0)","v":0},{"$f":"IF($DI512=0, 0, SUM($DI$28:$DI512))","v":0},165,{"$error":"#N/A"},0,0,0]
[null,null,null,null,null,null,null,null,null,null,null,null,null,null,null,null,null,null,null,null,null,null,"　　小　　　　　　計",null,null,null,null,null,null,null,null,null,null,null,{"$f":"getNumKeta0($DP513,9)","v":""},{"$f":"getNumKeta0($DP513,8)","v":""},{"$f":"getNumKeta0($DP513,7)","v":""},{"$f":"getNumKeta0($DP513,6)","v":""},{"$f":"getNumKeta0($DP513,5)","v":""},{"$f":"getNumKeta0($DP513,4)","v":""},{"$f":"getNumKeta0($DP513,3)","v":""},{"$f":"getNumKeta0($DP513,2)","v":""},{"$f":"getNumKeta0($DP513,1)","v":""},"Ａ",{"$f":"IF($DQ513=0,\"\", $DQ513)","v":""},null,null,null,null,null,null,null,null,{"$f":"IF($DP513<>$DQ513,\"*\",\"\")","v":""},null,null,null,null,null,null,null,null,null,null,null,null,null,null,null,null,null,null,null,null,null,null,null,null,"　　小　　　　　　計",null,null,null,null,null,null,null,null,null,null,null,{"$f":"getNumKeta0($DP513,9)","v":""},{"$f":"getNumKeta0($DP513,8)","v":""},{"$f":"getNumKeta0($DP513,7)","v":""},{"$f":"getNumKeta0($DP513,6)","v":""},{"$f":"getNumKeta0($DP513,5)","v":""},{"$f":"getNumKeta0($DP513,4)","v":""},{"$f":"getNumKeta0($DP513,3)","v":""},{"$f":"getNumKeta0($DP513,2)","v":""},{"$f":"getNumKeta0($DP513,1)","v":""},"Ａ",{"$f":"IF($DQ513=0,\"\", $DQ513)","v":""},null,null,null,null,null,null,null,null,{"$f":"IF($DP513<>$DQ513,\"*\",\"\")","v":""},null,null,null,null,null,null,null,null,null,{"$f":"IF($DK512/15=ROUNDUP(MAX($DJ:$DJ)/15,0),VLOOKUP($E$14,基本情報_工事名称マスタ,4,FALSE)+VLOOKUP($E$14,基本情報_工事名称マスタ,5,FALSE),0)","v":0},{"$f":"IF($DK512/15=ROUNDUP(MAX($DJ:$DJ)/15,0),DQ515-DQ514,0)","v":0}]
[null,null,null,null,null,null,null,null,null,null,null,null,null,null,null,null,null,null,null,null,null,null,"　消　費　税",null,null,null,null,null,null,null,{"$f":"基本情報_消費税率","v":0.1},null,null,null,{"$f":"getNumKeta0($DP514,9)","v":""},{"$f":"getNumKeta0($DP514,8)","v":""},{"$f":"getNumKeta0($DP514,7)","v":""},{"$f":"getNumKeta0($DP514,6)","v":""},{"$f":"getNumKeta0($DP514,5)","v":""},{"$f":"getNumKeta0($DP514,4)","v":""},{"$f":"getNumKeta0($DP514,3)","v":""},{"$f":"getNumKeta0($DP514,2)","v":""},{"$f":"getNumKeta0($DP514,1)","v":""},"Ｂ",{"$f":"IF($DQ514=0,\"\", $DQ514)","v":""},null,null,null,null,null,null,null,null,null,null,null,null,null,null,null,null,null,null,null,null,null,null,null,null,null,null,null,null,null,null,null,null,null,"　消　費　税",null,null,null,null,null,null,null,{"$f":"基本情報_消費税率","v":0.1},null,null,null,{"$f":"getNumKeta0($DP514,9)","v":""},{"$f":"getNumKeta0($DP514,8)","v":""},{"$f":"getNumKeta0($DP514,7)","v":""},{"$f":"getNumKeta0($DP514,6)","v":""},{"$f":"getNumKeta0($DP514,5)","v":""},{"$f":"getNumKeta0($DP514,4)","v":""},{"$f":"getNumKeta0($DP514,3)","v":""},{"$f":"getNumKeta0($DP514,2)","v":""},{"$f":"getNumKeta0($DP514,1)","v":""},"Ｂ",{"$f":"IF($DQ514=0,\"\", $DQ514)","v":""},null,null,null,null,null,null,null,null,null,null,null,null,null,null,null,null,null,null,{"$f":"IF($DK512/15=ROUNDUP(MAX($DJ:$DJ)/15,0),VLOOKUP($E$14,基本情報_工事名称マスタ,6,FALSE),0)","v":0},{"$f":"IF($DK512/15=ROUNDUP(MAX($DJ:$DJ)/15,0),ROUND((DQ515-VLOOKUP($E$14,基本情報_工事名称マスタ,5,FALSE))/(基本情報_消費税率*100+100)*(基本情報_消費税率*100),0),0)","v":0}]
[null,null,null,null,null,null,null,null,null,null,null,null,null,null,null,null,null,null,null,null,null,null,"　　合　　　　　　計",null,null,null,null,null,null,null,null,null,null,null,{"$f":"getNumKeta0($DP515,9)","v":""},{"$f":"getNumKeta0($DP515,8)","v":""},{"$f":"getNumKeta0($DP515,7)","v":""},{"$f":"getNumKeta0($DP515,6)","v":""},{"$f":"getNumKeta0($DP515,5)","v":""},{"$f":"getNumKeta0($DP515,4)","v":""},{"$f":"getNumKeta0($DP515,3)","v":""},{"$f":"getNumKeta0($DP515,2)","v":""},{"$f":"getNumKeta0($DP515,1)","v":""},"Ｃ",{"$f":"IF($DQ515=0,\"\", $DQ515)","v":""},null,null,null,null,null,null,null,null,null,null,null,null,null,null,null,null,null,null,null,null,null,null,null,null,null,null,null,null,null,null,null,null,null,"　　合　　　　　　計",null,null,null,null,null,null,null,null,null,null,null,{"$f":"getNumKeta0($DP515,9)","v":""},{"$f":"getNumKeta0($DP515,8)","v":""},{"$f":"getNumKeta0($DP515,7)","v":""},{"$f":"getNumKeta0($DP515,6)","v":""},{"$f":"getNumKeta0($DP515,5)","v":""},{"$f":"getNumKeta0($DP515,4)","v":""},{"$f":"getNumKeta0($DP515,3)","v":""},{"$f":"getNumKeta0($DP515,2)","v":""},{"$f":"getNumKeta0($DP515,1)","v":""},"Ｃ",{"$f":"IF($DQ515=0,\"\", $DQ515)","v":""},null,null,null,null,null,null,null,null,null,null,null,null,null,null,null,null,null,null,{"$f":"IF($DK512/15=ROUNDUP(MAX($DJ:$DJ)/15,0),VLOOKUP($E$14,基本情報_工事名称マスタ,7,FALSE),0)","v":0},{"$f":"DP515","v":0}]
[null,null,null,null,null,null,null,null,null,null,null,null,null,null,null,null,null,null,null,null,null,null,"貴社→請求書(添付)→経理(控)",null,null,null,null,null,null,null,null,null,null,null,null,null,null,null,null,null,null,null,null,null,null,null,null,null,null,null,null,null,null,null,null,null,null,null,null,null,null,null,null,null,null,null,null,null,null,null,null,null,null,null,null,null,null,null,"貴社→請求書(添付)→経理→作業所長(控)"]
[]
[null,null,null,null,null,null,null,null,null,null,null,null,null,null,null,null,null,null,null,null,null,null,null,null,null,null,null,null,null,null,null,null,null,null,null,null,null,null,null,null,null,null,null,null,{"$f":"\"P \" & B559/15 & \"/\" & ROUNDUP(COUNTIF(請求明細_工事場所, E531)/15,0)","v":"P 12/1"},null,null,null,null,null,null,null,null,null,null,null,null,null,null,null,null,null,null,null,null,null,null,null,null,null,null,null,null,null,null,null,null,null,null,null,null,null,null,null,null,null,null,null,null,null,null,null,null,null,null,null,null,null,null,null,{"$f":"\"P \" & BF559/15 & \"/\" & ROUNDUP(COUNTIF(請求明細_工事場所, BI531)/15,0)","v":"P 12/1"}]
[null,null,null,"請求明細書（一般）",null,null,null,null,null,null,null,null,null,null,null,null,null,null,null,null,null,null,null,null,null,"取引先",null,null,{"$f":"基本情報_取引先コード","v":999999},null,null,null,null,null,null,null,null,null,"締\n日",null,null,{"$f":"基本情報_請求締日","v":"2020-07-31"},null,null,null,null,null,null,null,null,null,null,null,null,null,null,null,null,null,"請求明細書（一般）",null,null,null,null,null,null,null,null,null,null,null,null,null,null,null,null,null,null,null,null,null,"取引先",null,null,{"$f":"基本情報_取引先コード","v":999999},null,null,null,null,null,null,null,null,null,"締\n日",null,null,{"$f":"基本情報_請求締日","v":"2020-07-31"}]
[null,null,null,null,null,null,null,null,null,"提出用",null,null,null,null,null,null,null,null,null,null,null,null,null,null,null,null,null,null,null,null,null,null,null,null,null,null,null,null,null,null,null,null,null,null,null,null,null,null,null,null,null,null,null,null,null,null,null,null,null,null,null,null,null,null,null,"提出用"]
[]
[null,null,null,null,null,null,null,null,null,null,null,null,null,null,null,null,null,null,null,null,null,null,null,null,null,"コード",null,null,null,null,null,null,null,null,null,null,null,null,null,null,null,null,null,null,null,null,null,null,null,null,null,null,null,null,null,null,null,null,null,null,null,null,null,null,null,null,null,null,null,null,null,null,null,null,null,null,null,null,null,null,null,"コード"]
[]
[]
[null,"丸高・みなと特定建設工事共同企業体　御中",null,null,null,null,null,null,null,null,null,null,null,null,null,null,null,null,null,null,null,null,null,null,null,"（住所・社名・電話）",null,null,null,null,null,null,null,null,null,null,null,null,null,null,null,null,null,null,null,null,null,null,null,null,null,null,null,null,null,null,null,"丸高・みなと特定建設工事共同企業体　御中",null,null,null,null,null,null,null,null,null,null,null,null,null,null,null,null,null,null,null,null,null,null,null,"（住所・社名・電話）"]
[]
[]
[]
[null,null,null,null,null,null,null,null,null,null,null,null,null,null,null,null,null,null,null,null,null,null,null,null,null,null,null,null,{"$f":"基本情報_住所","v":"酒田市○○○○１－１"},null,null,null,null,null,null,null,null,null,null,null,null,null,null,null,null,null,null,null,null,null,null,null,null,null,null,null,null,null,null,null,null,null,null,null,null,null,null,null,null,null,null,null,null,null,null,null,null,null,null,null,null,null,null,null,{"$f":"基本情報_住所","v":"酒田市○○○○１－１"}]
[]
[null,"工　事　名",null,null,{"$f":"$E$14","v":"×××××工事"},null,null,null,null,null,null,null,null,null,null,"承　　認",null,null,null,null,null,"検　　印",null,null,null,null,null,null,null,null,null,null,null,null,null,null,null,null,null,null,null,null,null,null,null,null,null,null,null,null,null,null,null,null,null,null,null,"工　事　名",null,null,{"$f":"$E$14","v":"×××××工事"},null,null,null,null,null,null,null,null,null,null,"承　　認",null,null,null,null,null,"検　　印"]
[]
[]
[null,null,null,null,null,null,null,null,null,null,null,null,null,null,null,null,null,null,null,null,null,null,null,null,null,null,null,null,{"$f":"基本情報_社名","v":"(株）○○建設"},null,null,null,null,null,null,null,null,null,null,null,null,null,null,null,null,null,null,null,null,null,"印",null,null,null,null,null,null,null,null,null,null,null,null,null,null,null,null,null,null,null,null,null,null,null,null,null,null,null,null,null,null,null,null,null,{"$f":"基本情報_社名","v":"(株）○○建設"},null,null,null,null,null,null,null,null,null,null,null,null,null,null,null,null,null,null,null,null,null,"印"]
[]
[]
[null,"作業所長名",null,null,{"$f":"VLOOKUP(E531,基本情報_工事名称マスタ,3,FALSE)","v":"××次郎"},null,null,null,null,null,null,null,null,null,null,null,null,null,null,null,null,null,null,null,null,null,null,null,null,null,null,null,null,null,null,null,null,null,null,null,null,null,null,null,null,null,null,null,null,null,null,null,null,null,null,null,null,"作業所長名",null,null,{"$f":"VLOOKUP(BI531,基本情報_工事名称マスタ,3,FALSE)","v":"××次郎"}]
[]
[null,null,null,null,null,null,null,null,null,null,null,null,null,null,null,null,null,null,null,null,null,null,null,null,null,null,null,null,{"$f":"基本情報_電話番号","v":"0234 - 00 - 0000"},null,null,null,null,null,null,null,null,null,null,null,null,null,null,null,null,null,null,null,null,null,null,null,null,null,null,null,null,null,null,null,null,null,null,null,null,null,null,null,null,null,null,null,null,null,null,null,null,null,null,null,null,null,null,null,{"$f":"基本情報_電話番号","v":"0234 - 00 - 0000"}]
[]
[]
[]
[]
[null,"通番","納入年月日",null,null,"品　名　・　規　格",null,null,null,"数　　　　量",null,null,null,null,null,null,null,null,null,null,null,"単 位","単　　　　価",null,null,null,null,null,null,null,null,null,null,null,"金　　　額",null,null,null,null,null,null,null,null,"備　考",null,null,null,null,null,null,null,null,null,null,null,null,null,"通番","納入年月日",null,null,"品　名　・　規　格",null,null,null,"数　　　　量",null,null,null,null,null,null,null,null,null,null,null,"単 位","単　　　　価",null,null,null,null,null,null,null,null,null,null,null,"金　　　額",null,null,null,null,null,null,null,null,"備　考",null,null,null,null,null,null,null,null,null,null,null,null,"ヒット","ランク","-","通番","数量","単価","金額"]
[null,{"$f":"B512+1","v":166},{"$f":"IF(ISNA($DL545),\"\",VLOOKUP($DL545,請求明細,3,FALSE))","v":""},null,null,{"$f":"IF(ISNA($DL545),\"\",VLOOKUP($DL545,請求明細,4,FALSE))","v":""},null,null,null,{"$f":"IF(ISNA($DL545),\"\",getNumKeta0($DM545,9))","v":""},{"$f":"IF(ISNA($DL545),\"\",getNumKeta0($DM545,8))","v":""},{"$f":"IF(ISNA($DL545),\"\",getNumKeta0($DM545,7))","v":""},{"$f":"IF(ISNA($DL545),\"\",getNumKeta0($DM545,6))","v":""},{"$f":"IF(ISNA($DL545),\"\",getNumKeta0($DM545,5))","v":""},{"$f":"IF(ISNA($DL545),\"\",getNumKeta0($DM545,4))","v":""},{"$f":"IF(ISNA($DL545),\"\",getNumKeta0($DM545,3))","v":""},{"$f":"IF(ISNA($DL545),\"\",getNumKeta0($DM545,2))","v":""},{"$f":"IF(ISNA($DL545),\"\",getNumKeta0($DM545,1))","v":""},{"$f":"IF(ISNA($DL545),\"\",getNumKeta0($DM545,-1))","v":""},{"$f":"IF(ISNA($DL545),\"\",getNumKeta0($DM545,-2))","v":""},{"$f":"IF(ISNA($DL545),\"\",getNumKeta0($DM545,-3))","v":""},{"$f":"IF(ISNA($DL545),\"\",VLOOKUP($DL545,請求明細,6,FALSE))","v":""},{"$f":"IF(ISNA($DL545),\"\",getNumKeta0($DN545,9))","v":""},{"$f":"IF(ISNA($DL545),\"\",getNumKeta0($DN545,8))","v":""},{"$f":"IF(ISNA($DL545),\"\",getNumKeta0($DN545,7))","v":""},{"$f":"IF(ISNA($DL545),\"\",getNumKeta0($DN545,6))","v":""},{"$f":"IF(ISNA($DL545),\"\",getNumKeta0($DN545,5))","v":""},{"$f":"IF(ISNA($DL545),\"\",getNumKeta0($DN545,4))","v":""},{"$f":"IF(ISNA($DL545),\"\",getNumKeta0($DN545,3))","v":""},{"$f":"IF(ISNA($DL545),\"\",getNumKeta0($DN545,2))","v":""},{"$f":"IF(ISNA($DL545),\"\",getNumKeta0($DN545,1))","v":""},{"$f":"IF(ISNA($DL545),\"\",getNumKeta0($DN545,-1))","v":""},{"$f":"IF(ISNA($DL545),\"\",getNumKeta0($DN545,-2))","v":""},{"$f":"IF(ISNA($DL545),\"\",getNumKeta0($DN545,-3))","v":""},{"$f":"IF(ISNA($DL545),\"\",getNumKeta0($DO545,9))","v":""},{"$f":"IF(ISNA($DL545),\"\",getNumKeta0($DO545,8))","v":""},{"$f":"IF(ISNA($DL545),\"\",getNumKeta0($DO545,7))","v":""},{"$f":"IF(ISNA($DL545),\"\",getNumKeta0($DO545,6))","v":""},{"$f":"IF(ISNA($DL545),\"\",getNumKeta0($DO545,5))","v":""},{"$f":"IF(ISNA($DL545),\"\",getNumKeta0($DO545,4))","v":""},{"$f":"IF(ISNA($DL545),\"\",getNumKeta0($DO545,3))","v":""},{"$f":"IF(ISNA($DL545),\"\",getNumKeta0($DO545,2))","v":""},{"$f":"IF(ISNA($DL545),\"\",getNumKeta0($DO545,1))","v":""},{"$f":"IF(ISNA($DL545),\"\",LEFT(VLOOKUP($DL545,請求明細,10,FALSE),16))","v":""},null,null,null,null,null,null,null,null,null,null,null,null,null,{"$f":"BF512+1","v":166},{"$f":"IF(ISNA($DL545),\"\",VLOOKUP($DL545,請求明細,3,FALSE))","v":""},null,null,{"$f":"IF(ISNA($DL545),\"\",VLOOKUP($DL545,請求明細,4,FALSE))","v":""},null,null,null,{"$f":"IF(ISNA($DL545),\"\",getNumKeta0($DM545,9))","v":""},{"$f":"IF(ISNA($DL545),\"\",getNumKeta0($DM545,8))","v":""},{"$f":"IF(ISNA($DL545),\"\",getNumKeta0($DM545,7))","v":""},{"$f":"IF(ISNA($DL545),\"\",getNumKeta0($DM545,6))","v":""},{"$f":"IF(ISNA($DL545),\"\",getNumKeta0($DM545,5))","v":""},{"$f":"IF(ISNA($DL545),\"\",getNumKeta0($DM545,4))","v":""},{"$f":"IF(ISNA($DL545),\"\",getNumKeta0($DM545,3))","v":""},{"$f":"IF(ISNA($DL545),\"\",getNumKeta0($DM545,2))","v":""},{"$f":"IF(ISNA($DL545),\"\",getNumKeta0($DM545,1))","v":""},{"$f":"IF(ISNA($DL545),\"\",getNumKeta0($DM545,-1))","v":""},{"$f":"IF(ISNA($DL545),\"\",getNumKeta0($DM545,-2))","v":""},{"$f":"IF(ISNA($DL545),\"\",getNumKeta0($DM545,-3))","v":""},{"$f":"IF(ISNA($DL545),\"\",VLOOKUP($DL545,請求明細,6,FALSE))","v":""},{"$f":"IF(ISNA($DL545),\"\",getNumKeta0($DN545,9))","v":""},{"$f":"IF(ISNA($DL545),\"\",getNumKeta0($DN545,8))","v":""},{"$f":"IF(ISNA($DL545),\"\",getNumKeta0($DN545,7))","v":""},{"$f":"IF(ISNA($DL545),\"\",getNumKeta0($DN545,6))","v":""},{"$f":"IF(ISNA($DL545),\"\",getNumKeta0($DN545,5))","v":""},{"$f":"IF(ISNA($DL545),\"\",getNumKeta0($DN545,4))","v":""},{"$f":"IF(ISNA($DL545),\"\",getNumKeta0($DN545,3))","v":""},{"$f":"IF(ISNA($DL545),\"\",getNumKeta0($DN545,2))","v":""},{"$f":"IF(ISNA($DL545),\"\",getNumKeta0($DN545,1))","v":""},{"$f":"IF(ISNA($DL545),\"\",getNumKeta0($DN545,-1))","v":""},{"$f":"IF(ISNA($DL545),\"\",getNumKeta0($DN545,-2))","v":""},{"$f":"IF(ISNA($DL545),\"\",getNumKeta0($DN545,-3))","v":""},{"$f":"IF(ISNA($DL545),\"\",getNumKeta0($DO545,9))","v":""},{"$f":"IF(ISNA($DL545),\"\",getNumKeta0($DO545,8))","v":""},{"$f":"IF(ISNA($DL545),\"\",getNumKeta0($DO545,7))","v":""},{"$f":"IF(ISNA($DL545),\"\",getNumKeta0($DO545,6))","v":""},{"$f":"IF(ISNA($DL545),\"\",getNumKeta0($DO545,5))","v":""},{"$f":"IF(ISNA($DL545),\"\",getNumKeta0($DO545,4))","v":""},{"$f":"IF(ISNA($DL545),\"\",getNumKeta0($DO545,3))","v":""},{"$f":"IF(ISNA($DL545),\"\",getNumKeta0($DO545,2))","v":""},{"$f":"IF(ISNA($DL545),\"\",getNumKeta0($DO545,1))","v":""},{"$f":"IF(ISNA($DL545),\"\",LEFT(VLOOKUP($DL545,請求明細,10,FALSE),16))","v":""},null,null,null,null,null,null,null,null,null,null,null,null,{"$f":"IF($E$14=OFFSET(明細情報!$B$5, $DK545-1,0),1,0)","v":0},{"$f":"IF($DI545=0, 0, SUM($DI$28:$DI545))","v":0},{"$f":"DK512+1","v":166},{"$f":"VLOOKUP(B545,$DJ$28:$DK$65536,2,FALSE)","v":{"$error":"#N/A"}},{"$f":"IF(ISNA($DL545),0,VLOOKUP($DL545,請求明細,5,FALSE))","v":0},{"$f":"IF(ISNA($DL545),0,VLOOKUP($DL545,請求明細,7,FALSE))","v":0},{"$f":"IF(ISNA($DL545),0,VLOOKUP($DL545,請求明細,9,FALSE))","v":0}]
[null,{"$f":"B545+1","v":167},"",null,null,"",null,null,null,"","","","","","","","","","","","","","","","","","","","","","","","","","","","","","","","","","","",null,null,null,null,null,null,null,null,null,null,null,null,null,{"$f":"BF545+1","v":167},"",null,null,"",null,null,null,"","","","","","","","","","","","","","","","","","","","","","","","","","","","","","","","","","","",null,null,null,null,null,null,null,null,null,null,null,null,{"$f":"IF($E$14=OFFSET(明細情報!$B$5, $DK546-1,0),1,0)","v":0},{"$f":"IF($DI546=0, 0, SUM($DI$28:$DI546))","v":0},{"$f":"DK545+1","v":167},{"$error":"#N/A"},0,0,0]
[null,168,"",null,null,"",null,null,null,"","","","","","","","","","","","","","","","","","","","","","","","","","","","","","","","","","","",null,null,null,null,null,null,null,null,null,null,null,null,null,168,"",null,null,"",null,null,null,"","","","","","","","","","","","","","","","","","","","","","","","","","","","","","","","","","","",null,null,null,null,null,null,null,null,null,null,null,null,{"$f":"IF($E$14=OFFSET(明細情報!$B$5, $DK547-1,0),1,0)","v":0},{"$f":"IF($DI547=0, 0, SUM($DI$28:$DI547))","v":0},168,{"$error":"#N/A"},0,0,0]
[null,169,"",null,null,"",null,null,null,"","","","","","","","","","","","","","","","","","","","","","","","","","","","","","","","","","","",null,null,null,null,null,null,null,null,null,null,null,null,null,169,"",null,null,"",null,null,null,"","","","","","","","","","","","","","","","","","","","","","","","","","","","","","","","","","","",null,null,null,null,null,null,null,null,null,null,null,null,{"$f":"IF($E$14=OFFSET(明細情報!$B$5, $DK548-1,0),1,0)","v":0},{"$f":"IF($DI548=0, 0, SUM($DI$28:$DI548))","v":0},169,{"$error":"#N/A"},0,0,0]
[null,170,"",null,null,"",null,null,null,"","","","","","","","","","","","","","","","","","","","","","","","","","","","","","","","","","","",null,null,null,null,null,null,null,null,null,null,null,null,null,170,"",null,null,"",null,null,null,"","","","","","","","","","","","","","","","","","","","","","","","","","","","","","","","","","","",null,null,null,null,null,null,null,null,null,null,null,null,{"$f":"IF($E$14=OFFSET(明細情報!$B$5, $DK549-1,0),1,0)","v":0},{"$f":"IF($DI549=0, 0, SUM($DI$28:$DI549))","v":0},170,{"$error":"#N/A"},0,0,0]
[null,171,"",null,null,"",null,null,null,"","","","","","","","","","","","","","","","","","","","","","","","","","","","","","","","","","","",null,null,null,null,null,null,null,null,null,null,null,null,null,171,"",null,null,"",null,null,null,"","","","","","","","","","","","","","","","","","","","","","","","","","","","","","","","","","","",null,null,null,null,null,null,null,null,null,null,null,null,{"$f":"IF($E$14=OFFSET(明細情報!$B$5, $DK550-1,0),1,0)","v":0},{"$f":"IF($DI550=0, 0, SUM($DI$28:$DI550))","v":0},171,{"$error":"#N/A"},0,0,0]
[null,172,"",null,null,"",null,null,null,"","","","","","","","","","","","","","","","","","","","","","","","","","","","","","","","","","","",null,null,null,null,null,null,null,null,null,null,null,null,null,172,"",null,null,"",null,null,null,"","","","","","","","","","","","","","","","","","","","","","","","","","","","","","","","","","","",null,null,null,null,null,null,null,null,null,null,null,null,{"$f":"IF($E$14=OFFSET(明細情報!$B$5, $DK551-1,0),1,0)","v":0},{"$f":"IF($DI551=0, 0, SUM($DI$28:$DI551))","v":0},172,{"$error":"#N/A"},0,0,0]
[null,173,"",null,null,"",null,null,null,"","","","","","","","","","","","","","","","","","","","","","","","","","","","","","","","","","","",null,null,null,null,null,null,null,null,null,null,null,null,null,173,"",null,null,"",null,null,null,"","","","","","","","","","","","","","","","","","","","","","","","","","","","","","","","","","","",null,null,null,null,null,null,null,null,null,null,null,null,{"$f":"IF($E$14=OFFSET(明細情報!$B$5, $DK552-1,0),1,0)","v":0},{"$f":"IF($DI552=0, 0, SUM($DI$28:$DI552))","v":0},173,{"$error":"#N/A"},0,0,0]
[null,174,"",null,null,"",null,null,null,"","","","","","","","","","","","","","","","","","","","","","","","","","","","","","","","","","","",null,null,null,null,null,null,null,null,null,null,null,null,null,174,"",null,null,"",null,null,null,"","","","","","","","","","","","","","","","","","","","","","","","","","","","","","","","","","","",null,null,null,null,null,null,null,null,null,null,null,null,{"$f":"IF($E$14=OFFSET(明細情報!$B$5, $DK553-1,0),1,0)","v":0},{"$f":"IF($DI553=0, 0, SUM($DI$28:$DI553))","v":0},174,{"$error":"#N/A"},0,0,0]
[null,175,"",null,null,"",null,null,null,"","","","","","","","","","","","","","","","","","","","","","","","","","","","","","","","","","","",null,null,null,null,null,null,null,null,null,null,null,null,null,175,"",null,null,"",null,null,null,"","","","","","","","","","","","","","","","","","","","","","","","","","","","","","","","","","","",null,null,null,null,null,null,null,null,null,null,null,null,{"$f":"IF($E$14=OFFSET(明細情報!$B$5, $DK554-1,0),1,0)","v":0},{"$f":"IF($DI554=0, 0, SUM($DI$28:$DI554))","v":0},175,{"$error":"#N/A"},0,0,0]
[null,176,"",null,null,"",null,null,null,"","","","","","","","","","","","","","","","","","","","","","","","","","","","","","","","","","","",null,null,null,null,null,null,null,null,null,null,null,null,null,176,"",null,null,"",null,null,null,"","","","","","","","","","","","","","","","","","","","","","","","","","","","","","","","","","","",null,null,null,null,null,null,null,null,null,null,null,null,{"$f":"IF($E$14=OFFSET(明細情報!$B$5, $DK555-1,0),1,0)","v":0},{"$f":"IF($DI555=0, 0, SUM($DI$28:$DI555))","v":0},176,{"$error":"#N/A"},0,0,0]
[null,177,"",null,null,"",null,null,null,"","","","","","","","","","","","","","","","","","","","","","","","","","","","","","","","","","","",null,null,null,null,null,null,null,null,null,null,null,null,null,177,"",null,null,"",null,null,null,"","","","","","","","","","","","","","","","","","","","","","","","","","","","","","","","","","","",null,null,null,null,null,null,null,null,null,null,null,null,{"$f":"IF($E$14=OFFSET(明細情報!$B$5, $DK556-1,0),1,0)","v":0},{"$f":"IF($DI556=0, 0, SUM($DI$28:$DI556))","v":0},177,{"$error":"#N/A"},0,0,0]
[null,178,"",null,null,"",null,null,null,"","","","","","","","","","","","","","","","","","","","","","","","","","","","","","","","","","","",null,null,null,null,null,null,null,null,null,null,null,null,null,178,"",null,null,"",null,null,null,"","","","","","","","","","","","","","","","","","","","","","","","","","","","","","","","","","","",null,null,null,null,null,null,null,null,null,null,null,null,{"$f":"IF($E$14=OFFSET(明細情報!$B$5, $DK557-1,0),1,0)","v":0},{"$f":"IF($DI557=0, 0, SUM($DI$28:$DI557))","v":0},178,{"$error":"#N/A"},0,0,0]
[null,179,"",null,null,"",null,null,null,"","","","","","","","","","","","","","","","","","","","","","","","","","","","","","","","","","","",null,null,null,null,null,null,null,null,null,null,null,null,null,179,"",null,null,"",null,null,null,"","","","","","","","","","","","","","","","","","","","","","","","","","","","","","","","","","","",null,null,null,null,null,null,null,null,null,null,null,null,{"$f":"IF($E$14=OFFSET(明細情報!$B$5, $DK558-1,0),1,0)","v":0},{"$f":"IF($DI558=0, 0, SUM($DI$28:$DI558))","v":0},179,{"$error":"#N/A"},0,0,0]
[null,180,"",null,null,"",null,null,null,"","","","","","","","","","","","","","","","","","","","","","","","","","","","","","","","","","","",null,null,null,null,null,null,null,null,null,null,null,null,null,180,"",null,null,"",null,null,null,"","","","","","","","","","","","","","","","","","","","","","","","","","","","","","","","","","","",null,null,null,null,null,null,null,null,null,null,null,null,{"$f":"IF($E$14=OFFSET(明細情報!$B$5, $DK559-1,0),1,0)","v":0},{"$f":"IF($DI559=0, 0, SUM($DI$28:$DI559))","v":0},180,{"$error":"#N/A"},0,0,0]
[null,null,null,null,null,null,null,null,null,null,null,null,null,null,null,null,null,null,null,null,null,null,"　　小　　　　　　計",null,null,null,null,null,null,null,null,null,null,null,{"$f":"getNumKeta0($DP560,9)","v":""},{"$f":"getNumKeta0($DP560,8)","v":""},{"$f":"getNumKeta0($DP560,7)","v":""},{"$f":"getNumKeta0($DP560,6)","v":""},{"$f":"getNumKeta0($DP560,5)","v":""},{"$f":"getNumKeta0($DP560,4)","v":""},{"$f":"getNumKeta0($DP560,3)","v":""},{"$f":"getNumKeta0($DP560,2)","v":""},{"$f":"getNumKeta0($DP560,1)","v":""},"Ａ",{"$f":"IF($DQ560=0,\"\", $DQ560)","v":""},null,null,null,null,null,null,null,null,{"$f":"IF($DP560<>$DQ560,\"*\",\"\")","v":""},null,null,null,null,null,null,null,null,null,null,null,null,null,null,null,null,null,null,null,null,null,null,null,null,"　　小　　　　　　計",null,null,null,null,null,null,null,null,null,null,null,{"$f":"getNumKeta0($DP560,9)","v":""},{"$f":"getNumKeta0($DP560,8)","v":""},{"$f":"getNumKeta0($DP560,7)","v":""},{"$f":"getNumKeta0($DP560,6)","v":""},{"$f":"getNumKeta0($DP560,5)","v":""},{"$f":"getNumKeta0($DP560,4)","v":""},{"$f":"getNumKeta0($DP560,3)","v":""},{"$f":"getNumKeta0($DP560,2)","v":""},{"$f":"getNumKeta0($DP560,1)","v":""},"Ａ",{"$f":"IF($DQ560=0,\"\", $DQ560)","v":""},null,null,null,null,null,null,null,null,{"$f":"IF($DP560<>$DQ560,\"*\",\"\")","v":""},null,null,null,null,null,null,null,null,null,{"$f":"IF($DK559/15=ROUNDUP(MAX($DJ:$DJ)/15,0),VLOOKUP($E$14,基本情報_工事名称マスタ,4,FALSE)+VLOOKUP($E$14,基本情報_工事名称マスタ,5,FALSE),0)","v":0},{"$f":"IF($DK559/15=ROUNDUP(MAX($DJ:$DJ)/15,0),DQ562-DQ561,0)","v":0}]
[null,null,null,null,null,null,null,null,null,null,null,null,null,null,null,null,null,null,null,null,null,null,"　消　費　税",null,null,null,null,null,null,null,{"$f":"基本情報_消費税率","v":0.1},null,null,null,{"$f":"getNumKeta0($DP561,9)","v":""},{"$f":"getNumKeta0($DP561,8)","v":""},{"$f":"getNumKeta0($DP561,7)","v":""},{"$f":"getNumKeta0($DP561,6)","v":""},{"$f":"getNumKeta0($DP561,5)","v":""},{"$f":"getNumKeta0($DP561,4)","v":""},{"$f":"getNumKeta0($DP561,3)","v":""},{"$f":"getNumKeta0($DP561,2)","v":""},{"$f":"getNumKeta0($DP561,1)","v":""},"Ｂ",{"$f":"IF($DQ561=0,\"\", $DQ561)","v":""},null,null,null,null,null,null,null,null,null,null,null,null,null,null,null,null,null,null,null,null,null,null,null,null,null,null,null,null,null,null,null,null,null,"　消　費　税",null,null,null,null,null,null,null,{"$f":"基本情報_消費税率","v":0.1},null,null,null,{"$f":"getNumKeta0($DP561,9)","v":""},{"$f":"getNumKeta0($DP561,8)","v":""},{"$f":"getNumKeta0($DP561,7)","v":""},{"$f":"getNumKeta0($DP561,6)","v":""},{"$f":"getNumKeta0($DP561,5)","v":""},{"$f":"getNumKeta0($DP561,4)","v":""},{"$f":"getNumKeta0($DP561,3)","v":""},{"$f":"getNumKeta0($DP561,2)","v":""},{"$f":"getNumKeta0($DP561,1)","v":""},"Ｂ",{"$f":"IF($DQ561=0,\"\", $DQ561)","v":""},null,null,null,null,null,null,null,null,null,null,null,null,null,null,null,null,null,null,{"$f":"IF($DK559/15=ROUNDUP(MAX($DJ:$DJ)/15,0),VLOOKUP($E$14,基本情報_工事名称マスタ,6,FALSE),0)","v":0},{"$f":"IF($DK559/15=ROUNDUP(MAX($DJ:$DJ)/15,0),ROUND((DQ562-VLOOKUP($E$14,基本情報_工事名称マスタ,5,FALSE))/(基本情報_消費税率*100+100)*(基本情報_消費税率*100),0),0)","v":0}]
[null,null,null,null,null,null,null,null,null,null,null,null,null,null,null,null,null,null,null,null,null,null,"　　合　　　　　　計",null,null,null,null,null,null,null,null,null,null,null,{"$f":"getNumKeta0($DP562,9)","v":""},{"$f":"getNumKeta0($DP562,8)","v":""},{"$f":"getNumKeta0($DP562,7)","v":""},{"$f":"getNumKeta0($DP562,6)","v":""},{"$f":"getNumKeta0($DP562,5)","v":""},{"$f":"getNumKeta0($DP562,4)","v":""},{"$f":"getNumKeta0($DP562,3)","v":""},{"$f":"getNumKeta0($DP562,2)","v":""},{"$f":"getNumKeta0($DP562,1)","v":""},"Ｃ",{"$f":"IF($DQ562=0,\"\", $DQ562)","v":""},null,null,null,null,null,null,null,null,null,null,null,null,null,null,null,null,null,null,null,null,null,null,null,null,null,null,null,null,null,null,null,null,null,"　　合　　　　　　計",null,null,null,null,null,null,null,null,null,null,null,{"$f":"getNumKeta0($DP562,9)","v":""},{"$f":"getNumKeta0($DP562,8)","v":""},{"$f":"getNumKeta0($DP562,7)","v":""},{"$f":"getNumKeta0($DP562,6)","v":""},{"$f":"getNumKeta0($DP562,5)","v":""},{"$f":"getNumKeta0($DP562,4)","v":""},{"$f":"getNumKeta0($DP562,3)","v":""},{"$f":"getNumKeta0($DP562,2)","v":""},{"$f":"getNumKeta0($DP562,1)","v":""},"Ｃ",{"$f":"IF($DQ562=0,\"\", $DQ562)","v":""},null,null,null,null,null,null,null,null,null,null,null,null,null,null,null,null,null,null,{"$f":"IF($DK559/15=ROUNDUP(MAX($DJ:$DJ)/15,0),VLOOKUP($E$14,基本情報_工事名称マスタ,7,FALSE),0)","v":0},{"$f":"DP562","v":0}]
[null,null,null,null,null,null,null,null,null,null,null,null,null,null,null,null,null,null,null,null,null,null,"貴社→請求書(添付)→経理(控)",null,null,null,null,null,null,null,null,null,null,null,null,null,null,null,null,null,null,null,null,null,null,null,null,null,null,null,null,null,null,null,null,null,null,null,null,null,null,null,null,null,null,null,null,null,null,null,null,null,null,null,null,null,null,null,"貴社→請求書(添付)→経理→作業所長(控)"]
[]
[null,null,null,null,null,null,null,null,null,null,null,null,null,null,null,null,null,null,null,null,null,null,null,null,null,null,null,null,null,null,null,null,null,null,null,null,null,null,null,null,null,null,null,null,{"$f":"\"P \" & B606/15 & \"/\" & ROUNDUP(COUNTIF(請求明細_工事場所, E578)/15,0)","v":"P 13/1"},null,null,null,null,null,null,null,null,null,null,null,null,null,null,null,null,null,null,null,null,null,null,null,null,null,null,null,null,null,null,null,null,null,null,null,null,null,null,null,null,null,null,null,null,null,null,null,null,null,null,null,null,null,null,null,{"$f":"\"P \" & BF606/15 & \"/\" & ROUNDUP(COUNTIF(請求明細_工事場所, BI578)/15,0)","v":"P 13/1"}]
[null,null,null,"請求明細書（一般）",null,null,null,null,null,null,null,null,null,null,null,null,null,null,null,null,null,null,null,null,null,"取引先",null,null,{"$f":"基本情報_取引先コード","v":999999},null,null,null,null,null,null,null,null,null,"締\n日",null,null,{"$f":"基本情報_請求締日","v":"2020-07-31"},null,null,null,null,null,null,null,null,null,null,null,null,null,null,null,null,null,"請求明細書（一般）",null,null,null,null,null,null,null,null,null,null,null,null,null,null,null,null,null,null,null,null,null,"取引先",null,null,{"$f":"基本情報_取引先コード","v":999999},null,null,null,null,null,null,null,null,null,"締\n日",null,null,{"$f":"基本情報_請求締日","v":"2020-07-31"}]
[null,null,null,null,null,null,null,null,null,"提出用",null,null,null,null,null,null,null,null,null,null,null,null,null,null,null,null,null,null,null,null,null,null,null,null,null,null,null,null,null,null,null,null,null,null,null,null,null,null,null,null,null,null,null,null,null,null,null,null,null,null,null,null,null,null,null,"提出用"]
[]
[null,null,null,null,null,null,null,null,null,null,null,null,null,null,null,null,null,null,null,null,null,null,null,null,null,"コード",null,null,null,null,null,null,null,null,null,null,null,null,null,null,null,null,null,null,null,null,null,null,null,null,null,null,null,null,null,null,null,null,null,null,null,null,null,null,null,null,null,null,null,null,null,null,null,null,null,null,null,null,null,null,null,"コード"]
[]
[]
[null,"丸高・みなと特定建設工事共同企業体　御中",null,null,null,null,null,null,null,null,null,null,null,null,null,null,null,null,null,null,null,null,null,null,null,"（住所・社名・電話）",null,null,null,null,null,null,null,null,null,null,null,null,null,null,null,null,null,null,null,null,null,null,null,null,null,null,null,null,null,null,null,"丸高・みなと特定建設工事共同企業体　御中",null,null,null,null,null,null,null,null,null,null,null,null,null,null,null,null,null,null,null,null,null,null,null,"（住所・社名・電話）"]
[]
[]
[]
[null,null,null,null,null,null,null,null,null,null,null,null,null,null,null,null,null,null,null,null,null,null,null,null,null,null,null,null,{"$f":"基本情報_住所","v":"酒田市○○○○１－１"},null,null,null,null,null,null,null,null,null,null,null,null,null,null,null,null,null,null,null,null,null,null,null,null,null,null,null,null,null,null,null,null,null,null,null,null,null,null,null,null,null,null,null,null,null,null,null,null,null,null,null,null,null,null,null,{"$f":"基本情報_住所","v":"酒田市○○○○１－１"}]
[]
[null,"工　事　名",null,null,{"$f":"$E$14","v":"×××××工事"},null,null,null,null,null,null,null,null,null,null,"承　　認",null,null,null,null,null,"検　　印",null,null,null,null,null,null,null,null,null,null,null,null,null,null,null,null,null,null,null,null,null,null,null,null,null,null,null,null,null,null,null,null,null,null,null,"工　事　名",null,null,{"$f":"$E$14","v":"×××××工事"},null,null,null,null,null,null,null,null,null,null,"承　　認",null,null,null,null,null,"検　　印"]
[]
[]
[null,null,null,null,null,null,null,null,null,null,null,null,null,null,null,null,null,null,null,null,null,null,null,null,null,null,null,null,{"$f":"基本情報_社名","v":"(株）○○建設"},null,null,null,null,null,null,null,null,null,null,null,null,null,null,null,null,null,null,null,null,null,"印",null,null,null,null,null,null,null,null,null,null,null,null,null,null,null,null,null,null,null,null,null,null,null,null,null,null,null,null,null,null,null,null,null,{"$f":"基本情報_社名","v":"(株）○○建設"},null,null,null,null,null,null,null,null,null,null,null,null,null,null,null,null,null,null,null,null,null,"印"]
[]
[]
[null,"作業所長名",null,null,{"$f":"VLOOKUP(E578,基本情報_工事名称マスタ,3,FALSE)","v":"××次郎"},null,null,null,null,null,null,null,null,null,null,null,null,null,null,null,null,null,null,null,null,null,null,null,null,null,null,null,null,null,null,null,null,null,null,null,null,null,null,null,null,null,null,null,null,null,null,null,null,null,null,null,null,"作業所長名",null,null,{"$f":"VLOOKUP(BI578,基本情報_工事名称マスタ,3,FALSE)","v":"××次郎"}]
[]
[null,null,null,null,null,null,null,null,null,null,null,null,null,null,null,null,null,null,null,null,null,null,null,null,null,null,null,null,{"$f":"基本情報_電話番号","v":"0234 - 00 - 0000"},null,null,null,null,null,null,null,null,null,null,null,null,null,null,null,null,null,null,null,null,null,null,null,null,null,null,null,null,null,null,null,null,null,null,null,null,null,null,null,null,null,null,null,null,null,null,null,null,null,null,null,null,null,null,null,{"$f":"基本情報_電話番号","v":"0234 - 00 - 0000"}]
[]
[]
[]
[]
[null,"通番","納入年月日",null,null,"品　名　・　規　格",null,null,null,"数　　　　量",null,null,null,null,null,null,null,null,null,null,null,"単 位","単　　　　価",null,null,null,null,null,null,null,null,null,null,null,"金　　　額",null,null,null,null,null,null,null,null,"備　考",null,null,null,null,null,null,null,null,null,null,null,null,null,"通番","納入年月日",null,null,"品　名　・　規　格",null,null,null,"数　　　　量",null,null,null,null,null,null,null,null,null,null,null,"単 位","単　　　　価",null,null,null,null,null,null,null,null,null,null,null,"金　　　額",null,null,null,null,null,null,null,null,"備　考",null,null,null,null,null,null,null,null,null,null,null,null,"ヒット","ランク","-","通番","数量","単価","金額"]
[null,{"$f":"B559+1","v":181},{"$f":"IF(ISNA($DL592),\"\",VLOOKUP($DL592,請求明細,3,FALSE))","v":""},null,null,{"$f":"IF(ISNA($DL592),\"\",VLOOKUP($DL592,請求明細,4,FALSE))","v":""},null,null,null,{"$f":"IF(ISNA($DL592),\"\",getNumKeta0($DM592,9))","v":""},{"$f":"IF(ISNA($DL592),\"\",getNumKeta0($DM592,8))","v":""},{"$f":"IF(ISNA($DL592),\"\",getNumKeta0($DM592,7))","v":""},{"$f":"IF(ISNA($DL592),\"\",getNumKeta0($DM592,6))","v":""},{"$f":"IF(ISNA($DL592),\"\",getNumKeta0($DM592,5))","v":""},{"$f":"IF(ISNA($DL592),\"\",getNumKeta0($DM592,4))","v":""},{"$f":"IF(ISNA($DL592),\"\",getNumKeta0($DM592,3))","v":""},{"$f":"IF(ISNA($DL592),\"\",getNumKeta0($DM592,2))","v":""},{"$f":"IF(ISNA($DL592),\"\",getNumKeta0($DM592,1))","v":""},{"$f":"IF(ISNA($DL592),\"\",getNumKeta0($DM592,-1))","v":""},{"$f":"IF(ISNA($DL592),\"\",getNumKeta0($DM592,-2))","v":""},{"$f":"IF(ISNA($DL592),\"\",getNumKeta0($DM592,-3))","v":""},{"$f":"IF(ISNA($DL592),\"\",VLOOKUP($DL592,請求明細,6,FALSE))","v":""},{"$f":"IF(ISNA($DL592),\"\",getNumKeta0($DN592,9))","v":""},{"$f":"IF(ISNA($DL592),\"\",getNumKeta0($DN592,8))","v":""},{"$f":"IF(ISNA($DL592),\"\",getNumKeta0($DN592,7))","v":""},{"$f":"IF(ISNA($DL592),\"\",getNumKeta0($DN592,6))","v":""},{"$f":"IF(ISNA($DL592),\"\",getNumKeta0($DN592,5))","v":""},{"$f":"IF(ISNA($DL592),\"\",getNumKeta0($DN592,4))","v":""},{"$f":"IF(ISNA($DL592),\"\",getNumKeta0($DN592,3))","v":""},{"$f":"IF(ISNA($DL592),\"\",getNumKeta0($DN592,2))","v":""},{"$f":"IF(ISNA($DL592),\"\",getNumKeta0($DN592,1))","v":""},{"$f":"IF(ISNA($DL592),\"\",getNumKeta0($DN592,-1))","v":""},{"$f":"IF(ISNA($DL592),\"\",getNumKeta0($DN592,-2))","v":""},{"$f":"IF(ISNA($DL592),\"\",getNumKeta0($DN592,-3))","v":""},{"$f":"IF(ISNA($DL592),\"\",getNumKeta0($DO592,9))","v":""},{"$f":"IF(ISNA($DL592),\"\",getNumKeta0($DO592,8))","v":""},{"$f":"IF(ISNA($DL592),\"\",getNumKeta0($DO592,7))","v":""},{"$f":"IF(ISNA($DL592),\"\",getNumKeta0($DO592,6))","v":""},{"$f":"IF(ISNA($DL592),\"\",getNumKeta0($DO592,5))","v":""},{"$f":"IF(ISNA($DL592),\"\",getNumKeta0($DO592,4))","v":""},{"$f":"IF(ISNA($DL592),\"\",getNumKeta0($DO592,3))","v":""},{"$f":"IF(ISNA($DL592),\"\",getNumKeta0($DO592,2))","v":""},{"$f":"IF(ISNA($DL592),\"\",getNumKeta0($DO592,1))","v":""},{"$f":"IF(ISNA($DL592),\"\",LEFT(VLOOKUP($DL592,請求明細,10,FALSE),16))","v":""},null,null,null,null,null,null,null,null,null,null,null,null,null,{"$f":"BF559+1","v":181},{"$f":"IF(ISNA($DL592),\"\",VLOOKUP($DL592,請求明細,3,FALSE))","v":""},null,null,{"$f":"IF(ISNA($DL592),\"\",VLOOKUP($DL592,請求明細,4,FALSE))","v":""},null,null,null,{"$f":"IF(ISNA($DL592),\"\",getNumKeta0($DM592,9))","v":""},{"$f":"IF(ISNA($DL592),\"\",getNumKeta0($DM592,8))","v":""},{"$f":"IF(ISNA($DL592),\"\",getNumKeta0($DM592,7))","v":""},{"$f":"IF(ISNA($DL592),\"\",getNumKeta0($DM592,6))","v":""},{"$f":"IF(ISNA($DL592),\"\",getNumKeta0($DM592,5))","v":""},{"$f":"IF(ISNA($DL592),\"\",getNumKeta0($DM592,4))","v":""},{"$f":"IF(ISNA($DL592),\"\",getNumKeta0($DM592,3))","v":""},{"$f":"IF(ISNA($DL592),\"\",getNumKeta0($DM592,2))","v":""},{"$f":"IF(ISNA($DL592),\"\",getNumKeta0($DM592,1))","v":""},{"$f":"IF(ISNA($DL592),\"\",getNumKeta0($DM592,-1))","v":""},{"$f":"IF(ISNA($DL592),\"\",getNumKeta0($DM592,-2))","v":""},{"$f":"IF(ISNA($DL592),\"\",getNumKeta0($DM592,-3))","v":""},{"$f":"IF(ISNA($DL592),\"\",VLOOKUP($DL592,請求明細,6,FALSE))","v":""},{"$f":"IF(ISNA($DL592),\"\",getNumKeta0($DN592,9))","v":""},{"$f":"IF(ISNA($DL592),\"\",getNumKeta0($DN592,8))","v":""},{"$f":"IF(ISNA($DL592),\"\",getNumKeta0($DN592,7))","v":""},{"$f":"IF(ISNA($DL592),\"\",getNumKeta0($DN592,6))","v":""},{"$f":"IF(ISNA($DL592),\"\",getNumKeta0($DN592,5))","v":""},{"$f":"IF(ISNA($DL592),\"\",getNumKeta0($DN592,4))","v":""},{"$f":"IF(ISNA($DL592),\"\",getNumKeta0($DN592,3))","v":""},{"$f":"IF(ISNA($DL592),\"\",getNumKeta0($DN592,2))","v":""},{"$f":"IF(ISNA($DL592),\"\",getNumKeta0($DN592,1))","v":""},{"$f":"IF(ISNA($DL592),\"\",getNumKeta0($DN592,-1))","v":""},{"$f":"IF(ISNA($DL592),\"\",getNumKeta0($DN592,-2))","v":""},{"$f":"IF(ISNA($DL592),\"\",getNumKeta0($DN592,-3))","v":""},{"$f":"IF(ISNA($DL592),\"\",getNumKeta0($DO592,9))","v":""},{"$f":"IF(ISNA($DL592),\"\",getNumKeta0($DO592,8))","v":""},{"$f":"IF(ISNA($DL592),\"\",getNumKeta0($DO592,7))","v":""},{"$f":"IF(ISNA($DL592),\"\",getNumKeta0($DO592,6))","v":""},{"$f":"IF(ISNA($DL592),\"\",getNumKeta0($DO592,5))","v":""},{"$f":"IF(ISNA($DL592),\"\",getNumKeta0($DO592,4))","v":""},{"$f":"IF(ISNA($DL592),\"\",getNumKeta0($DO592,3))","v":""},{"$f":"IF(ISNA($DL592),\"\",getNumKeta0($DO592,2))","v":""},{"$f":"IF(ISNA($DL592),\"\",getNumKeta0($DO592,1))","v":""},{"$f":"IF(ISNA($DL592),\"\",LEFT(VLOOKUP($DL592,請求明細,10,FALSE),16))","v":""},null,null,null,null,null,null,null,null,null,null,null,null,{"$f":"IF($E$14=OFFSET(明細情報!$B$5, $DK592-1,0),1,0)","v":0},{"$f":"IF($DI592=0, 0, SUM($DI$28:$DI592))","v":0},{"$f":"DK559+1","v":181},{"$f":"VLOOKUP(B592,$DJ$28:$DK$65536,2,FALSE)","v":{"$error":"#N/A"}},{"$f":"IF(ISNA($DL592),0,VLOOKUP($DL592,請求明細,5,FALSE))","v":0},{"$f":"IF(ISNA($DL592),0,VLOOKUP($DL592,請求明細,7,FALSE))","v":0},{"$f":"IF(ISNA($DL592),0,VLOOKUP($DL592,請求明細,9,FALSE))","v":0}]
[null,{"$f":"B592+1","v":182},"",null,null,"",null,null,null,"","","","","","","","","","","","","","","","","","","","","","","","","","","","","","","","","","","",null,null,null,null,null,null,null,null,null,null,null,null,null,{"$f":"BF592+1","v":182},"",null,null,"",null,null,null,"","","","","","","","","","","","","","","","","","","","","","","","","","","","","","","","","","","",null,null,null,null,null,null,null,null,null,null,null,null,{"$f":"IF($E$14=OFFSET(明細情報!$B$5, $DK593-1,0),1,0)","v":0},{"$f":"IF($DI593=0, 0, SUM($DI$28:$DI593))","v":0},{"$f":"DK592+1","v":182},{"$error":"#N/A"},0,0,0]
[null,183,"",null,null,"",null,null,null,"","","","","","","","","","","","","","","","","","","","","","","","","","","","","","","","","","","",null,null,null,null,null,null,null,null,null,null,null,null,null,183,"",null,null,"",null,null,null,"","","","","","","","","","","","","","","","","","","","","","","","","","","","","","","","","","","",null,null,null,null,null,null,null,null,null,null,null,null,{"$f":"IF($E$14=OFFSET(明細情報!$B$5, $DK594-1,0),1,0)","v":0},{"$f":"IF($DI594=0, 0, SUM($DI$28:$DI594))","v":0},183,{"$error":"#N/A"},0,0,0]
[null,184,"",null,null,"",null,null,null,"","","","","","","","","","","","","","","","","","","","","","","","","","","","","","","","","","","",null,null,null,null,null,null,null,null,null,null,null,null,null,184,"",null,null,"",null,null,null,"","","","","","","","","","","","","","","","","","","","","","","","","","","","","","","","","","","",null,null,null,null,null,null,null,null,null,null,null,null,{"$f":"IF($E$14=OFFSET(明細情報!$B$5, $DK595-1,0),1,0)","v":0},{"$f":"IF($DI595=0, 0, SUM($DI$28:$DI595))","v":0},184,{"$error":"#N/A"},0,0,0]
[null,185,"",null,null,"",null,null,null,"","","","","","","","","","","","","","","","","","","","","","","","","","","","","","","","","","","",null,null,null,null,null,null,null,null,null,null,null,null,null,185,"",null,null,"",null,null,null,"","","","","","","","","","","","","","","","","","","","","","","","","","","","","","","","","","","",null,null,null,null,null,null,null,null,null,null,null,null,{"$f":"IF($E$14=OFFSET(明細情報!$B$5, $DK596-1,0),1,0)","v":0},{"$f":"IF($DI596=0, 0, SUM($DI$28:$DI596))","v":0},185,{"$error":"#N/A"},0,0,0]
[null,186,"",null,null,"",null,null,null,"","","","","","","","","","","","","","","","","","","","","","","","","","","","","","","","","","","",null,null,null,null,null,null,null,null,null,null,null,null,null,186,"",null,null,"",null,null,null,"","","","","","","","","","","","","","","","","","","","","","","","","","","","","","","","","","","",null,null,null,null,null,null,null,null,null,null,null,null,{"$f":"IF($E$14=OFFSET(明細情報!$B$5, $DK597-1,0),1,0)","v":0},{"$f":"IF($DI597=0, 0, SUM($DI$28:$DI597))","v":0},186,{"$error":"#N/A"},0,0,0]
[null,187,"",null,null,"",null,null,null,"","","","","","","","","","","","","","","","","","","","","","","","","","","","","","","","","","","",null,null,null,null,null,null,null,null,null,null,null,null,null,187,"",null,null,"",null,null,null,"","","","","","","","","","","","","","","","","","","","","","","","","","","","","","","","","","","",null,null,null,null,null,null,null,null,null,null,null,null,{"$f":"IF($E$14=OFFSET(明細情報!$B$5, $DK598-1,0),1,0)","v":0},{"$f":"IF($DI598=0, 0, SUM($DI$28:$DI598))","v":0},187,{"$error":"#N/A"},0,0,0]
[null,188,"",null,null,"",null,null,null,"","","","","","","","","","","","","","","","","","","","","","","","","","","","","","","","","","","",null,null,null,null,null,null,null,null,null,null,null,null,null,188,"",null,null,"",null,null,null,"","","","","","","","","","","","","","","","","","","","","","","","","","","","","","","","","","","",null,null,null,null,null,null,null,null,null,null,null,null,{"$f":"IF($E$14=OFFSET(明細情報!$B$5, $DK599-1,0),1,0)","v":0},{"$f":"IF($DI599=0, 0, SUM($DI$28:$DI599))","v":0},188,{"$error":"#N/A"},0,0,0]
[null,189,"",null,null,"",null,null,null,"","","","","","","","","","","","","","","","","","","","","","","","","","","","","","","","","","","",null,null,null,null,null,null,null,null,null,null,null,null,null,189,"",null,null,"",null,null,null,"","","","","","","","","","","","","","","","","","","","","","","","","","","","","","","","","","","",null,null,null,null,null,null,null,null,null,null,null,null,{"$f":"IF($E$14=OFFSET(明細情報!$B$5, $DK600-1,0),1,0)","v":0},{"$f":"IF($DI600=0, 0, SUM($DI$28:$DI600))","v":0},189,{"$error":"#N/A"},0,0,0]
[null,190,"",null,null,"",null,null,null,"","","","","","","","","","","","","","","","","","","","","","","","","","","","","","","","","","","",null,null,null,null,null,null,null,null,null,null,null,null,null,190,"",null,null,"",null,null,null,"","","","","","","","","","","","","","","","","","","","","","","","","","","","","","","","","","","",null,null,null,null,null,null,null,null,null,null,null,null,{"$f":"IF($E$14=OFFSET(明細情報!$B$5, $DK601-1,0),1,0)","v":0},{"$f":"IF($DI601=0, 0, SUM($DI$28:$DI601))","v":0},190,{"$error":"#N/A"},0,0,0]
[null,191,"",null,null,"",null,null,null,"","","","","","","","","","","","","","","","","","","","","","","","","","","","","","","","","","","",null,null,null,null,null,null,null,null,null,null,null,null,null,191,"",null,null,"",null,null,null,"","","","","","","","","","","","","","","","","","","","","","","","","","","","","","","","","","","",null,null,null,null,null,null,null,null,null,null,null,null,{"$f":"IF($E$14=OFFSET(明細情報!$B$5, $DK602-1,0),1,0)","v":0},{"$f":"IF($DI602=0, 0, SUM($DI$28:$DI602))","v":0},191,{"$error":"#N/A"},0,0,0]
[null,192,"",null,null,"",null,null,null,"","","","","","","","","","","","","","","","","","","","","","","","","","","","","","","","","","","",null,null,null,null,null,null,null,null,null,null,null,null,null,192,"",null,null,"",null,null,null,"","","","","","","","","","","","","","","","","","","","","","","","","","","","","","","","","","","",null,null,null,null,null,null,null,null,null,null,null,null,{"$f":"IF($E$14=OFFSET(明細情報!$B$5, $DK603-1,0),1,0)","v":0},{"$f":"IF($DI603=0, 0, SUM($DI$28:$DI603))","v":0},192,{"$error":"#N/A"},0,0,0]
[null,193,"",null,null,"",null,null,null,"","","","","","","","","","","","","","","","","","","","","","","","","","","","","","","","","","","",null,null,null,null,null,null,null,null,null,null,null,null,null,193,"",null,null,"",null,null,null,"","","","","","","","","","","","","","","","","","","","","","","","","","","","","","","","","","","",null,null,null,null,null,null,null,null,null,null,null,null,{"$f":"IF($E$14=OFFSET(明細情報!$B$5, $DK604-1,0),1,0)","v":0},{"$f":"IF($DI604=0, 0, SUM($DI$28:$DI604))","v":0},193,{"$error":"#N/A"},0,0,0]
[null,194,"",null,null,"",null,null,null,"","","","","","","","","","","","","","","","","","","","","","","","","","","","","","","","","","","",null,null,null,null,null,null,null,null,null,null,null,null,null,194,"",null,null,"",null,null,null,"","","","","","","","","","","","","","","","","","","","","","","","","","","","","","","","","","","",null,null,null,null,null,null,null,null,null,null,null,null,{"$f":"IF($E$14=OFFSET(明細情報!$B$5, $DK605-1,0),1,0)","v":0},{"$f":"IF($DI605=0, 0, SUM($DI$28:$DI605))","v":0},194,{"$error":"#N/A"},0,0,0]
[null,195,"",null,null,"",null,null,null,"","","","","","","","","","","","","","","","","","","","","","","","","","","","","","","","","","","",null,null,null,null,null,null,null,null,null,null,null,null,null,195,"",null,null,"",null,null,null,"","","","","","","","","","","","","","","","","","","","","","","","","","","","","","","","","","","",null,null,null,null,null,null,null,null,null,null,null,null,{"$f":"IF($E$14=OFFSET(明細情報!$B$5, $DK606-1,0),1,0)","v":0},{"$f":"IF($DI606=0, 0, SUM($DI$28:$DI606))","v":0},195,{"$error":"#N/A"},0,0,0]
[null,null,null,null,null,null,null,null,null,null,null,null,null,null,null,null,null,null,null,null,null,null,"　　小　　　　　　計",null,null,null,null,null,null,null,null,null,null,null,{"$f":"getNumKeta0($DP607,9)","v":""},{"$f":"getNumKeta0($DP607,8)","v":""},{"$f":"getNumKeta0($DP607,7)","v":""},{"$f":"getNumKeta0($DP607,6)","v":""},{"$f":"getNumKeta0($DP607,5)","v":""},{"$f":"getNumKeta0($DP607,4)","v":""},{"$f":"getNumKeta0($DP607,3)","v":""},{"$f":"getNumKeta0($DP607,2)","v":""},{"$f":"getNumKeta0($DP607,1)","v":""},"Ａ",{"$f":"IF($DQ607=0,\"\", $DQ607)","v":""},null,null,null,null,null,null,null,null,{"$f":"IF($DP607<>$DQ607,\"*\",\"\")","v":""},null,null,null,null,null,null,null,null,null,null,null,null,null,null,null,null,null,null,null,null,null,null,null,null,"　　小　　　　　　計",null,null,null,null,null,null,null,null,null,null,null,{"$f":"getNumKeta0($DP607,9)","v":""},{"$f":"getNumKeta0($DP607,8)","v":""},{"$f":"getNumKeta0($DP607,7)","v":""},{"$f":"getNumKeta0($DP607,6)","v":""},{"$f":"getNumKeta0($DP607,5)","v":""},{"$f":"getNumKeta0($DP607,4)","v":""},{"$f":"getNumKeta0($DP607,3)","v":""},{"$f":"getNumKeta0($DP607,2)","v":""},{"$f":"getNumKeta0($DP607,1)","v":""},"Ａ",{"$f":"IF($DQ607=0,\"\", $DQ607)","v":""},null,null,null,null,null,null,null,null,{"$f":"IF($DP607<>$DQ607,\"*\",\"\")","v":""},null,null,null,null,null,null,null,null,null,{"$f":"IF($DK606/15=ROUNDUP(MAX($DJ:$DJ)/15,0),VLOOKUP($E$14,基本情報_工事名称マスタ,4,FALSE)+VLOOKUP($E$14,基本情報_工事名称マスタ,5,FALSE),0)","v":0},{"$f":"IF($DK606/15=ROUNDUP(MAX($DJ:$DJ)/15,0),DQ609-DQ608,0)","v":0}]
[null,null,null,null,null,null,null,null,null,null,null,null,null,null,null,null,null,null,null,null,null,null,"　消　費　税",null,null,null,null,null,null,null,{"$f":"基本情報_消費税率","v":0.1},null,null,null,{"$f":"getNumKeta0($DP608,9)","v":""},{"$f":"getNumKeta0($DP608,8)","v":""},{"$f":"getNumKeta0($DP608,7)","v":""},{"$f":"getNumKeta0($DP608,6)","v":""},{"$f":"getNumKeta0($DP608,5)","v":""},{"$f":"getNumKeta0($DP608,4)","v":""},{"$f":"getNumKeta0($DP608,3)","v":""},{"$f":"getNumKeta0($DP608,2)","v":""},{"$f":"getNumKeta0($DP608,1)","v":""},"Ｂ",{"$f":"IF($DQ608=0,\"\", $DQ608)","v":""},null,null,null,null,null,null,null,null,null,null,null,null,null,null,null,null,null,null,null,null,null,null,null,null,null,null,null,null,null,null,null,null,null,"　消　費　税",null,null,null,null,null,null,null,{"$f":"基本情報_消費税率","v":0.1},null,null,null,{"$f":"getNumKeta0($DP608,9)","v":""},{"$f":"getNumKeta0($DP608,8)","v":""},{"$f":"getNumKeta0($DP608,7)","v":""},{"$f":"getNumKeta0($DP608,6)","v":""},{"$f":"getNumKeta0($DP608,5)","v":""},{"$f":"getNumKeta0($DP608,4)","v":""},{"$f":"getNumKeta0($DP608,3)","v":""},{"$f":"getNumKeta0($DP608,2)","v":""},{"$f":"getNumKeta0($DP608,1)","v":""},"Ｂ",{"$f":"IF($DQ608=0,\"\", $DQ608)","v":""},null,null,null,null,null,null,null,null,null,null,null,null,null,null,null,null,null,null,{"$f":"IF($DK606/15=ROUNDUP(MAX($DJ:$DJ)/15,0),VLOOKUP($E$14,基本情報_工事名称マスタ,6,FALSE),0)","v":0},{"$f":"IF($DK606/15=ROUNDUP(MAX($DJ:$DJ)/15,0),ROUND((DQ609-VLOOKUP($E$14,基本情報_工事名称マスタ,5,FALSE))/(基本情報_消費税率*100+100)*(基本情報_消費税率*100),0),0)","v":0}]
[null,null,null,null,null,null,null,null,null,null,null,null,null,null,null,null,null,null,null,null,null,null,"　　合　　　　　　計",null,null,null,null,null,null,null,null,null,null,null,{"$f":"getNumKeta0($DP609,9)","v":""},{"$f":"getNumKeta0($DP609,8)","v":""},{"$f":"getNumKeta0($DP609,7)","v":""},{"$f":"getNumKeta0($DP609,6)","v":""},{"$f":"getNumKeta0($DP609,5)","v":""},{"$f":"getNumKeta0($DP609,4)","v":""},{"$f":"getNumKeta0($DP609,3)","v":""},{"$f":"getNumKeta0($DP609,2)","v":""},{"$f":"getNumKeta0($DP609,1)","v":""},"Ｃ",{"$f":"IF($DQ609=0,\"\", $DQ609)","v":""},null,null,null,null,null,null,null,null,null,null,null,null,null,null,null,null,null,null,null,null,null,null,null,null,null,null,null,null,null,null,null,null,null,"　　合　　　　　　計",null,null,null,null,null,null,null,null,null,null,null,{"$f":"getNumKeta0($DP609,9)","v":""},{"$f":"getNumKeta0($DP609,8)","v":""},{"$f":"getNumKeta0($DP609,7)","v":""},{"$f":"getNumKeta0($DP609,6)","v":""},{"$f":"getNumKeta0($DP609,5)","v":""},{"$f":"getNumKeta0($DP609,4)","v":""},{"$f":"getNumKeta0($DP609,3)","v":""},{"$f":"getNumKeta0($DP609,2)","v":""},{"$f":"getNumKeta0($DP609,1)","v":""},"Ｃ",{"$f":"IF($DQ609=0,\"\", $DQ609)","v":""},null,null,null,null,null,null,null,null,null,null,null,null,null,null,null,null,null,null,{"$f":"IF($DK606/15=ROUNDUP(MAX($DJ:$DJ)/15,0),VLOOKUP($E$14,基本情報_工事名称マスタ,7,FALSE),0)","v":0},{"$f":"DP609","v":0}]
[null,null,null,null,null,null,null,null,null,null,null,null,null,null,null,null,null,null,null,null,null,null,"貴社→請求書(添付)→経理(控)",null,null,null,null,null,null,null,null,null,null,null,null,null,null,null,null,null,null,null,null,null,null,null,null,null,null,null,null,null,null,null,null,null,null,null,null,null,null,null,null,null,null,null,null,null,null,null,null,null,null,null,null,null,null,null,"貴社→請求書(添付)→経理→作業所長(控)"]
[]
[null,null,null,null,null,null,null,null,null,null,null,null,null,null,null,null,null,null,null,null,null,null,null,null,null,null,null,null,null,null,null,null,null,null,null,null,null,null,null,null,null,null,null,null,{"$f":"\"P \" & B653/15 & \"/\" & ROUNDUP(COUNTIF(請求明細_工事場所, E625)/15,0)","v":"P 14/1"},null,null,null,null,null,null,null,null,null,null,null,null,null,null,null,null,null,null,null,null,null,null,null,null,null,null,null,null,null,null,null,null,null,null,null,null,null,null,null,null,null,null,null,null,null,null,null,null,null,null,null,null,null,null,null,{"$f":"\"P \" & BF653/15 & \"/\" & ROUNDUP(COUNTIF(請求明細_工事場所, BI625)/15,0)","v":"P 14/1"}]
[null,null,null,"請求明細書（一般）",null,null,null,null,null,null,null,null,null,null,null,null,null,null,null,null,null,null,null,null,null,"取引先",null,null,{"$f":"基本情報_取引先コード","v":999999},null,null,null,null,null,null,null,null,null,"締\n日",null,null,{"$f":"基本情報_請求締日","v":"2020-07-31"},null,null,null,null,null,null,null,null,null,null,null,null,null,null,null,null,null,"請求明細書（一般）",null,null,null,null,null,null,null,null,null,null,null,null,null,null,null,null,null,null,null,null,null,"取引先",null,null,{"$f":"基本情報_取引先コード","v":999999},null,null,null,null,null,null,null,null,null,"締\n日",null,null,{"$f":"基本情報_請求締日","v":"2020-07-31"}]
[null,null,null,null,null,null,null,null,null,"提出用",null,null,null,null,null,null,null,null,null,null,null,null,null,null,null,null,null,null,null,null,null,null,null,null,null,null,null,null,null,null,null,null,null,null,null,null,null,null,null,null,null,null,null,null,null,null,null,null,null,null,null,null,null,null,null,"提出用"]
[]
[null,null,null,null,null,null,null,null,null,null,null,null,null,null,null,null,null,null,null,null,null,null,null,null,null,"コード",null,null,null,null,null,null,null,null,null,null,null,null,null,null,null,null,null,null,null,null,null,null,null,null,null,null,null,null,null,null,null,null,null,null,null,null,null,null,null,null,null,null,null,null,null,null,null,null,null,null,null,null,null,null,null,"コード"]
[]
[]
[null,"丸高・みなと特定建設工事共同企業体　御中",null,null,null,null,null,null,null,null,null,null,null,null,null,null,null,null,null,null,null,null,null,null,null,"（住所・社名・電話）",null,null,null,null,null,null,null,null,null,null,null,null,null,null,null,null,null,null,null,null,null,null,null,null,null,null,null,null,null,null,null,"丸高・みなと特定建設工事共同企業体　御中",null,null,null,null,null,null,null,null,null,null,null,null,null,null,null,null,null,null,null,null,null,null,null,"（住所・社名・電話）"]
[]
[]
[]
[null,null,null,null,null,null,null,null,null,null,null,null,null,null,null,null,null,null,null,null,null,null,null,null,null,null,null,null,{"$f":"基本情報_住所","v":"酒田市○○○○１－１"},null,null,null,null,null,null,null,null,null,null,null,null,null,null,null,null,null,null,null,null,null,null,null,null,null,null,null,null,null,null,null,null,null,null,null,null,null,null,null,null,null,null,null,null,null,null,null,null,null,null,null,null,null,null,null,{"$f":"基本情報_住所","v":"酒田市○○○○１－１"}]
[]
[null,"工　事　名",null,null,{"$f":"$E$14","v":"×××××工事"},null,null,null,null,null,null,null,null,null,null,"承　　認",null,null,null,null,null,"検　　印",null,null,null,null,null,null,null,null,null,null,null,null,null,null,null,null,null,null,null,null,null,null,null,null,null,null,null,null,null,null,null,null,null,null,null,"工　事　名",null,null,{"$f":"$E$14","v":"×××××工事"},null,null,null,null,null,null,null,null,null,null,"承　　認",null,null,null,null,null,"検　　印"]
[]
[]
[null,null,null,null,null,null,null,null,null,null,null,null,null,null,null,null,null,null,null,null,null,null,null,null,null,null,null,null,{"$f":"基本情報_社名","v":"(株）○○建設"},null,null,null,null,null,null,null,null,null,null,null,null,null,null,null,null,null,null,null,null,null,"印",null,null,null,null,null,null,null,null,null,null,null,null,null,null,null,null,null,null,null,null,null,null,null,null,null,null,null,null,null,null,null,null,null,{"$f":"基本情報_社名","v":"(株）○○建設"},null,null,null,null,null,null,null,null,null,null,null,null,null,null,null,null,null,null,null,null,null,"印"]
[]
[]
[null,"作業所長名",null,null,{"$f":"VLOOKUP(E625,基本情報_工事名称マスタ,3,FALSE)","v":"××次郎"},null,null,null,null,null,null,null,null,null,null,null,null,null,null,null,null,null,null,null,null,null,null,null,null,null,null,null,null,null,null,null,null,null,null,null,null,null,null,null,null,null,null,null,null,null,null,null,null,null,null,null,null,"作業所長名",null,null,{"$f":"VLOOKUP(BI625,基本情報_工事名称マスタ,3,FALSE)","v":"××次郎"}]
[]
[null,null,null,null,null,null,null,null,null,null,null,null,null,null,null,null,null,null,null,null,null,null,null,null,null,null,null,null,{"$f":"基本情報_電話番号","v":"0234 - 00 - 0000"},null,null,null,null,null,null,null,null,null,null,null,null,null,null,null,null,null,null,null,null,null,null,null,null,null,null,null,null,null,null,null,null,null,null,null,null,null,null,null,null,null,null,null,null,null,null,null,null,null,null,null,null,null,null,null,{"$f":"基本情報_電話番号","v":"0234 - 00 - 0000"}]
[]
[]
[]
[]
[null,"通番","納入年月日",null,null,"品　名　・　規　格",null,null,null,"数　　　　量",null,null,null,null,null,null,null,null,null,null,null,"単 位","単　　　　価",null,null,null,null,null,null,null,null,null,null,null,"金　　　額",null,null,null,null,null,null,null,null,"備　考",null,null,null,null,null,null,null,null,null,null,null,null,null,"通番","納入年月日",null,null,"品　名　・　規　格",null,null,null,"数　　　　量",null,null,null,null,null,null,null,null,null,null,null,"単 位","単　　　　価",null,null,null,null,null,null,null,null,null,null,null,"金　　　額",null,null,null,null,null,null,null,null,"備　考",null,null,null,null,null,null,null,null,null,null,null,null,"ヒット","ランク","-","通番","数量","単価","金額"]
[null,{"$f":"B606+1","v":196},{"$f":"IF(ISNA($DL639),\"\",VLOOKUP($DL639,請求明細,3,FALSE))","v":""},null,null,{"$f":"IF(ISNA($DL639),\"\",VLOOKUP($DL639,請求明細,4,FALSE))","v":""},null,null,null,{"$f":"IF(ISNA($DL639),\"\",getNumKeta0($DM639,9))","v":""},{"$f":"IF(ISNA($DL639),\"\",getNumKeta0($DM639,8))","v":""},{"$f":"IF(ISNA($DL639),\"\",getNumKeta0($DM639,7))","v":""},{"$f":"IF(ISNA($DL639),\"\",getNumKeta0($DM639,6))","v":""},{"$f":"IF(ISNA($DL639),\"\",getNumKeta0($DM639,5))","v":""},{"$f":"IF(ISNA($DL639),\"\",getNumKeta0($DM639,4))","v":""},{"$f":"IF(ISNA($DL639),\"\",getNumKeta0($DM639,3))","v":""},{"$f":"IF(ISNA($DL639),\"\",getNumKeta0($DM639,2))","v":""},{"$f":"IF(ISNA($DL639),\"\",getNumKeta0($DM639,1))","v":""},{"$f":"IF(ISNA($DL639),\"\",getNumKeta0($DM639,-1))","v":""},{"$f":"IF(ISNA($DL639),\"\",getNumKeta0($DM639,-2))","v":""},{"$f":"IF(ISNA($DL639),\"\",getNumKeta0($DM639,-3))","v":""},{"$f":"IF(ISNA($DL639),\"\",VLOOKUP($DL639,請求明細,6,FALSE))","v":""},{"$f":"IF(ISNA($DL639),\"\",getNumKeta0($DN639,9))","v":""},{"$f":"IF(ISNA($DL639),\"\",getNumKeta0($DN639,8))","v":""},{"$f":"IF(ISNA($DL639),\"\",getNumKeta0($DN639,7))","v":""},{"$f":"IF(ISNA($DL639),\"\",getNumKeta0($DN639,6))","v":""},{"$f":"IF(ISNA($DL639),\"\",getNumKeta0($DN639,5))","v":""},{"$f":"IF(ISNA($DL639),\"\",getNumKeta0($DN639,4))","v":""},{"$f":"IF(ISNA($DL639),\"\",getNumKeta0($DN639,3))","v":""},{"$f":"IF(ISNA($DL639),\"\",getNumKeta0($DN639,2))","v":""},{"$f":"IF(ISNA($DL639),\"\",getNumKeta0($DN639,1))","v":""},{"$f":"IF(ISNA($DL639),\"\",getNumKeta0($DN639,-1))","v":""},{"$f":"IF(ISNA($DL639),\"\",getNumKeta0($DN639,-2))","v":""},{"$f":"IF(ISNA($DL639),\"\",getNumKeta0($DN639,-3))","v":""},{"$f":"IF(ISNA($DL639),\"\",getNumKeta0($DO639,9))","v":""},{"$f":"IF(ISNA($DL639),\"\",getNumKeta0($DO639,8))","v":""},{"$f":"IF(ISNA($DL639),\"\",getNumKeta0($DO639,7))","v":""},{"$f":"IF(ISNA($DL639),\"\",getNumKeta0($DO639,6))","v":""},{"$f":"IF(ISNA($DL639),\"\",getNumKeta0($DO639,5))","v":""},{"$f":"IF(ISNA($DL639),\"\",getNumKeta0($DO639,4))","v":""},{"$f":"IF(ISNA($DL639),\"\",getNumKeta0($DO639,3))","v":""},{"$f":"IF(ISNA($DL639),\"\",getNumKeta0($DO639,2))","v":""},{"$f":"IF(ISNA($DL639),\"\",getNumKeta0($DO639,1))","v":""},{"$f":"IF(ISNA($DL639),\"\",LEFT(VLOOKUP($DL639,請求明細,10,FALSE),16))","v":""},null,null,null,null,null,null,null,null,null,null,null,null,null,{"$f":"BF606+1","v":196},{"$f":"IF(ISNA($DL639),\"\",VLOOKUP($DL639,請求明細,3,FALSE))","v":""},null,null,{"$f":"IF(ISNA($DL639),\"\",VLOOKUP($DL639,請求明細,4,FALSE))","v":""},null,null,null,{"$f":"IF(ISNA($DL639),\"\",getNumKeta0($DM639,9))","v":""},{"$f":"IF(ISNA($DL639),\"\",getNumKeta0($DM639,8))","v":""},{"$f":"IF(ISNA($DL639),\"\",getNumKeta0($DM639,7))","v":""},{"$f":"IF(ISNA($DL639),\"\",getNumKeta0($DM639,6))","v":""},{"$f":"IF(ISNA($DL639),\"\",getNumKeta0($DM639,5))","v":""},{"$f":"IF(ISNA($DL639),\"\",getNumKeta0($DM639,4))","v":""},{"$f":"IF(ISNA($DL639),\"\",getNumKeta0($DM639,3))","v":""},{"$f":"IF(ISNA($DL639),\"\",getNumKeta0($DM639,2))","v":""},{"$f":"IF(ISNA($DL639),\"\",getNumKeta0($DM639,1))","v":""},{"$f":"IF(ISNA($DL639),\"\",getNumKeta0($DM639,-1))","v":""},{"$f":"IF(ISNA($DL639),\"\",getNumKeta0($DM639,-2))","v":""},{"$f":"IF(ISNA($DL639),\"\",getNumKeta0($DM639,-3))","v":""},{"$f":"IF(ISNA($DL639),\"\",VLOOKUP($DL639,請求明細,6,FALSE))","v":""},{"$f":"IF(ISNA($DL639),\"\",getNumKeta0($DN639,9))","v":""},{"$f":"IF(ISNA($DL639),\"\",getNumKeta0($DN639,8))","v":""},{"$f":"IF(ISNA($DL639),\"\",getNumKeta0($DN639,7))","v":""},{"$f":"IF(ISNA($DL639),\"\",getNumKeta0($DN639,6))","v":""},{"$f":"IF(ISNA($DL639),\"\",getNumKeta0($DN639,5))","v":""},{"$f":"IF(ISNA($DL639),\"\",getNumKeta0($DN639,4))","v":""},{"$f":"IF(ISNA($DL639),\"\",getNumKeta0($DN639,3))","v":""},{"$f":"IF(ISNA($DL639),\"\",getNumKeta0($DN639,2))","v":""},{"$f":"IF(ISNA($DL639),\"\",getNumKeta0($DN639,1))","v":""},{"$f":"IF(ISNA($DL639),\"\",getNumKeta0($DN639,-1))","v":""},{"$f":"IF(ISNA($DL639),\"\",getNumKeta0($DN639,-2))","v":""},{"$f":"IF(ISNA($DL639),\"\",getNumKeta0($DN639,-3))","v":""},{"$f":"IF(ISNA($DL639),\"\",getNumKeta0($DO639,9))","v":""},{"$f":"IF(ISNA($DL639),\"\",getNumKeta0($DO639,8))","v":""},{"$f":"IF(ISNA($DL639),\"\",getNumKeta0($DO639,7))","v":""},{"$f":"IF(ISNA($DL639),\"\",getNumKeta0($DO639,6))","v":""},{"$f":"IF(ISNA($DL639),\"\",getNumKeta0($DO639,5))","v":""},{"$f":"IF(ISNA($DL639),\"\",getNumKeta0($DO639,4))","v":""},{"$f":"IF(ISNA($DL639),\"\",getNumKeta0($DO639,3))","v":""},{"$f":"IF(ISNA($DL639),\"\",getNumKeta0($DO639,2))","v":""},{"$f":"IF(ISNA($DL639),\"\",getNumKeta0($DO639,1))","v":""},{"$f":"IF(ISNA($DL639),\"\",LEFT(VLOOKUP($DL639,請求明細,10,FALSE),16))","v":""},null,null,null,null,null,null,null,null,null,null,null,null,{"$f":"IF($E$14=OFFSET(明細情報!$B$5, $DK639-1,0),1,0)","v":0},{"$f":"IF($DI639=0, 0, SUM($DI$28:$DI639))","v":0},{"$f":"DK606+1","v":196},{"$f":"VLOOKUP(B639,$DJ$28:$DK$65536,2,FALSE)","v":{"$error":"#N/A"}},{"$f":"IF(ISNA($DL639),0,VLOOKUP($DL639,請求明細,5,FALSE))","v":0},{"$f":"IF(ISNA($DL639),0,VLOOKUP($DL639,請求明細,7,FALSE))","v":0},{"$f":"IF(ISNA($DL639),0,VLOOKUP($DL639,請求明細,9,FALSE))","v":0}]
[null,{"$f":"B639+1","v":197},"",null,null,"",null,null,null,"","","","","","","","","","","","","","","","","","","","","","","","","","","","","","","","","","","",null,null,null,null,null,null,null,null,null,null,null,null,null,{"$f":"BF639+1","v":197},"",null,null,"",null,null,null,"","","","","","","","","","","","","","","","","","","","","","","","","","","","","","","","","","","",null,null,null,null,null,null,null,null,null,null,null,null,{"$f":"IF($E$14=OFFSET(明細情報!$B$5, $DK640-1,0),1,0)","v":0},{"$f":"IF($DI640=0, 0, SUM($DI$28:$DI640))","v":0},{"$f":"DK639+1","v":197},{"$error":"#N/A"},0,0,0]
[null,198,"",null,null,"",null,null,null,"","","","","","","","","","","","","","","","","","","","","","","","","","","","","","","","","","","",null,null,null,null,null,null,null,null,null,null,null,null,null,198,"",null,null,"",null,null,null,"","","","","","","","","","","","","","","","","","","","","","","","","","","","","","","","","","","",null,null,null,null,null,null,null,null,null,null,null,null,{"$f":"IF($E$14=OFFSET(明細情報!$B$5, $DK641-1,0),1,0)","v":0},{"$f":"IF($DI641=0, 0, SUM($DI$28:$DI641))","v":0},198,{"$error":"#N/A"},0,0,0]
[null,199,"",null,null,"",null,null,null,"","","","","","","","","","","","","","","","","","","","","","","","","","","","","","","","","","","",null,null,null,null,null,null,null,null,null,null,null,null,null,199,"",null,null,"",null,null,null,"","","","","","","","","","","","","","","","","","","","","","","","","","","","","","","","","","","",null,null,null,null,null,null,null,null,null,null,null,null,{"$f":"IF($E$14=OFFSET(明細情報!$B$5, $DK642-1,0),1,0)","v":0},{"$f":"IF($DI642=0, 0, SUM($DI$28:$DI642))","v":0},199,{"$error":"#N/A"},0,0,0]
[null,200,"",null,null,"",null,null,null,"","","","","","","","","","","","","","","","","","","","","","","","","","","","","","","","","","","",null,null,null,null,null,null,null,null,null,null,null,null,null,200,"",null,null,"",null,null,null,"","","","","","","","","","","","","","","","","","","","","","","","","","","","","","","","","","","",null,null,null,null,null,null,null,null,null,null,null,null,{"$f":"IF($E$14=OFFSET(明細情報!$B$5, $DK643-1,0),1,0)","v":0},{"$f":"IF($DI643=0, 0, SUM($DI$28:$DI643))","v":0},200,{"$error":"#N/A"},0,0,0]
[null,201,"",null,null,"",null,null,null,"","","","","","","","","","","","","","","","","","","","","","","","","","","","","","","","","","","",null,null,null,null,null,null,null,null,null,null,null,null,null,201,"",null,null,"",null,null,null,"","","","","","","","","","","","","","","","","","","","","","","","","","","","","","","","","","","",null,null,null,null,null,null,null,null,null,null,null,null,{"$f":"IF($E$14=OFFSET(明細情報!$B$5, $DK644-1,0),1,0)","v":0},{"$f":"IF($DI644=0, 0, SUM($DI$28:$DI644))","v":0},201,{"$error":"#N/A"},0,0,0]
[null,202,"",null,null,"",null,null,null,"","","","","","","","","","","","","","","","","","","","","","","","","","","","","","","","","","","",null,null,null,null,null,null,null,null,null,null,null,null,null,202,"",null,null,"",null,null,null,"","","","","","","","","","","","","","","","","","","","","","","","","","","","","","","","","","","",null,null,null,null,null,null,null,null,null,null,null,null,{"$f":"IF($E$14=OFFSET(明細情報!$B$5, $DK645-1,0),1,0)","v":0},{"$f":"IF($DI645=0, 0, SUM($DI$28:$DI645))","v":0},202,{"$error":"#N/A"},0,0,0]
[null,203,"",null,null,"",null,null,null,"","","","","","","","","","","","","","","","","","","","","","","","","","","","","","","","","","","",null,null,null,null,null,null,null,null,null,null,null,null,null,203,"",null,null,"",null,null,null,"","","","","","","","","","","","","","","","","","","","","","","","","","","","","","","","","","","",null,null,null,null,null,null,null,null,null,null,null,null,{"$f":"IF($E$14=OFFSET(明細情報!$B$5, $DK646-1,0),1,0)","v":0},{"$f":"IF($DI646=0, 0, SUM($DI$28:$DI646))","v":0},203,{"$error":"#N/A"},0,0,0]
[null,204,"",null,null,"",null,null,null,"","","","","","","","","","","","","","","","","","","","","","","","","","","","","","","","","","","",null,null,null,null,null,null,null,null,null,null,null,null,null,204,"",null,null,"",null,null,null,"","","","","","","","","","","","","","","","","","","","","","","","","","","","","","","","","","","",null,null,null,null,null,null,null,null,null,null,null,null,{"$f":"IF($E$14=OFFSET(明細情報!$B$5, $DK647-1,0),1,0)","v":0},{"$f":"IF($DI647=0, 0, SUM($DI$28:$DI647))","v":0},204,{"$error":"#N/A"},0,0,0]
[null,205,"",null,null,"",null,null,null,"","","","","","","","","","","","","","","","","","","","","","","","","","","","","","","","","","","",null,null,null,null,null,null,null,null,null,null,null,null,null,205,"",null,null,"",null,null,null,"","","","","","","","","","","","","","","","","","","","","","","","","","","","","","","","","","","",null,null,null,null,null,null,null,null,null,null,null,null,{"$f":"IF($E$14=OFFSET(明細情報!$B$5, $DK648-1,0),1,0)","v":0},{"$f":"IF($DI648=0, 0, SUM($DI$28:$DI648))","v":0},205,{"$error":"#N/A"},0,0,0]
[null,206,"",null,null,"",null,null,null,"","","","","","","","","","","","","","","","","","","","","","","","","","","","","","","","","","","",null,null,null,null,null,null,null,null,null,null,null,null,null,206,"",null,null,"",null,null,null,"","","","","","","","","","","","","","","","","","","","","","","","","","","","","","","","","","","",null,null,null,null,null,null,null,null,null,null,null,null,{"$f":"IF($E$14=OFFSET(明細情報!$B$5, $DK649-1,0),1,0)","v":0},{"$f":"IF($DI649=0, 0, SUM($DI$28:$DI649))","v":0},206,{"$error":"#N/A"},0,0,0]
[null,207,"",null,null,"",null,null,null,"","","","","","","","","","","","","","","","","","","","","","","","","","","","","","","","","","","",null,null,null,null,null,null,null,null,null,null,null,null,null,207,"",null,null,"",null,null,null,"","","","","","","","","","","","","","","","","","","","","","","","","","","","","","","","","","","",null,null,null,null,null,null,null,null,null,null,null,null,{"$f":"IF($E$14=OFFSET(明細情報!$B$5, $DK650-1,0),1,0)","v":0},{"$f":"IF($DI650=0, 0, SUM($DI$28:$DI650))","v":0},207,{"$error":"#N/A"},0,0,0]
[null,208,"",null,null,"",null,null,null,"","","","","","","","","","","","","","","","","","","","","","","","","","","","","","","","","","","",null,null,null,null,null,null,null,null,null,null,null,null,null,208,"",null,null,"",null,null,null,"","","","","","","","","","","","","","","","","","","","","","","","","","","","","","","","","","","",null,null,null,null,null,null,null,null,null,null,null,null,{"$f":"IF($E$14=OFFSET(明細情報!$B$5, $DK651-1,0),1,0)","v":0},{"$f":"IF($DI651=0, 0, SUM($DI$28:$DI651))","v":0},208,{"$error":"#N/A"},0,0,0]
[null,209,"",null,null,"",null,null,null,"","","","","","","","","","","","","","","","","","","","","","","","","","","","","","","","","","","",null,null,null,null,null,null,null,null,null,null,null,null,null,209,"",null,null,"",null,null,null,"","","","","","","","","","","","","","","","","","","","","","","","","","","","","","","","","","","",null,null,null,null,null,null,null,null,null,null,null,null,{"$f":"IF($E$14=OFFSET(明細情報!$B$5, $DK652-1,0),1,0)","v":0},{"$f":"IF($DI652=0, 0, SUM($DI$28:$DI652))","v":0},209,{"$error":"#N/A"},0,0,0]
[null,210,"",null,null,"",null,null,null,"","","","","","","","","","","","","","","","","","","","","","","","","","","","","","","","","","","",null,null,null,null,null,null,null,null,null,null,null,null,null,210,"",null,null,"",null,null,null,"","","","","","","","","","","","","","","","","","","","","","","","","","","","","","","","","","","",null,null,null,null,null,null,null,null,null,null,null,null,{"$f":"IF($E$14=OFFSET(明細情報!$B$5, $DK653-1,0),1,0)","v":0},{"$f":"IF($DI653=0, 0, SUM($DI$28:$DI653))","v":0},210,{"$error":"#N/A"},0,0,0]
[null,null,null,null,null,null,null,null,null,null,null,null,null,null,null,null,null,null,null,null,null,null,"　　小　　　　　　計",null,null,null,null,null,null,null,null,null,null,null,{"$f":"getNumKeta0($DP654,9)","v":""},{"$f":"getNumKeta0($DP654,8)","v":""},{"$f":"getNumKeta0($DP654,7)","v":""},{"$f":"getNumKeta0($DP654,6)","v":""},{"$f":"getNumKeta0($DP654,5)","v":""},{"$f":"getNumKeta0($DP654,4)","v":""},{"$f":"getNumKeta0($DP654,3)","v":""},{"$f":"getNumKeta0($DP654,2)","v":""},{"$f":"getNumKeta0($DP654,1)","v":""},"Ａ",{"$f":"IF($DQ654=0,\"\", $DQ654)","v":""},null,null,null,null,null,null,null,null,{"$f":"IF($DP654<>$DQ654,\"*\",\"\")","v":""},null,null,null,null,null,null,null,null,null,null,null,null,null,null,null,null,null,null,null,null,null,null,null,null,"　　小　　　　　　計",null,null,null,null,null,null,null,null,null,null,null,{"$f":"getNumKeta0($DP654,9)","v":""},{"$f":"getNumKeta0($DP654,8)","v":""},{"$f":"getNumKeta0($DP654,7)","v":""},{"$f":"getNumKeta0($DP654,6)","v":""},{"$f":"getNumKeta0($DP654,5)","v":""},{"$f":"getNumKeta0($DP654,4)","v":""},{"$f":"getNumKeta0($DP654,3)","v":""},{"$f":"getNumKeta0($DP654,2)","v":""},{"$f":"getNumKeta0($DP654,1)","v":""},"Ａ",{"$f":"IF($DQ654=0,\"\", $DQ654)","v":""},null,null,null,null,null,null,null,null,{"$f":"IF($DP654<>$DQ654,\"*\",\"\")","v":""},null,null,null,null,null,null,null,null,null,{"$f":"IF($DK653/15=ROUNDUP(MAX($DJ:$DJ)/15,0),VLOOKUP($E$14,基本情報_工事名称マスタ,4,FALSE)+VLOOKUP($E$14,基本情報_工事名称マスタ,5,FALSE),0)","v":0},{"$f":"IF($DK653/15=ROUNDUP(MAX($DJ:$DJ)/15,0),DQ656-DQ655,0)","v":0}]
[null,null,null,null,null,null,null,null,null,null,null,null,null,null,null,null,null,null,null,null,null,null,"　消　費　税",null,null,null,null,null,null,null,{"$f":"基本情報_消費税率","v":0.1},null,null,null,{"$f":"getNumKeta0($DP655,9)","v":""},{"$f":"getNumKeta0($DP655,8)","v":""},{"$f":"getNumKeta0($DP655,7)","v":""},{"$f":"getNumKeta0($DP655,6)","v":""},{"$f":"getNumKeta0($DP655,5)","v":""},{"$f":"getNumKeta0($DP655,4)","v":""},{"$f":"getNumKeta0($DP655,3)","v":""},{"$f":"getNumKeta0($DP655,2)","v":""},{"$f":"getNumKeta0($DP655,1)","v":""},"Ｂ",{"$f":"IF($DQ655=0,\"\", $DQ655)","v":""},null,null,null,null,null,null,null,null,null,null,null,null,null,null,null,null,null,null,null,null,null,null,null,null,null,null,null,null,null,null,null,null,null,"　消　費　税",null,null,null,null,null,null,null,{"$f":"基本情報_消費税率","v":0.1},null,null,null,{"$f":"getNumKeta0($DP655,9)","v":""},{"$f":"getNumKeta0($DP655,8)","v":""},{"$f":"getNumKeta0($DP655,7)","v":""},{"$f":"getNumKeta0($DP655,6)","v":""},{"$f":"getNumKeta0($DP655,5)","v":""},{"$f":"getNumKeta0($DP655,4)","v":""},{"$f":"getNumKeta0($DP655,3)","v":""},{"$f":"getNumKeta0($DP655,2)","v":""},{"$f":"getNumKeta0($DP655,1)","v":""},"Ｂ",{"$f":"IF($DQ655=0,\"\", $DQ655)","v":""},null,null,null,null,null,null,null,null,null,null,null,null,null,null,null,null,null,null,{"$f":"IF($DK653/15=ROUNDUP(MAX($DJ:$DJ)/15,0),VLOOKUP($E$14,基本情報_工事名称マスタ,6,FALSE),0)","v":0},{"$f":"IF($DK653/15=ROUNDUP(MAX($DJ:$DJ)/15,0),ROUND((DQ656-VLOOKUP($E$14,基本情報_工事名称マスタ,5,FALSE))/(基本情報_消費税率*100+100)*(基本情報_消費税率*100),0),0)","v":0}]
[null,null,null,null,null,null,null,null,null,null,null,null,null,null,null,null,null,null,null,null,null,null,"　　合　　　　　　計",null,null,null,null,null,null,null,null,null,null,null,{"$f":"getNumKeta0($DP656,9)","v":""},{"$f":"getNumKeta0($DP656,8)","v":""},{"$f":"getNumKeta0($DP656,7)","v":""},{"$f":"getNumKeta0($DP656,6)","v":""},{"$f":"getNumKeta0($DP656,5)","v":""},{"$f":"getNumKeta0($DP656,4)","v":""},{"$f":"getNumKeta0($DP656,3)","v":""},{"$f":"getNumKeta0($DP656,2)","v":""},{"$f":"getNumKeta0($DP656,1)","v":""},"Ｃ",{"$f":"IF($DQ656=0,\"\", $DQ656)","v":""},null,null,null,null,null,null,null,null,null,null,null,null,null,null,null,null,null,null,null,null,null,null,null,null,null,null,null,null,null,null,null,null,null,"　　合　　　　　　計",null,null,null,null,null,null,null,null,null,null,null,{"$f":"getNumKeta0($DP656,9)","v":""},{"$f":"getNumKeta0($DP656,8)","v":""},{"$f":"getNumKeta0($DP656,7)","v":""},{"$f":"getNumKeta0($DP656,6)","v":""},{"$f":"getNumKeta0($DP656,5)","v":""},{"$f":"getNumKeta0($DP656,4)","v":""},{"$f":"getNumKeta0($DP656,3)","v":""},{"$f":"getNumKeta0($DP656,2)","v":""},{"$f":"getNumKeta0($DP656,1)","v":""},"Ｃ",{"$f":"IF($DQ656=0,\"\", $DQ656)","v":""},null,null,null,null,null,null,null,null,null,null,null,null,null,null,null,null,null,null,{"$f":"IF($DK653/15=ROUNDUP(MAX($DJ:$DJ)/15,0),VLOOKUP($E$14,基本情報_工事名称マスタ,7,FALSE),0)","v":0},{"$f":"DP656","v":0}]
[null,null,null,null,null,null,null,null,null,null,null,null,null,null,null,null,null,null,null,null,null,null,"貴社→請求書(添付)→経理(控)",null,null,null,null,null,null,null,null,null,null,null,null,null,null,null,null,null,null,null,null,null,null,null,null,null,null,null,null,null,null,null,null,null,null,null,null,null,null,null,null,null,null,null,null,null,null,null,null,null,null,null,null,null,null,null,"貴社→請求書(添付)→経理→作業所長(控)"]
[]
[null,null,null,null,null,null,null,null,null,null,null,null,null,null,null,null,null,null,null,null,null,null,null,null,null,null,null,null,null,null,null,null,null,null,null,null,null,null,null,null,null,null,null,null,{"$f":"\"P \" & B700/15 & \"/\" & ROUNDUP(COUNTIF(請求明細_工事場所, E672)/15,0)","v":"P 15/1"},null,null,null,null,null,null,null,null,null,null,null,null,null,null,null,null,null,null,null,null,null,null,null,null,null,null,null,null,null,null,null,null,null,null,null,null,null,null,null,null,null,null,null,null,null,null,null,null,null,null,null,null,null,null,null,{"$f":"\"P \" & BF700/15 & \"/\" & ROUNDUP(COUNTIF(請求明細_工事場所, BI672)/15,0)","v":"P 15/1"}]
[null,null,null,"請求明細書（一般）",null,null,null,null,null,null,null,null,null,null,null,null,null,null,null,null,null,null,null,null,null,"取引先",null,null,{"$f":"基本情報_取引先コード","v":999999},null,null,null,null,null,null,null,null,null,"締\n日",null,null,{"$f":"基本情報_請求締日","v":"2020-07-31"},null,null,null,null,null,null,null,null,null,null,null,null,null,null,null,null,null,"請求明細書（一般）",null,null,null,null,null,null,null,null,null,null,null,null,null,null,null,null,null,null,null,null,null,"取引先",null,null,{"$f":"基本情報_取引先コード","v":999999},null,null,null,null,null,null,null,null,null,"締\n日",null,null,{"$f":"基本情報_請求締日","v":"2020-07-31"}]
[null,null,null,null,null,null,null,null,null,"提出用",null,null,null,null,null,null,null,null,null,null,null,null,null,null,null,null,null,null,null,null,null,null,null,null,null,null,null,null,null,null,null,null,null,null,null,null,null,null,null,null,null,null,null,null,null,null,null,null,null,null,null,null,null,null,null,"提出用"]
[]
[null,null,null,null,null,null,null,null,null,null,null,null,null,null,null,null,null,null,null,null,null,null,null,null,null,"コード",null,null,null,null,null,null,null,null,null,null,null,null,null,null,null,null,null,null,null,null,null,null,null,null,null,null,null,null,null,null,null,null,null,null,null,null,null,null,null,null,null,null,null,null,null,null,null,null,null,null,null,null,null,null,null,"コード"]
[]
[]
[null,"丸高・みなと特定建設工事共同企業体　御中",null,null,null,null,null,null,null,null,null,null,null,null,null,null,null,null,null,null,null,null,null,null,null,"（住所・社名・電話）",null,null,null,null,null,null,null,null,null,null,null,null,null,null,null,null,null,null,null,null,null,null,null,null,null,null,null,null,null,null,null,"丸高・みなと特定建設工事共同企業体　御中",null,null,null,null,null,null,null,null,null,null,null,null,null,null,null,null,null,null,null,null,null,null,null,"（住所・社名・電話）"]
[]
[]
[]
[null,null,null,null,null,null,null,null,null,null,null,null,null,null,null,null,null,null,null,null,null,null,null,null,null,null,null,null,{"$f":"基本情報_住所","v":"酒田市○○○○１－１"},null,null,null,null,null,null,null,null,null,null,null,null,null,null,null,null,null,null,null,null,null,null,null,null,null,null,null,null,null,null,null,null,null,null,null,null,null,null,null,null,null,null,null,null,null,null,null,null,null,null,null,null,null,null,null,{"$f":"基本情報_住所","v":"酒田市○○○○１－１"}]
[]
[null,"工　事　名",null,null,{"$f":"$E$14","v":"×××××工事"},null,null,null,null,null,null,null,null,null,null,"承　　認",null,null,null,null,null,"検　　印",null,null,null,null,null,null,null,null,null,null,null,null,null,null,null,null,null,null,null,null,null,null,null,null,null,null,null,null,null,null,null,null,null,null,null,"工　事　名",null,null,{"$f":"$E$14","v":"×××××工事"},null,null,null,null,null,null,null,null,null,null,"承　　認",null,null,null,null,null,"検　　印"]
[]
[]
[null,null,null,null,null,null,null,null,null,null,null,null,null,null,null,null,null,null,null,null,null,null,null,null,null,null,null,null,{"$f":"基本情報_社名","v":"(株）○○建設"},null,null,null,null,null,null,null,null,null,null,null,null,null,null,null,null,null,null,null,null,null,"印",null,null,null,null,null,null,null,null,null,null,null,null,null,null,null,null,null,null,null,null,null,null,null,null,null,null,null,null,null,null,null,null,null,{"$f":"基本情報_社名","v":"(株）○○建設"},null,null,null,null,null,null,null,null,null,null,null,null,null,null,null,null,null,null,null,null,null,"印"]
[]
[]
[null,"作業所長名",null,null,{"$f":"VLOOKUP(E672,基本情報_工事名称マスタ,3,FALSE)","v":"××次郎"},null,null,null,null,null,null,null,null,null,null,null,null,null,null,null,null,null,null,null,null,null,null,null,null,null,null,null,null,null,null,null,null,null,null,null,null,null,null,null,null,null,null,null,null,null,null,null,null,null,null,null,null,"作業所長名",null,null,{"$f":"VLOOKUP(BI672,基本情報_工事名称マスタ,3,FALSE)","v":"××次郎"}]
[]
[null,null,null,null,null,null,null,null,null,null,null,null,null,null,null,null,null,null,null,null,null,null,null,null,null,null,null,null,{"$f":"基本情報_電話番号","v":"0234 - 00 - 0000"},null,null,null,null,null,null,null,null,null,null,null,null,null,null,null,null,null,null,null,null,null,null,null,null,null,null,null,null,null,null,null,null,null,null,null,null,null,null,null,null,null,null,null,null,null,null,null,null,null,null,null,null,null,null,null,{"$f":"基本情報_電話番号","v":"0234 - 00 - 0000"}]
[]
[]
[]
[]
[null,"通番","納入年月日",null,null,"品　名　・　規　格",null,null,null,"数　　　　量",null,null,null,null,null,null,null,null,null,null,null,"単 位","単　　　　価",null,null,null,null,null,null,null,null,null,null,null,"金　　　額",null,null,null,null,null,null,null,null,"備　考",null,null,null,null,null,null,null,null,null,null,null,null,null,"通番","納入年月日",null,null,"品　名　・　規　格",null,null,null,"数　　　　量",null,null,null,null,null,null,null,null,null,null,null,"単 位","単　　　　価",null,null,null,null,null,null,null,null,null,null,null,"金　　　額",null,null,null,null,null,null,null,null,"備　考",null,null,null,null,null,null,null,null,null,null,null,null,"ヒット","ランク","-","通番","数量","単価","金額"]
[null,{"$f":"B653+1","v":211},{"$f":"IF(ISNA($DL686),\"\",VLOOKUP($DL686,請求明細,3,FALSE))","v":""},null,null,{"$f":"IF(ISNA($DL686),\"\",VLOOKUP($DL686,請求明細,4,FALSE))","v":""},null,null,null,{"$f":"IF(ISNA($DL686),\"\",getNumKeta0($DM686,9))","v":""},{"$f":"IF(ISNA($DL686),\"\",getNumKeta0($DM686,8))","v":""},{"$f":"IF(ISNA($DL686),\"\",getNumKeta0($DM686,7))","v":""},{"$f":"IF(ISNA($DL686),\"\",getNumKeta0($DM686,6))","v":""},{"$f":"IF(ISNA($DL686),\"\",getNumKeta0($DM686,5))","v":""},{"$f":"IF(ISNA($DL686),\"\",getNumKeta0($DM686,4))","v":""},{"$f":"IF(ISNA($DL686),\"\",getNumKeta0($DM686,3))","v":""},{"$f":"IF(ISNA($DL686),\"\",getNumKeta0($DM686,2))","v":""},{"$f":"IF(ISNA($DL686),\"\",getNumKeta0($DM686,1))","v":""},{"$f":"IF(ISNA($DL686),\"\",getNumKeta0($DM686,-1))","v":""},{"$f":"IF(ISNA($DL686),\"\",getNumKeta0($DM686,-2))","v":""},{"$f":"IF(ISNA($DL686),\"\",getNumKeta0($DM686,-3))","v":""},{"$f":"IF(ISNA($DL686),\"\",VLOOKUP($DL686,請求明細,6,FALSE))","v":""},{"$f":"IF(ISNA($DL686),\"\",getNumKeta0($DN686,9))","v":""},{"$f":"IF(ISNA($DL686),\"\",getNumKeta0($DN686,8))","v":""},{"$f":"IF(ISNA($DL686),\"\",getNumKeta0($DN686,7))","v":""},{"$f":"IF(ISNA($DL686),\"\",getNumKeta0($DN686,6))","v":""},{"$f":"IF(ISNA($DL686),\"\",getNumKeta0($DN686,5))","v":""},{"$f":"IF(ISNA($DL686),\"\",getNumKeta0($DN686,4))","v":""},{"$f":"IF(ISNA($DL686),\"\",getNumKeta0($DN686,3))","v":""},{"$f":"IF(ISNA($DL686),\"\",getNumKeta0($DN686,2))","v":""},{"$f":"IF(ISNA($DL686),\"\",getNumKeta0($DN686,1))","v":""},{"$f":"IF(ISNA($DL686),\"\",getNumKeta0($DN686,-1))","v":""},{"$f":"IF(ISNA($DL686),\"\",getNumKeta0($DN686,-2))","v":""},{"$f":"IF(ISNA($DL686),\"\",getNumKeta0($DN686,-3))","v":""},{"$f":"IF(ISNA($DL686),\"\",getNumKeta0($DO686,9))","v":""},{"$f":"IF(ISNA($DL686),\"\",getNumKeta0($DO686,8))","v":""},{"$f":"IF(ISNA($DL686),\"\",getNumKeta0($DO686,7))","v":""},{"$f":"IF(ISNA($DL686),\"\",getNumKeta0($DO686,6))","v":""},{"$f":"IF(ISNA($DL686),\"\",getNumKeta0($DO686,5))","v":""},{"$f":"IF(ISNA($DL686),\"\",getNumKeta0($DO686,4))","v":""},{"$f":"IF(ISNA($DL686),\"\",getNumKeta0($DO686,3))","v":""},{"$f":"IF(ISNA($DL686),\"\",getNumKeta0($DO686,2))","v":""},{"$f":"IF(ISNA($DL686),\"\",getNumKeta0($DO686,1))","v":""},{"$f":"IF(ISNA($DL686),\"\",LEFT(VLOOKUP($DL686,請求明細,10,FALSE),16))","v":""},null,null,null,null,null,null,null,null,null,null,null,null,null,{"$f":"BF653+1","v":211},{"$f":"IF(ISNA($DL686),\"\",VLOOKUP($DL686,請求明細,3,FALSE))","v":""},null,null,{"$f":"IF(ISNA($DL686),\"\",VLOOKUP($DL686,請求明細,4,FALSE))","v":""},null,null,null,{"$f":"IF(ISNA($DL686),\"\",getNumKeta0($DM686,9))","v":""},{"$f":"IF(ISNA($DL686),\"\",getNumKeta0($DM686,8))","v":""},{"$f":"IF(ISNA($DL686),\"\",getNumKeta0($DM686,7))","v":""},{"$f":"IF(ISNA($DL686),\"\",getNumKeta0($DM686,6))","v":""},{"$f":"IF(ISNA($DL686),\"\",getNumKeta0($DM686,5))","v":""},{"$f":"IF(ISNA($DL686),\"\",getNumKeta0($DM686,4))","v":""},{"$f":"IF(ISNA($DL686),\"\",getNumKeta0($DM686,3))","v":""},{"$f":"IF(ISNA($DL686),\"\",getNumKeta0($DM686,2))","v":""},{"$f":"IF(ISNA($DL686),\"\",getNumKeta0($DM686,1))","v":""},{"$f":"IF(ISNA($DL686),\"\",getNumKeta0($DM686,-1))","v":""},{"$f":"IF(ISNA($DL686),\"\",getNumKeta0($DM686,-2))","v":""},{"$f":"IF(ISNA($DL686),\"\",getNumKeta0($DM686,-3))","v":""},{"$f":"IF(ISNA($DL686),\"\",VLOOKUP($DL686,請求明細,6,FALSE))","v":""},{"$f":"IF(ISNA($DL686),\"\",getNumKeta0($DN686,9))","v":""},{"$f":"IF(ISNA($DL686),\"\",getNumKeta0($DN686,8))","v":""},{"$f":"IF(ISNA($DL686),\"\",getNumKeta0($DN686,7))","v":""},{"$f":"IF(ISNA($DL686),\"\",getNumKeta0($DN686,6))","v":""},{"$f":"IF(ISNA($DL686),\"\",getNumKeta0($DN686,5))","v":""},{"$f":"IF(ISNA($DL686),\"\",getNumKeta0($DN686,4))","v":""},{"$f":"IF(ISNA($DL686),\"\",getNumKeta0($DN686,3))","v":""},{"$f":"IF(ISNA($DL686),\"\",getNumKeta0($DN686,2))","v":""},{"$f":"IF(ISNA($DL686),\"\",getNumKeta0($DN686,1))","v":""},{"$f":"IF(ISNA($DL686),\"\",getNumKeta0($DN686,-1))","v":""},{"$f":"IF(ISNA($DL686),\"\",getNumKeta0($DN686,-2))","v":""},{"$f":"IF(ISNA($DL686),\"\",getNumKeta0($DN686,-3))","v":""},{"$f":"IF(ISNA($DL686),\"\",getNumKeta0($DO686,9))","v":""},{"$f":"IF(ISNA($DL686),\"\",getNumKeta0($DO686,8))","v":""},{"$f":"IF(ISNA($DL686),\"\",getNumKeta0($DO686,7))","v":""},{"$f":"IF(ISNA($DL686),\"\",getNumKeta0($DO686,6))","v":""},{"$f":"IF(ISNA($DL686),\"\",getNumKeta0($DO686,5))","v":""},{"$f":"IF(ISNA($DL686),\"\",getNumKeta0($DO686,4))","v":""},{"$f":"IF(ISNA($DL686),\"\",getNumKeta0($DO686,3))","v":""},{"$f":"IF(ISNA($DL686),\"\",getNumKeta0($DO686,2))","v":""},{"$f":"IF(ISNA($DL686),\"\",getNumKeta0($DO686,1))","v":""},{"$f":"IF(ISNA($DL686),\"\",LEFT(VLOOKUP($DL686,請求明細,10,FALSE),16))","v":""},null,null,null,null,null,null,null,null,null,null,null,null,{"$f":"IF($E$14=OFFSET(明細情報!$B$5, $DK686-1,0),1,0)","v":0},{"$f":"IF($DI686=0, 0, SUM($DI$28:$DI686))","v":0},{"$f":"DK653+1","v":211},{"$f":"VLOOKUP(B686,$DJ$28:$DK$65536,2,FALSE)","v":{"$error":"#N/A"}},{"$f":"IF(ISNA($DL686),0,VLOOKUP($DL686,請求明細,5,FALSE))","v":0},{"$f":"IF(ISNA($DL686),0,VLOOKUP($DL686,請求明細,7,FALSE))","v":0},{"$f":"IF(ISNA($DL686),0,VLOOKUP($DL686,請求明細,9,FALSE))","v":0}]
[null,{"$f":"B686+1","v":212},"",null,null,"",null,null,null,"","","","","","","","","","","","","","","","","","","","","","","","","","","","","","","","","","","",null,null,null,null,null,null,null,null,null,null,null,null,null,{"$f":"BF686+1","v":212},"",null,null,"",null,null,null,"","","","","","","","","","","","","","","","","","","","","","","","","","","","","","","","","","","",null,null,null,null,null,null,null,null,null,null,null,null,{"$f":"IF($E$14=OFFSET(明細情報!$B$5, $DK687-1,0),1,0)","v":0},{"$f":"IF($DI687=0, 0, SUM($DI$28:$DI687))","v":0},{"$f":"DK686+1","v":212},{"$error":"#N/A"},0,0,0]
[null,213,"",null,null,"",null,null,null,"","","","","","","","","","","","","","","","","","","","","","","","","","","","","","","","","","","",null,null,null,null,null,null,null,null,null,null,null,null,null,213,"",null,null,"",null,null,null,"","","","","","","","","","","","","","","","","","","","","","","","","","","","","","","","","","","",null,null,null,null,null,null,null,null,null,null,null,null,{"$f":"IF($E$14=OFFSET(明細情報!$B$5, $DK688-1,0),1,0)","v":0},{"$f":"IF($DI688=0, 0, SUM($DI$28:$DI688))","v":0},213,{"$error":"#N/A"},0,0,0]
[null,214,"",null,null,"",null,null,null,"","","","","","","","","","","","","","","","","","","","","","","","","","","","","","","","","","","",null,null,null,null,null,null,null,null,null,null,null,null,null,214,"",null,null,"",null,null,null,"","","","","","","","","","","","","","","","","","","","","","","","","","","","","","","","","","","",null,null,null,null,null,null,null,null,null,null,null,null,{"$f":"IF($E$14=OFFSET(明細情報!$B$5, $DK689-1,0),1,0)","v":0},{"$f":"IF($DI689=0, 0, SUM($DI$28:$DI689))","v":0},214,{"$error":"#N/A"},0,0,0]
[null,215,"",null,null,"",null,null,null,"","","","","","","","","","","","","","","","","","","","","","","","","","","","","","","","","","","",null,null,null,null,null,null,null,null,null,null,null,null,null,215,"",null,null,"",null,null,null,"","","","","","","","","","","","","","","","","","","","","","","","","","","","","","","","","","","",null,null,null,null,null,null,null,null,null,null,null,null,{"$f":"IF($E$14=OFFSET(明細情報!$B$5, $DK690-1,0),1,0)","v":0},{"$f":"IF($DI690=0, 0, SUM($DI$28:$DI690))","v":0},215,{"$error":"#N/A"},0,0,0]
[null,216,"",null,null,"",null,null,null,"","","","","","","","","","","","","","","","","","","","","","","","","","","","","","","","","","","",null,null,null,null,null,null,null,null,null,null,null,null,null,216,"",null,null,"",null,null,null,"","","","","","","","","","","","","","","","","","","","","","","","","","","","","","","","","","","",null,null,null,null,null,null,null,null,null,null,null,null,{"$f":"IF($E$14=OFFSET(明細情報!$B$5, $DK691-1,0),1,0)","v":0},{"$f":"IF($DI691=0, 0, SUM($DI$28:$DI691))","v":0},216,{"$error":"#N/A"},0,0,0]
[null,217,"",null,null,"",null,null,null,"","","","","","","","","","","","","","","","","","","","","","","","","","","","","","","","","","","",null,null,null,null,null,null,null,null,null,null,null,null,null,217,"",null,null,"",null,null,null,"","","","","","","","","","","","","","","","","","","","","","","","","","","","","","","","","","","",null,null,null,null,null,null,null,null,null,null,null,null,{"$f":"IF($E$14=OFFSET(明細情報!$B$5, $DK692-1,0),1,0)","v":0},{"$f":"IF($DI692=0, 0, SUM($DI$28:$DI692))","v":0},217,{"$error":"#N/A"},0,0,0]
[null,218,"",null,null,"",null,null,null,"","","","","","","","","","","","","","","","","","","","","","","","","","","","","","","","","","","",null,null,null,null,null,null,null,null,null,null,null,null,null,218,"",null,null,"",null,null,null,"","","","","","","","","","","","","","","","","","","","","","","","","","","","","","","","","","","",null,null,null,null,null,null,null,null,null,null,null,null,{"$f":"IF($E$14=OFFSET(明細情報!$B$5, $DK693-1,0),1,0)","v":0},{"$f":"IF($DI693=0, 0, SUM($DI$28:$DI693))","v":0},218,{"$error":"#N/A"},0,0,0]
[null,219,"",null,null,"",null,null,null,"","","","","","","","","","","","","","","","","","","","","","","","","","","","","","","","","","","",null,null,null,null,null,null,null,null,null,null,null,null,null,219,"",null,null,"",null,null,null,"","","","","","","","","","","","","","","","","","","","","","","","","","","","","","","","","","","",null,null,null,null,null,null,null,null,null,null,null,null,{"$f":"IF($E$14=OFFSET(明細情報!$B$5, $DK694-1,0),1,0)","v":0},{"$f":"IF($DI694=0, 0, SUM($DI$28:$DI694))","v":0},219,{"$error":"#N/A"},0,0,0]
[null,220,"",null,null,"",null,null,null,"","","","","","","","","","","","","","","","","","","","","","","","","","","","","","","","","","","",null,null,null,null,null,null,null,null,null,null,null,null,null,220,"",null,null,"",null,null,null,"","","","","","","","","","","","","","","","","","","","","","","","","","","","","","","","","","","",null,null,null,null,null,null,null,null,null,null,null,null,{"$f":"IF($E$14=OFFSET(明細情報!$B$5, $DK695-1,0),1,0)","v":0},{"$f":"IF($DI695=0, 0, SUM($DI$28:$DI695))","v":0},220,{"$error":"#N/A"},0,0,0]
[null,221,"",null,null,"",null,null,null,"","","","","","","","","","","","","","","","","","","","","","","","","","","","","","","","","","","",null,null,null,null,null,null,null,null,null,null,null,null,null,221,"",null,null,"",null,null,null,"","","","","","","","","","","","","","","","","","","","","","","","","","","","","","","","","","","",null,null,null,null,null,null,null,null,null,null,null,null,{"$f":"IF($E$14=OFFSET(明細情報!$B$5, $DK696-1,0),1,0)","v":0},{"$f":"IF($DI696=0, 0, SUM($DI$28:$DI696))","v":0},221,{"$error":"#N/A"},0,0,0]
[null,222,"",null,null,"",null,null,null,"","","","","","","","","","","","","","","","","","","","","","","","","","","","","","","","","","","",null,null,null,null,null,null,null,null,null,null,null,null,null,222,"",null,null,"",null,null,null,"","","","","","","","","","","","","","","","","","","","","","","","","","","","","","","","","","","",null,null,null,null,null,null,null,null,null,null,null,null,{"$f":"IF($E$14=OFFSET(明細情報!$B$5, $DK697-1,0),1,0)","v":0},{"$f":"IF($DI697=0, 0, SUM($DI$28:$DI697))","v":0},222,{"$error":"#N/A"},0,0,0]
[null,223,"",null,null,"",null,null,null,"","","","","","","","","","","","","","","","","","","","","","","","","","","","","","","","","","","",null,null,null,null,null,null,null,null,null,null,null,null,null,223,"",null,null,"",null,null,null,"","","","","","","","","","","","","","","","","","","","","","","","","","","","","","","","","","","",null,null,null,null,null,null,null,null,null,null,null,null,{"$f":"IF($E$14=OFFSET(明細情報!$B$5, $DK698-1,0),1,0)","v":0},{"$f":"IF($DI698=0, 0, SUM($DI$28:$DI698))","v":0},223,{"$error":"#N/A"},0,0,0]
[null,224,"",null,null,"",null,null,null,"","","","","","","","","","","","","","","","","","","","","","","","","","","","","","","","","","","",null,null,null,null,null,null,null,null,null,null,null,null,null,224,"",null,null,"",null,null,null,"","","","","","","","","","","","","","","","","","","","","","","","","","","","","","","","","","","",null,null,null,null,null,null,null,null,null,null,null,null,{"$f":"IF($E$14=OFFSET(明細情報!$B$5, $DK699-1,0),1,0)","v":0},{"$f":"IF($DI699=0, 0, SUM($DI$28:$DI699))","v":0},224,{"$error":"#N/A"},0,0,0]
[null,225,"",null,null,"",null,null,null,"","","","","","","","","","","","","","","","","","","","","","","","","","","","","","","","","","","",null,null,null,null,null,null,null,null,null,null,null,null,null,225,"",null,null,"",null,null,null,"","","","","","","","","","","","","","","","","","","","","","","","","","","","","","","","","","","",null,null,null,null,null,null,null,null,null,null,null,null,{"$f":"IF($E$14=OFFSET(明細情報!$B$5, $DK700-1,0),1,0)","v":0},{"$f":"IF($DI700=0, 0, SUM($DI$28:$DI700))","v":0},225,{"$error":"#N/A"},0,0,0]
[null,null,null,null,null,null,null,null,null,null,null,null,null,null,null,null,null,null,null,null,null,null,"　　小　　　　　　計",null,null,null,null,null,null,null,null,null,null,null,{"$f":"getNumKeta0($DP701,9)","v":""},{"$f":"getNumKeta0($DP701,8)","v":""},{"$f":"getNumKeta0($DP701,7)","v":""},{"$f":"getNumKeta0($DP701,6)","v":""},{"$f":"getNumKeta0($DP701,5)","v":""},{"$f":"getNumKeta0($DP701,4)","v":""},{"$f":"getNumKeta0($DP701,3)","v":""},{"$f":"getNumKeta0($DP701,2)","v":""},{"$f":"getNumKeta0($DP701,1)","v":""},"Ａ",{"$f":"IF($DQ701=0,\"\", $DQ701)","v":""},null,null,null,null,null,null,null,null,{"$f":"IF($DP701<>$DQ701,\"*\",\"\")","v":""},null,null,null,null,null,null,null,null,null,null,null,null,null,null,null,null,null,null,null,null,null,null,null,null,"　　小　　　　　　計",null,null,null,null,null,null,null,null,null,null,null,{"$f":"getNumKeta0($DP701,9)","v":""},{"$f":"getNumKeta0($DP701,8)","v":""},{"$f":"getNumKeta0($DP701,7)","v":""},{"$f":"getNumKeta0($DP701,6)","v":""},{"$f":"getNumKeta0($DP701,5)","v":""},{"$f":"getNumKeta0($DP701,4)","v":""},{"$f":"getNumKeta0($DP701,3)","v":""},{"$f":"getNumKeta0($DP701,2)","v":""},{"$f":"getNumKeta0($DP701,1)","v":""},"Ａ",{"$f":"IF($DQ701=0,\"\", $DQ701)","v":""},null,null,null,null,null,null,null,null,{"$f":"IF($DP701<>$DQ701,\"*\",\"\")","v":""},null,null,null,null,null,null,null,null,null,{"$f":"IF($DK700/15=ROUNDUP(MAX($DJ:$DJ)/15,0),VLOOKUP($E$14,基本情報_工事名称マスタ,4,FALSE)+VLOOKUP($E$14,基本情報_工事名称マスタ,5,FALSE),0)","v":0},{"$f":"IF($DK700/15=ROUNDUP(MAX($DJ:$DJ)/15,0),DQ703-DQ702,0)","v":0}]
[null,null,null,null,null,null,null,null,null,null,null,null,null,null,null,null,null,null,null,null,null,null,"　消　費　税",null,null,null,null,null,null,null,null,null,null,null,{"$f":"getNumKeta0($DP702,9)","v":""},{"$f":"getNumKeta0($DP702,8)","v":""},{"$f":"getNumKeta0($DP702,7)","v":""},{"$f":"getNumKeta0($DP702,6)","v":""},{"$f":"getNumKeta0($DP702,5)","v":""},{"$f":"getNumKeta0($DP702,4)","v":""},{"$f":"getNumKeta0($DP702,3)","v":""},{"$f":"getNumKeta0($DP702,2)","v":""},{"$f":"getNumKeta0($DP702,1)","v":""},"Ｂ",{"$f":"IF($DQ702=0,\"\", $DQ702)","v":""},null,null,null,null,null,null,null,null,null,null,null,null,null,null,null,null,null,null,null,null,null,null,null,null,null,null,null,null,null,null,null,null,null,"　消　費　税",null,null,null,null,null,null,null,null,null,null,null,{"$f":"getNumKeta0($DP702,9)","v":""},{"$f":"getNumKeta0($DP702,8)","v":""},{"$f":"getNumKeta0($DP702,7)","v":""},{"$f":"getNumKeta0($DP702,6)","v":""},{"$f":"getNumKeta0($DP702,5)","v":""},{"$f":"getNumKeta0($DP702,4)","v":""},{"$f":"getNumKeta0($DP702,3)","v":""},{"$f":"getNumKeta0($DP702,2)","v":""},{"$f":"getNumKeta0($DP702,1)","v":""},"Ｂ",{"$f":"IF($DQ702=0,\"\", $DQ702)","v":""},null,null,null,null,null,null,null,null,null,null,null,null,null,null,null,null,null,null,{"$f":"IF($DK700/15=ROUNDUP(MAX($DJ:$DJ)/15,0),VLOOKUP($E$14,基本情報_工事名称マスタ,6,FALSE),0)","v":0},{"$f":"IF($DK700/15=ROUNDUP(MAX($DJ:$DJ)/15,0),ROUND((DQ703-VLOOKUP($E$14,基本情報_工事名称マスタ,5,FALSE))/(基本情報_消費税率*100+100)*(基本情報_消費税率*100),0),0)","v":0}]
[null,null,null,null,null,null,null,null,null,null,null,null,null,null,null,null,null,null,null,null,null,null,"　　合　　　　　　計",null,null,null,null,null,null,null,null,null,null,null,{"$f":"getNumKeta0($DP703,9)","v":""},{"$f":"getNumKeta0($DP703,8)","v":""},{"$f":"getNumKeta0($DP703,7)","v":""},{"$f":"getNumKeta0($DP703,6)","v":""},{"$f":"getNumKeta0($DP703,5)","v":""},{"$f":"getNumKeta0($DP703,4)","v":""},{"$f":"getNumKeta0($DP703,3)","v":""},{"$f":"getNumKeta0($DP703,2)","v":""},{"$f":"getNumKeta0($DP703,1)","v":""},"Ｃ",{"$f":"IF($DQ703=0,\"\", $DQ703)","v":""},null,null,null,null,null,null,null,null,null,null,null,null,null,null,null,null,null,null,null,null,null,null,null,null,null,null,null,null,null,null,null,null,null,"　　合　　　　　　計",null,null,null,null,null,null,null,null,null,null,null,{"$f":"getNumKeta0($DP703,9)","v":""},{"$f":"getNumKeta0($DP703,8)","v":""},{"$f":"getNumKeta0($DP703,7)","v":""},{"$f":"getNumKeta0($DP703,6)","v":""},{"$f":"getNumKeta0($DP703,5)","v":""},{"$f":"getNumKeta0($DP703,4)","v":""},{"$f":"getNumKeta0($DP703,3)","v":""},{"$f":"getNumKeta0($DP703,2)","v":""},{"$f":"getNumKeta0($DP703,1)","v":""},"Ｃ",{"$f":"IF($DQ703=0,\"\", $DQ703)","v":""},null,null,null,null,null,null,null,null,null,null,null,null,null,null,null,null,null,null,{"$f":"IF($DK700/15=ROUNDUP(MAX($DJ:$DJ)/15,0),VLOOKUP($E$14,基本情報_工事名称マスタ,7,FALSE),0)","v":0},{"$f":"DP703","v":0}]
[null,null,null,null,null,null,null,null,null,null,null,null,null,null,null,null,null,null,null,null,null,null,"貴社→請求書(添付)→経理(控)",null,null,null,null,null,null,null,null,null,null,null,null,null,null,null,null,null,null,null,null,null,null,null,null,null,null,null,null,null,null,null,null,null,null,null,null,null,null,null,null,null,null,null,null,null,null,null,null,null,null,null,null,null,null,null,"貴社→請求書(添付)→経理→作業所長(控)"]
[]
[null,null,null,null,null,null,null,null,null,null,null,null,null,null,null,null,null,null,null,null,null,null,null,null,null,null,null,null,null,null,null,null,null,null,null,null,null,null,null,null,null,null,null,null,{"$f":"\"P \" & B747/15 & \"/\" & ROUNDUP(COUNTIF(請求明細_工事場所, E719)/15,0)","v":"P 16/1"},null,null,null,null,null,null,null,null,null,null,null,null,null,null,null,null,null,null,null,null,null,null,null,null,null,null,null,null,null,null,null,null,null,null,null,null,null,null,null,null,null,null,null,null,null,null,null,null,null,null,null,null,null,null,null,{"$f":"\"P \" & BF747/15 & \"/\" & ROUNDUP(COUNTIF(請求明細_工事場所, BI719)/15,0)","v":"P 16/1"}]
[null,null,null,"請求明細書（一般）",null,null,null,null,null,null,null,null,null,null,null,null,null,null,null,null,null,null,null,null,null,"取引先",null,null,{"$f":"基本情報_取引先コード","v":999999},null,null,null,null,null,null,null,null,null,"締\n日",null,null,{"$f":"基本情報_請求締日","v":"2020-07-31"},null,null,null,null,null,null,null,null,null,null,null,null,null,null,null,null,null,"請求明細書（一般）",null,null,null,null,null,null,null,null,null,null,null,null,null,null,null,null,null,null,null,null,null,"取引先",null,null,{"$f":"基本情報_取引先コード","v":999999},null,null,null,null,null,null,null,null,null,"締\n日",null,null,{"$f":"基本情報_請求締日","v":"2020-07-31"}]
[null,null,null,null,null,null,null,null,null,"提出用",null,null,null,null,null,null,null,null,null,null,null,null,null,null,null,null,null,null,null,null,null,null,null,null,null,null,null,null,null,null,null,null,null,null,null,null,null,null,null,null,null,null,null,null,null,null,null,null,null,null,null,null,null,null,null,"提出用"]
[]
[null,null,null,null,null,null,null,null,null,null,null,null,null,null,null,null,null,null,null,null,null,null,null,null,null,"コード",null,null,null,null,null,null,null,null,null,null,null,null,null,null,null,null,null,null,null,null,null,null,null,null,null,null,null,null,null,null,null,null,null,null,null,null,null,null,null,null,null,null,null,null,null,null,null,null,null,null,null,null,null,null,null,"コード"]
[]
[]
[null,"丸高・みなと特定建設工事共同企業体　御中",null,null,null,null,null,null,null,null,null,null,null,null,null,null,null,null,null,null,null,null,null,null,null,"（住所・社名・電話）",null,null,null,null,null,null,null,null,null,null,null,null,null,null,null,null,null,null,null,null,null,null,null,null,null,null,null,null,null,null,null,"丸高・みなと特定建設工事共同企業体　御中",null,null,null,null,null,null,null,null,null,null,null,null,null,null,null,null,null,null,null,null,null,null,null,"（住所・社名・電話）"]
[]
[]
[]
[null,null,null,null,null,null,null,null,null,null,null,null,null,null,null,null,null,null,null,null,null,null,null,null,null,null,null,null,{"$f":"基本情報_住所","v":"酒田市○○○○１－１"},null,null,null,null,null,null,null,null,null,null,null,null,null,null,null,null,null,null,null,null,null,null,null,null,null,null,null,null,null,null,null,null,null,null,null,null,null,null,null,null,null,null,null,null,null,null,null,null,null,null,null,null,null,null,null,{"$f":"基本情報_住所","v":"酒田市○○○○１－１"}]
[]
[null,"工　事　名",null,null,{"$f":"$E$14","v":"×××××工事"},null,null,null,null,null,null,null,null,null,null,"承　　認",null,null,null,null,null,"検　　印",null,null,null,null,null,null,null,null,null,null,null,null,null,null,null,null,null,null,null,null,null,null,null,null,null,null,null,null,null,null,null,null,null,null,null,"工　事　名",null,null,{"$f":"$E$14","v":"×××××工事"},null,null,null,null,null,null,null,null,null,null,"承　　認",null,null,null,null,null,"検　　印"]
[]
[]
[null,null,null,null,null,null,null,null,null,null,null,null,null,null,null,null,null,null,null,null,null,null,null,null,null,null,null,null,{"$f":"基本情報_社名","v":"(株）○○建設"},null,null,null,null,null,null,null,null,null,null,null,null,null,null,null,null,null,null,null,null,null,"印",null,null,null,null,null,null,null,null,null,null,null,null,null,null,null,null,null,null,null,null,null,null,null,null,null,null,null,null,null,null,null,null,null,{"$f":"基本情報_社名","v":"(株）○○建設"},null,null,null,null,null,null,null,null,null,null,null,null,null,null,null,null,null,null,null,null,null,"印"]
[]
[]
[null,"作業所長名",null,null,{"$f":"VLOOKUP(E719,基本情報_工事名称マスタ,3,FALSE)","v":"××次郎"},null,null,null,null,null,null,null,null,null,null,null,null,null,null,null,null,null,null,null,null,null,null,null,null,null,null,null,null,null,null,null,null,null,null,null,null,null,null,null,null,null,null,null,null,null,null,null,null,null,null,null,null,"作業所長名",null,null,{"$f":"VLOOKUP(BI719,基本情報_工事名称マスタ,3,FALSE)","v":"××次郎"}]
[]
[null,null,null,null,null,null,null,null,null,null,null,null,null,null,null,null,null,null,null,null,null,null,null,null,null,null,null,null,{"$f":"基本情報_電話番号","v":"0234 - 00 - 0000"},null,null,null,null,null,null,null,null,null,null,null,null,null,null,null,null,null,null,null,null,null,null,null,null,null,null,null,null,null,null,null,null,null,null,null,null,null,null,null,null,null,null,null,null,null,null,null,null,null,null,null,null,null,null,null,{"$f":"基本情報_電話番号","v":"0234 - 00 - 0000"}]
[]
[]
[]
[]
[null,"通番","納入年月日",null,null,"品　名　・　規　格",null,null,null,"数　　　　量",null,null,null,null,null,null,null,null,null,null,null,"単 位","単　　　　価",null,null,null,null,null,null,null,null,null,null,null,"金　　　額",null,null,null,null,null,null,null,null,"備　考",null,null,null,null,null,null,null,null,null,null,null,null,null,"通番","納入年月日",null,null,"品　名　・　規　格",null,null,null,"数　　　　量",null,null,null,null,null,null,null,null,null,null,null,"単 位","単　　　　価",null,null,null,null,null,null,null,null,null,null,null,"金　　　額",null,null,null,null,null,null,null,null,"備　考",null,null,null,null,null,null,null,null,null,null,null,null,"ヒット","ランク","-","通番","数量","単価","金額"]
[null,{"$f":"B700+1","v":226},{"$f":"IF(ISNA($DL733),\"\",VLOOKUP($DL733,請求明細,3,FALSE))","v":""},null,null,{"$f":"IF(ISNA($DL733),\"\",VLOOKUP($DL733,請求明細,4,FALSE))","v":""},null,null,null,{"$f":"IF(ISNA($DL733),\"\",getNumKeta0($DM733,9))","v":""},{"$f":"IF(ISNA($DL733),\"\",getNumKeta0($DM733,8))","v":""},{"$f":"IF(ISNA($DL733),\"\",getNumKeta0($DM733,7))","v":""},{"$f":"IF(ISNA($DL733),\"\",getNumKeta0($DM733,6))","v":""},{"$f":"IF(ISNA($DL733),\"\",getNumKeta0($DM733,5))","v":""},{"$f":"IF(ISNA($DL733),\"\",getNumKeta0($DM733,4))","v":""},{"$f":"IF(ISNA($DL733),\"\",getNumKeta0($DM733,3))","v":""},{"$f":"IF(ISNA($DL733),\"\",getNumKeta0($DM733,2))","v":""},{"$f":"IF(ISNA($DL733),\"\",getNumKeta0($DM733,1))","v":""},{"$f":"IF(ISNA($DL733),\"\",getNumKeta0($DM733,-1))","v":""},{"$f":"IF(ISNA($DL733),\"\",getNumKeta0($DM733,-2))","v":""},{"$f":"IF(ISNA($DL733),\"\",getNumKeta0($DM733,-3))","v":""},{"$f":"IF(ISNA($DL733),\"\",VLOOKUP($DL733,請求明細,6,FALSE))","v":""},{"$f":"IF(ISNA($DL733),\"\",getNumKeta0($DN733,9))","v":""},{"$f":"IF(ISNA($DL733),\"\",getNumKeta0($DN733,8))","v":""},{"$f":"IF(ISNA($DL733),\"\",getNumKeta0($DN733,7))","v":""},{"$f":"IF(ISNA($DL733),\"\",getNumKeta0($DN733,6))","v":""},{"$f":"IF(ISNA($DL733),\"\",getNumKeta0($DN733,5))","v":""},{"$f":"IF(ISNA($DL733),\"\",getNumKeta0($DN733,4))","v":""},{"$f":"IF(ISNA($DL733),\"\",getNumKeta0($DN733,3))","v":""},{"$f":"IF(ISNA($DL733),\"\",getNumKeta0($DN733,2))","v":""},{"$f":"IF(ISNA($DL733),\"\",getNumKeta0($DN733,1))","v":""},{"$f":"IF(ISNA($DL733),\"\",getNumKeta0($DN733,-1))","v":""},{"$f":"IF(ISNA($DL733),\"\",getNumKeta0($DN733,-2))","v":""},{"$f":"IF(ISNA($DL733),\"\",getNumKeta0($DN733,-3))","v":""},{"$f":"IF(ISNA($DL733),\"\",getNumKeta0($DO733,9))","v":""},{"$f":"IF(ISNA($DL733),\"\",getNumKeta0($DO733,8))","v":""},{"$f":"IF(ISNA($DL733),\"\",getNumKeta0($DO733,7))","v":""},{"$f":"IF(ISNA($DL733),\"\",getNumKeta0($DO733,6))","v":""},{"$f":"IF(ISNA($DL733),\"\",getNumKeta0($DO733,5))","v":""},{"$f":"IF(ISNA($DL733),\"\",getNumKeta0($DO733,4))","v":""},{"$f":"IF(ISNA($DL733),\"\",getNumKeta0($DO733,3))","v":""},{"$f":"IF(ISNA($DL733),\"\",getNumKeta0($DO733,2))","v":""},{"$f":"IF(ISNA($DL733),\"\",getNumKeta0($DO733,1))","v":""},{"$f":"IF(ISNA($DL733),\"\",LEFT(VLOOKUP($DL733,請求明細,10,FALSE),16))","v":""},null,null,null,null,null,null,null,null,null,null,null,null,null,{"$f":"BF700+1","v":226},{"$f":"IF(ISNA($DL733),\"\",VLOOKUP($DL733,請求明細,3,FALSE))","v":""},null,null,{"$f":"IF(ISNA($DL733),\"\",VLOOKUP($DL733,請求明細,4,FALSE))","v":""},null,null,null,{"$f":"IF(ISNA($DL733),\"\",getNumKeta0($DM733,9))","v":""},{"$f":"IF(ISNA($DL733),\"\",getNumKeta0($DM733,8))","v":""},{"$f":"IF(ISNA($DL733),\"\",getNumKeta0($DM733,7))","v":""},{"$f":"IF(ISNA($DL733),\"\",getNumKeta0($DM733,6))","v":""},{"$f":"IF(ISNA($DL733),\"\",getNumKeta0($DM733,5))","v":""},{"$f":"IF(ISNA($DL733),\"\",getNumKeta0($DM733,4))","v":""},{"$f":"IF(ISNA($DL733),\"\",getNumKeta0($DM733,3))","v":""},{"$f":"IF(ISNA($DL733),\"\",getNumKeta0($DM733,2))","v":""},{"$f":"IF(ISNA($DL733),\"\",getNumKeta0($DM733,1))","v":""},{"$f":"IF(ISNA($DL733),\"\",getNumKeta0($DM733,-1))","v":""},{"$f":"IF(ISNA($DL733),\"\",getNumKeta0($DM733,-2))","v":""},{"$f":"IF(ISNA($DL733),\"\",getNumKeta0($DM733,-3))","v":""},{"$f":"IF(ISNA($DL733),\"\",VLOOKUP($DL733,請求明細,6,FALSE))","v":""},{"$f":"IF(ISNA($DL733),\"\",getNumKeta0($DN733,9))","v":""},{"$f":"IF(ISNA($DL733),\"\",getNumKeta0($DN733,8))","v":""},{"$f":"IF(ISNA($DL733),\"\",getNumKeta0($DN733,7))","v":""},{"$f":"IF(ISNA($DL733),\"\",getNumKeta0($DN733,6))","v":""},{"$f":"IF(ISNA($DL733),\"\",getNumKeta0($DN733,5))","v":""},{"$f":"IF(ISNA($DL733),\"\",getNumKeta0($DN733,4))","v":""},{"$f":"IF(ISNA($DL733),\"\",getNumKeta0($DN733,3))","v":""},{"$f":"IF(ISNA($DL733),\"\",getNumKeta0($DN733,2))","v":""},{"$f":"IF(ISNA($DL733),\"\",getNumKeta0($DN733,1))","v":""},{"$f":"IF(ISNA($DL733),\"\",getNumKeta0($DN733,-1))","v":""},{"$f":"IF(ISNA($DL733),\"\",getNumKeta0($DN733,-2))","v":""},{"$f":"IF(ISNA($DL733),\"\",getNumKeta0($DN733,-3))","v":""},{"$f":"IF(ISNA($DL733),\"\",getNumKeta0($DO733,9))","v":""},{"$f":"IF(ISNA($DL733),\"\",getNumKeta0($DO733,8))","v":""},{"$f":"IF(ISNA($DL733),\"\",getNumKeta0($DO733,7))","v":""},{"$f":"IF(ISNA($DL733),\"\",getNumKeta0($DO733,6))","v":""},{"$f":"IF(ISNA($DL733),\"\",getNumKeta0($DO733,5))","v":""},{"$f":"IF(ISNA($DL733),\"\",getNumKeta0($DO733,4))","v":""},{"$f":"IF(ISNA($DL733),\"\",getNumKeta0($DO733,3))","v":""},{"$f":"IF(ISNA($DL733),\"\",getNumKeta0($DO733,2))","v":""},{"$f":"IF(ISNA($DL733),\"\",getNumKeta0($DO733,1))","v":""},{"$f":"IF(ISNA($DL733),\"\",LEFT(VLOOKUP($DL733,請求明細,10,FALSE),16))","v":""},null,null,null,null,null,null,null,null,null,null,null,null,{"$f":"IF($E$14=OFFSET(明細情報!$B$5, $DK733-1,0),1,0)","v":0},{"$f":"IF($DI733=0, 0, SUM($DI$28:$DI733))","v":0},{"$f":"DK700+1","v":226},{"$f":"VLOOKUP(B733,$DJ$28:$DK$65536,2,FALSE)","v":{"$error":"#N/A"}},{"$f":"IF(ISNA($DL733),0,VLOOKUP($DL733,請求明細,5,FALSE))","v":0},{"$f":"IF(ISNA($DL733),0,VLOOKUP($DL733,請求明細,7,FALSE))","v":0},{"$f":"IF(ISNA($DL733),0,VLOOKUP($DL733,請求明細,9,FALSE))","v":0}]
[null,{"$f":"B733+1","v":227},"",null,null,"",null,null,null,"","","","","","","","","","","","","","","","","","","","","","","","","","","","","","","","","","","",null,null,null,null,null,null,null,null,null,null,null,null,null,{"$f":"BF733+1","v":227},"",null,null,"",null,null,null,"","","","","","","","","","","","","","","","","","","","","","","","","","","","","","","","","","","",null,null,null,null,null,null,null,null,null,null,null,null,{"$f":"IF($E$14=OFFSET(明細情報!$B$5, $DK734-1,0),1,0)","v":0},{"$f":"IF($DI734=0, 0, SUM($DI$28:$DI734))","v":0},{"$f":"DK733+1","v":227},{"$error":"#N/A"},0,0,0]
[null,228,"",null,null,"",null,null,null,"","","","","","","","","","","","","","","","","","","","","","","","","","","","","","","","","","","",null,null,null,null,null,null,null,null,null,null,null,null,null,228,"",null,null,"",null,null,null,"","","","","","","","","","","","","","","","","","","","","","","","","","","","","","","","","","","",null,null,null,null,null,null,null,null,null,null,null,null,{"$f":"IF($E$14=OFFSET(明細情報!$B$5, $DK735-1,0),1,0)","v":0},{"$f":"IF($DI735=0, 0, SUM($DI$28:$DI735))","v":0},228,{"$error":"#N/A"},0,0,0]
[null,229,"",null,null,"",null,null,null,"","","","","","","","","","","","","","","","","","","","","","","","","","","","","","","","","","","",null,null,null,null,null,null,null,null,null,null,null,null,null,229,"",null,null,"",null,null,null,"","","","","","","","","","","","","","","","","","","","","","","","","","","","","","","","","","","",null,null,null,null,null,null,null,null,null,null,null,null,{"$f":"IF($E$14=OFFSET(明細情報!$B$5, $DK736-1,0),1,0)","v":0},{"$f":"IF($DI736=0, 0, SUM($DI$28:$DI736))","v":0},229,{"$error":"#N/A"},0,0,0]
[null,230,"",null,null,"",null,null,null,"","","","","","","","","","","","","","","","","","","","","","","","","","","","","","","","","","","",null,null,null,null,null,null,null,null,null,null,null,null,null,230,"",null,null,"",null,null,null,"","","","","","","","","","","","","","","","","","","","","","","","","","","","","","","","","","","",null,null,null,null,null,null,null,null,null,null,null,null,{"$f":"IF($E$14=OFFSET(明細情報!$B$5, $DK737-1,0),1,0)","v":0},{"$f":"IF($DI737=0, 0, SUM($DI$28:$DI737))","v":0},230,{"$error":"#N/A"},0,0,0]
[null,231,"",null,null,"",null,null,null,"","","","","","","","","","","","","","","","","","","","","","","","","","","","","","","","","","","",null,null,null,null,null,null,null,null,null,null,null,null,null,231,"",null,null,"",null,null,null,"","","","","","","","","","","","","","","","","","","","","","","","","","","","","","","","","","","",null,null,null,null,null,null,null,null,null,null,null,null,{"$f":"IF($E$14=OFFSET(明細情報!$B$5, $DK738-1,0),1,0)","v":0},{"$f":"IF($DI738=0, 0, SUM($DI$28:$DI738))","v":0},231,{"$error":"#N/A"},0,0,0]
[null,232,"",null,null,"",null,null,null,"","","","","","","","","","","","","","","","","","","","","","","","","","","","","","","","","","","",null,null,null,null,null,null,null,null,null,null,null,null,null,232,"",null,null,"",null,null,null,"","","","","","","","","","","","","","","","","","","","","","","","","","","","","","","","","","","",null,null,null,null,null,null,null,null,null,null,null,null,{"$f":"IF($E$14=OFFSET(明細情報!$B$5, $DK739-1,0),1,0)","v":0},{"$f":"IF($DI739=0, 0, SUM($DI$28:$DI739))","v":0},232,{"$error":"#N/A"},0,0,0]
[null,233,"",null,null,"",null,null,null,"","","","","","","","","","","","","","","","","","","","","","","","","","","","","","","","","","","",null,null,null,null,null,null,null,null,null,null,null,null,null,233,"",null,null,"",null,null,null,"","","","","","","","","","","","","","","","","","","","","","","","","","","","","","","","","","","",null,null,null,null,null,null,null,null,null,null,null,null,{"$f":"IF($E$14=OFFSET(明細情報!$B$5, $DK740-1,0),1,0)","v":0},{"$f":"IF($DI740=0, 0, SUM($DI$28:$DI740))","v":0},233,{"$error":"#N/A"},0,0,0]
[null,234,"",null,null,"",null,null,null,"","","","","","","","","","","","","","","","","","","","","","","","","","","","","","","","","","","",null,null,null,null,null,null,null,null,null,null,null,null,null,234,"",null,null,"",null,null,null,"","","","","","","","","","","","","","","","","","","","","","","","","","","","","","","","","","","",null,null,null,null,null,null,null,null,null,null,null,null,{"$f":"IF($E$14=OFFSET(明細情報!$B$5, $DK741-1,0),1,0)","v":0},{"$f":"IF($DI741=0, 0, SUM($DI$28:$DI741))","v":0},234,{"$error":"#N/A"},0,0,0]
[null,235,"",null,null,"",null,null,null,"","","","","","","","","","","","","","","","","","","","","","","","","","","","","","","","","","","",null,null,null,null,null,null,null,null,null,null,null,null,null,235,"",null,null,"",null,null,null,"","","","","","","","","","","","","","","","","","","","","","","","","","","","","","","","","","","",null,null,null,null,null,null,null,null,null,null,null,null,{"$f":"IF($E$14=OFFSET(明細情報!$B$5, $DK742-1,0),1,0)","v":0},{"$f":"IF($DI742=0, 0, SUM($DI$28:$DI742))","v":0},235,{"$error":"#N/A"},0,0,0]
[null,236,"",null,null,"",null,null,null,"","","","","","","","","","","","","","","","","","","","","","","","","","","","","","","","","","","",null,null,null,null,null,null,null,null,null,null,null,null,null,236,"",null,null,"",null,null,null,"","","","","","","","","","","","","","","","","","","","","","","","","","","","","","","","","","","",null,null,null,null,null,null,null,null,null,null,null,null,{"$f":"IF($E$14=OFFSET(明細情報!$B$5, $DK743-1,0),1,0)","v":0},{"$f":"IF($DI743=0, 0, SUM($DI$28:$DI743))","v":0},236,{"$error":"#N/A"},0,0,0]
[null,237,"",null,null,"",null,null,null,"","","","","","","","","","","","","","","","","","","","","","","","","","","","","","","","","","","",null,null,null,null,null,null,null,null,null,null,null,null,null,237,"",null,null,"",null,null,null,"","","","","","","","","","","","","","","","","","","","","","","","","","","","","","","","","","","",null,null,null,null,null,null,null,null,null,null,null,null,{"$f":"IF($E$14=OFFSET(明細情報!$B$5, $DK744-1,0),1,0)","v":0},{"$f":"IF($DI744=0, 0, SUM($DI$28:$DI744))","v":0},237,{"$error":"#N/A"},0,0,0]
[null,238,"",null,null,"",null,null,null,"","","","","","","","","","","","","","","","","","","","","","","","","","","","","","","","","","","",null,null,null,null,null,null,null,null,null,null,null,null,null,238,"",null,null,"",null,null,null,"","","","","","","","","","","","","","","","","","","","","","","","","","","","","","","","","","","",null,null,null,null,null,null,null,null,null,null,null,null,{"$f":"IF($E$14=OFFSET(明細情報!$B$5, $DK745-1,0),1,0)","v":0},{"$f":"IF($DI745=0, 0, SUM($DI$28:$DI745))","v":0},238,{"$error":"#N/A"},0,0,0]
[null,239,"",null,null,"",null,null,null,"","","","","","","","","","","","","","","","","","","","","","","","","","","","","","","","","","","",null,null,null,null,null,null,null,null,null,null,null,null,null,239,"",null,null,"",null,null,null,"","","","","","","","","","","","","","","","","","","","","","","","","","","","","","","","","","","",null,null,null,null,null,null,null,null,null,null,null,null,{"$f":"IF($E$14=OFFSET(明細情報!$B$5, $DK746-1,0),1,0)","v":0},{"$f":"IF($DI746=0, 0, SUM($DI$28:$DI746))","v":0},239,{"$error":"#N/A"},0,0,0]
[null,240,"",null,null,"",null,null,null,"","","","","","","","","","","","","","","","","","","","","","","","","","","","","","","","","","","",null,null,null,null,null,null,null,null,null,null,null,null,null,240,"",null,null,"",null,null,null,"","","","","","","","","","","","","","","","","","","","","","","","","","","","","","","","","","","",null,null,null,null,null,null,null,null,null,null,null,null,{"$f":"IF($E$14=OFFSET(明細情報!$B$5, $DK747-1,0),1,0)","v":0},{"$f":"IF($DI747=0, 0, SUM($DI$28:$DI747))","v":0},240,{"$error":"#N/A"},0,0,0]
[null,null,null,null,null,null,null,null,null,null,null,null,null,null,null,null,null,null,null,null,null,null,"　　小　　　　　　計",null,null,null,null,null,null,null,null,null,null,null,{"$f":"getNumKeta0($DP748,9)","v":""},{"$f":"getNumKeta0($DP748,8)","v":""},{"$f":"getNumKeta0($DP748,7)","v":""},{"$f":"getNumKeta0($DP748,6)","v":""},{"$f":"getNumKeta0($DP748,5)","v":""},{"$f":"getNumKeta0($DP748,4)","v":""},{"$f":"getNumKeta0($DP748,3)","v":""},{"$f":"getNumKeta0($DP748,2)","v":""},{"$f":"getNumKeta0($DP748,1)","v":""},"Ａ",{"$f":"IF($DQ748=0,\"\", $DQ748)","v":""},null,null,null,null,null,null,null,null,{"$f":"IF($DP748<>$DQ748,\"*\",\"\")","v":""},null,null,null,null,null,null,null,null,null,null,null,null,null,null,null,null,null,null,null,null,null,null,null,null,"　　小　　　　　　計",null,null,null,null,null,null,null,null,null,null,null,{"$f":"getNumKeta0($DP748,9)","v":""},{"$f":"getNumKeta0($DP748,8)","v":""},{"$f":"getNumKeta0($DP748,7)","v":""},{"$f":"getNumKeta0($DP748,6)","v":""},{"$f":"getNumKeta0($DP748,5)","v":""},{"$f":"getNumKeta0($DP748,4)","v":""},{"$f":"getNumKeta0($DP748,3)","v":""},{"$f":"getNumKeta0($DP748,2)","v":""},{"$f":"getNumKeta0($DP748,1)","v":""},"Ａ",{"$f":"IF($DQ748=0,\"\", $DQ748)","v":""},null,null,null,null,null,null,null,null,{"$f":"IF($DP748<>$DQ748,\"*\",\"\")","v":""},null,null,null,null,null,null,null,null,null,{"$f":"IF($DK747/15=ROUNDUP(MAX($DJ:$DJ)/15,0),VLOOKUP($E$14,基本情報_工事名称マスタ,4,FALSE)+VLOOKUP($E$14,基本情報_工事名称マスタ,5,FALSE),0)","v":0},{"$f":"IF($DK747/15=ROUNDUP(MAX($DJ:$DJ)/15,0),DQ750-DQ749,0)","v":0}]
[null,null,null,null,null,null,null,null,null,null,null,null,null,null,null,null,null,null,null,null,null,null,"　消　費　税",null,null,null,null,null,null,null,{"$f":"基本情報_消費税率","v":0.1},null,null,null,{"$f":"getNumKeta0($DP749,9)","v":""},{"$f":"getNumKeta0($DP749,8)","v":""},{"$f":"getNumKeta0($DP749,7)","v":""},{"$f":"getNumKeta0($DP749,6)","v":""},{"$f":"getNumKeta0($DP749,5)","v":""},{"$f":"getNumKeta0($DP749,4)","v":""},{"$f":"getNumKeta0($DP749,3)","v":""},{"$f":"getNumKeta0($DP749,2)","v":""},{"$f":"getNumKeta0($DP749,1)","v":""},"Ｂ",{"$f":"IF($DQ749=0,\"\", $DQ749)","v":""},null,null,null,null,null,null,null,null,null,null,null,null,null,null,null,null,null,null,null,null,null,null,null,null,null,null,null,null,null,null,null,null,null,"　消　費　税",null,null,null,null,null,null,null,{"$f":"基本情報_消費税率","v":0.1},null,null,null,{"$f":"getNumKeta0($DP749,9)","v":""},{"$f":"getNumKeta0($DP749,8)","v":""},{"$f":"getNumKeta0($DP749,7)","v":""},{"$f":"getNumKeta0($DP749,6)","v":""},{"$f":"getNumKeta0($DP749,5)","v":""},{"$f":"getNumKeta0($DP749,4)","v":""},{"$f":"getNumKeta0($DP749,3)","v":""},{"$f":"getNumKeta0($DP749,2)","v":""},{"$f":"getNumKeta0($DP749,1)","v":""},"Ｂ",{"$f":"IF($DQ749=0,\"\", $DQ749)","v":""},null,null,null,null,null,null,null,null,null,null,null,null,null,null,null,null,null,null,{"$f":"IF($DK747/15=ROUNDUP(MAX($DJ:$DJ)/15,0),VLOOKUP($E$14,基本情報_工事名称マスタ,6,FALSE),0)","v":0},{"$f":"IF($DK747/15=ROUNDUP(MAX($DJ:$DJ)/15,0),ROUND((DQ750-VLOOKUP($E$14,基本情報_工事名称マスタ,5,FALSE))/(基本情報_消費税率*100+100)*(基本情報_消費税率*100),0),0)","v":0}]
[null,null,null,null,null,null,null,null,null,null,null,null,null,null,null,null,null,null,null,null,null,null,"　　合　　　　　　計",null,null,null,null,null,null,null,null,null,null,null,{"$f":"getNumKeta0($DP750,9)","v":""},{"$f":"getNumKeta0($DP750,8)","v":""},{"$f":"getNumKeta0($DP750,7)","v":""},{"$f":"getNumKeta0($DP750,6)","v":""},{"$f":"getNumKeta0($DP750,5)","v":""},{"$f":"getNumKeta0($DP750,4)","v":""},{"$f":"getNumKeta0($DP750,3)","v":""},{"$f":"getNumKeta0($DP750,2)","v":""},{"$f":"getNumKeta0($DP750,1)","v":""},"Ｃ",{"$f":"IF($DQ750=0,\"\", $DQ750)","v":""},null,null,null,null,null,null,null,null,null,null,null,null,null,null,null,null,null,null,null,null,null,null,null,null,null,null,null,null,null,null,null,null,null,"　　合　　　　　　計",null,null,null,null,null,null,null,null,null,null,null,{"$f":"getNumKeta0($DP750,9)","v":""},{"$f":"getNumKeta0($DP750,8)","v":""},{"$f":"getNumKeta0($DP750,7)","v":""},{"$f":"getNumKeta0($DP750,6)","v":""},{"$f":"getNumKeta0($DP750,5)","v":""},{"$f":"getNumKeta0($DP750,4)","v":""},{"$f":"getNumKeta0($DP750,3)","v":""},{"$f":"getNumKeta0($DP750,2)","v":""},{"$f":"getNumKeta0($DP750,1)","v":""},"Ｃ",{"$f":"IF($DQ750=0,\"\", $DQ750)","v":""},null,null,null,null,null,null,null,null,null,null,null,null,null,null,null,null,null,null,{"$f":"IF($DK747/15=ROUNDUP(MAX($DJ:$DJ)/15,0),VLOOKUP($E$14,基本情報_工事名称マスタ,7,FALSE),0)","v":0},{"$f":"DP750","v":0}]
[null,null,null,null,null,null,null,null,null,null,null,null,null,null,null,null,null,null,null,null,null,null,"貴社→請求書(添付)→経理(控)",null,null,null,null,null,null,null,null,null,null,null,null,null,null,null,null,null,null,null,null,null,null,null,null,null,null,null,null,null,null,null,null,null,null,null,null,null,null,null,null,null,null,null,null,null,null,null,null,null,null,null,null,null,null,null,"貴社→請求書(添付)→経理→作業所長(控)"]
[]
[null,null,null,null,null,null,null,null,null,null,null,null,null,null,null,null,null,null,null,null,null,null,null,null,null,null,null,null,null,null,null,null,null,null,null,null,null,null,null,null,null,null,null,null,{"$f":"\"P \" & B794/15 & \"/\" & ROUNDUP(COUNTIF(請求明細_工事場所, E766)/15,0)","v":"P 17/1"},null,null,null,null,null,null,null,null,null,null,null,null,null,null,null,null,null,null,null,null,null,null,null,null,null,null,null,null,null,null,null,null,null,null,null,null,null,null,null,null,null,null,null,null,null,null,null,null,null,null,null,null,null,null,null,{"$f":"\"P \" & BF794/15 & \"/\" & ROUNDUP(COUNTIF(請求明細_工事場所, BI766)/15,0)","v":"P 17/1"}]
[null,null,null,"請求明細書（一般）",null,null,null,null,null,null,null,null,null,null,null,null,null,null,null,null,null,null,null,null,null,"取引先",null,null,{"$f":"基本情報_取引先コード","v":999999},null,null,null,null,null,null,null,null,null,"締\n日",null,null,{"$f":"基本情報_請求締日","v":"2020-07-31"},null,null,null,null,null,null,null,null,null,null,null,null,null,null,null,null,null,"請求明細書（一般）",null,null,null,null,null,null,null,null,null,null,null,null,null,null,null,null,null,null,null,null,null,"取引先",null,null,{"$f":"基本情報_取引先コード","v":999999},null,null,null,null,null,null,null,null,null,"締\n日",null,null,{"$f":"基本情報_請求締日","v":"2020-07-31"}]
[null,null,null,null,null,null,null,null,null,"提出用",null,null,null,null,null,null,null,null,null,null,null,null,null,null,null,null,null,null,null,null,null,null,null,null,null,null,null,null,null,null,null,null,null,null,null,null,null,null,null,null,null,null,null,null,null,null,null,null,null,null,null,null,null,null,null,"提出用"]
[]
[null,null,null,null,null,null,null,null,null,null,null,null,null,null,null,null,null,null,null,null,null,null,null,null,null,"コード",null,null,null,null,null,null,null,null,null,null,null,null,null,null,null,null,null,null,null,null,null,null,null,null,null,null,null,null,null,null,null,null,null,null,null,null,null,null,null,null,null,null,null,null,null,null,null,null,null,null,null,null,null,null,null,"コード"]
[]
[]
[null,"丸高・みなと特定建設工事共同企業体　御中",null,null,null,null,null,null,null,null,null,null,null,null,null,null,null,null,null,null,null,null,null,null,null,"（住所・社名・電話）",null,null,null,null,null,null,null,null,null,null,null,null,null,null,null,null,null,null,null,null,null,null,null,null,null,null,null,null,null,null,null,"丸高・みなと特定建設工事共同企業体　御中",null,null,null,null,null,null,null,null,null,null,null,null,null,null,null,null,null,null,null,null,null,null,null,"（住所・社名・電話）"]
[]
[]
[]
[null,null,null,null,null,null,null,null,null,null,null,null,null,null,null,null,null,null,null,null,null,null,null,null,null,null,null,null,{"$f":"基本情報_住所","v":"酒田市○○○○１－１"},null,null,null,null,null,null,null,null,null,null,null,null,null,null,null,null,null,null,null,null,null,null,null,null,null,null,null,null,null,null,null,null,null,null,null,null,null,null,null,null,null,null,null,null,null,null,null,null,null,null,null,null,null,null,null,{"$f":"基本情報_住所","v":"酒田市○○○○１－１"}]
[]
[null,"工　事　名",null,null,{"$f":"$E$14","v":"×××××工事"},null,null,null,null,null,null,null,null,null,null,"承　　認",null,null,null,null,null,"検　　印",null,null,null,null,null,null,null,null,null,null,null,null,null,null,null,null,null,null,null,null,null,null,null,null,null,null,null,null,null,null,null,null,null,null,null,"工　事　名",null,null,{"$f":"$E$14","v":"×××××工事"},null,null,null,null,null,null,null,null,null,null,"承　　認",null,null,null,null,null,"検　　印"]
[]
[]
[null,null,null,null,null,null,null,null,null,null,null,null,null,null,null,null,null,null,null,null,null,null,null,null,null,null,null,null,{"$f":"基本情報_社名","v":"(株）○○建設"},null,null,null,null,null,null,null,null,null,null,null,null,null,null,null,null,null,null,null,null,null,"印",null,null,null,null,null,null,null,null,null,null,null,null,null,null,null,null,null,null,null,null,null,null,null,null,null,null,null,null,null,null,null,null,null,{"$f":"基本情報_社名","v":"(株）○○建設"},null,null,null,null,null,null,null,null,null,null,null,null,null,null,null,null,null,null,null,null,null,"印"]
[]
[]
[null,"作業所長名",null,null,{"$f":"VLOOKUP(E766,基本情報_工事名称マスタ,3,FALSE)","v":"××次郎"},null,null,null,null,null,null,null,null,null,null,null,null,null,null,null,null,null,null,null,null,null,null,null,null,null,null,null,null,null,null,null,null,null,null,null,null,null,null,null,null,null,null,null,null,null,null,null,null,null,null,null,null,"作業所長名",null,null,{"$f":"VLOOKUP(BI766,基本情報_工事名称マスタ,3,FALSE)","v":"××次郎"}]
[]
[null,null,null,null,null,null,null,null,null,null,null,null,null,null,null,null,null,null,null,null,null,null,null,null,null,null,null,null,{"$f":"基本情報_電話番号","v":"0234 - 00 - 0000"},null,null,null,null,null,null,null,null,null,null,null,null,null,null,null,null,null,null,null,null,null,null,null,null,null,null,null,null,null,null,null,null,null,null,null,null,null,null,null,null,null,null,null,null,null,null,null,null,null,null,null,null,null,null,null,{"$f":"基本情報_電話番号","v":"0234 - 00 - 0000"}]
[]
[]
[]
[]
[null,"通番","納入年月日",null,null,"品　名　・　規　格",null,null,null,"数　　　　量",null,null,null,null,null,null,null,null,null,null,null,"単 位","単　　　　価",null,null,null,null,null,null,null,null,null,null,null,"金　　　額",null,null,null,null,null,null,null,null,"備　考",null,null,null,null,null,null,null,null,null,null,null,null,null,"通番","納入年月日",null,null,"品　名　・　規　格",null,null,null,"数　　　　量",null,null,null,null,null,null,null,null,null,null,null,"単 位","単　　　　価",null,null,null,null,null,null,null,null,null,null,null,"金　　　額",null,null,null,null,null,null,null,null,"備　考",null,null,null,null,null,null,null,null,null,null,null,null,"ヒット","ランク","-","通番","数量","単価","金額"]
[null,{"$f":"B747+1","v":241},{"$f":"IF(ISNA($DL780),\"\",VLOOKUP($DL780,請求明細,3,FALSE))","v":""},null,null,{"$f":"IF(ISNA($DL780),\"\",VLOOKUP($DL780,請求明細,4,FALSE))","v":""},null,null,null,{"$f":"IF(ISNA($DL780),\"\",getNumKeta0($DM780,9))","v":""},{"$f":"IF(ISNA($DL780),\"\",getNumKeta0($DM780,8))","v":""},{"$f":"IF(ISNA($DL780),\"\",getNumKeta0($DM780,7))","v":""},{"$f":"IF(ISNA($DL780),\"\",getNumKeta0($DM780,6))","v":""},{"$f":"IF(ISNA($DL780),\"\",getNumKeta0($DM780,5))","v":""},{"$f":"IF(ISNA($DL780),\"\",getNumKeta0($DM780,4))","v":""},{"$f":"IF(ISNA($DL780),\"\",getNumKeta0($DM780,3))","v":""},{"$f":"IF(ISNA($DL780),\"\",getNumKeta0($DM780,2))","v":""},{"$f":"IF(ISNA($DL780),\"\",getNumKeta0($DM780,1))","v":""},{"$f":"IF(ISNA($DL780),\"\",getNumKeta0($DM780,-1))","v":""},{"$f":"IF(ISNA($DL780),\"\",getNumKeta0($DM780,-2))","v":""},{"$f":"IF(ISNA($DL780),\"\",getNumKeta0($DM780,-3))","v":""},{"$f":"IF(ISNA($DL780),\"\",VLOOKUP($DL780,請求明細,6,FALSE))","v":""},{"$f":"IF(ISNA($DL780),\"\",getNumKeta0($DN780,9))","v":""},{"$f":"IF(ISNA($DL780),\"\",getNumKeta0($DN780,8))","v":""},{"$f":"IF(ISNA($DL780),\"\",getNumKeta0($DN780,7))","v":""},{"$f":"IF(ISNA($DL780),\"\",getNumKeta0($DN780,6))","v":""},{"$f":"IF(ISNA($DL780),\"\",getNumKeta0($DN780,5))","v":""},{"$f":"IF(ISNA($DL780),\"\",getNumKeta0($DN780,4))","v":""},{"$f":"IF(ISNA($DL780),\"\",getNumKeta0($DN780,3))","v":""},{"$f":"IF(ISNA($DL780),\"\",getNumKeta0($DN780,2))","v":""},{"$f":"IF(ISNA($DL780),\"\",getNumKeta0($DN780,1))","v":""},{"$f":"IF(ISNA($DL780),\"\",getNumKeta0($DN780,-1))","v":""},{"$f":"IF(ISNA($DL780),\"\",getNumKeta0($DN780,-2))","v":""},{"$f":"IF(ISNA($DL780),\"\",getNumKeta0($DN780,-3))","v":""},{"$f":"IF(ISNA($DL780),\"\",getNumKeta0($DO780,9))","v":""},{"$f":"IF(ISNA($DL780),\"\",getNumKeta0($DO780,8))","v":""},{"$f":"IF(ISNA($DL780),\"\",getNumKeta0($DO780,7))","v":""},{"$f":"IF(ISNA($DL780),\"\",getNumKeta0($DO780,6))","v":""},{"$f":"IF(ISNA($DL780),\"\",getNumKeta0($DO780,5))","v":""},{"$f":"IF(ISNA($DL780),\"\",getNumKeta0($DO780,4))","v":""},{"$f":"IF(ISNA($DL780),\"\",getNumKeta0($DO780,3))","v":""},{"$f":"IF(ISNA($DL780),\"\",getNumKeta0($DO780,2))","v":""},{"$f":"IF(ISNA($DL780),\"\",getNumKeta0($DO780,1))","v":""},{"$f":"IF(ISNA($DL780),\"\",LEFT(VLOOKUP($DL780,請求明細,10,FALSE),16))","v":""},null,null,null,null,null,null,null,null,null,null,null,null,null,{"$f":"BF747+1","v":241},{"$f":"IF(ISNA($DL780),\"\",VLOOKUP($DL780,請求明細,3,FALSE))","v":""},null,null,{"$f":"IF(ISNA($DL780),\"\",VLOOKUP($DL780,請求明細,4,FALSE))","v":""},null,null,null,{"$f":"IF(ISNA($DL780),\"\",getNumKeta0($DM780,9))","v":""},{"$f":"IF(ISNA($DL780),\"\",getNumKeta0($DM780,8))","v":""},{"$f":"IF(ISNA($DL780),\"\",getNumKeta0($DM780,7))","v":""},{"$f":"IF(ISNA($DL780),\"\",getNumKeta0($DM780,6))","v":""},{"$f":"IF(ISNA($DL780),\"\",getNumKeta0($DM780,5))","v":""},{"$f":"IF(ISNA($DL780),\"\",getNumKeta0($DM780,4))","v":""},{"$f":"IF(ISNA($DL780),\"\",getNumKeta0($DM780,3))","v":""},{"$f":"IF(ISNA($DL780),\"\",getNumKeta0($DM780,2))","v":""},{"$f":"IF(ISNA($DL780),\"\",getNumKeta0($DM780,1))","v":""},{"$f":"IF(ISNA($DL780),\"\",getNumKeta0($DM780,-1))","v":""},{"$f":"IF(ISNA($DL780),\"\",getNumKeta0($DM780,-2))","v":""},{"$f":"IF(ISNA($DL780),\"\",getNumKeta0($DM780,-3))","v":""},{"$f":"IF(ISNA($DL780),\"\",VLOOKUP($DL780,請求明細,6,FALSE))","v":""},{"$f":"IF(ISNA($DL780),\"\",getNumKeta0($DN780,9))","v":""},{"$f":"IF(ISNA($DL780),\"\",getNumKeta0($DN780,8))","v":""},{"$f":"IF(ISNA($DL780),\"\",getNumKeta0($DN780,7))","v":""},{"$f":"IF(ISNA($DL780),\"\",getNumKeta0($DN780,6))","v":""},{"$f":"IF(ISNA($DL780),\"\",getNumKeta0($DN780,5))","v":""},{"$f":"IF(ISNA($DL780),\"\",getNumKeta0($DN780,4))","v":""},{"$f":"IF(ISNA($DL780),\"\",getNumKeta0($DN780,3))","v":""},{"$f":"IF(ISNA($DL780),\"\",getNumKeta0($DN780,2))","v":""},{"$f":"IF(ISNA($DL780),\"\",getNumKeta0($DN780,1))","v":""},{"$f":"IF(ISNA($DL780),\"\",getNumKeta0($DN780,-1))","v":""},{"$f":"IF(ISNA($DL780),\"\",getNumKeta0($DN780,-2))","v":""},{"$f":"IF(ISNA($DL780),\"\",getNumKeta0($DN780,-3))","v":""},{"$f":"IF(ISNA($DL780),\"\",getNumKeta0($DO780,9))","v":""},{"$f":"IF(ISNA($DL780),\"\",getNumKeta0($DO780,8))","v":""},{"$f":"IF(ISNA($DL780),\"\",getNumKeta0($DO780,7))","v":""},{"$f":"IF(ISNA($DL780),\"\",getNumKeta0($DO780,6))","v":""},{"$f":"IF(ISNA($DL780),\"\",getNumKeta0($DO780,5))","v":""},{"$f":"IF(ISNA($DL780),\"\",getNumKeta0($DO780,4))","v":""},{"$f":"IF(ISNA($DL780),\"\",getNumKeta0($DO780,3))","v":""},{"$f":"IF(ISNA($DL780),\"\",getNumKeta0($DO780,2))","v":""},{"$f":"IF(ISNA($DL780),\"\",getNumKeta0($DO780,1))","v":""},{"$f":"IF(ISNA($DL780),\"\",LEFT(VLOOKUP($DL780,請求明細,10,FALSE),16))","v":""},null,null,null,null,null,null,null,null,null,null,null,null,{"$f":"IF($E$14=OFFSET(明細情報!$B$5, $DK780-1,0),1,0)","v":0},{"$f":"IF($DI780=0, 0, SUM($DI$28:$DI780))","v":0},{"$f":"DK747+1","v":241},{"$f":"VLOOKUP(B780,$DJ$28:$DK$65536,2,FALSE)","v":{"$error":"#N/A"}},{"$f":"IF(ISNA($DL780),0,VLOOKUP($DL780,請求明細,5,FALSE))","v":0},{"$f":"IF(ISNA($DL780),0,VLOOKUP($DL780,請求明細,7,FALSE))","v":0},{"$f":"IF(ISNA($DL780),0,VLOOKUP($DL780,請求明細,9,FALSE))","v":0}]
[null,{"$f":"B780+1","v":242},"",null,null,"",null,null,null,"","","","","","","","","","","","","","","","","","","","","","","","","","","","","","","","","","","",null,null,null,null,null,null,null,null,null,null,null,null,null,{"$f":"BF780+1","v":242},"",null,null,"",null,null,null,"","","","","","","","","","","","","","","","","","","","","","","","","","","","","","","","","","","",null,null,null,null,null,null,null,null,null,null,null,null,{"$f":"IF($E$14=OFFSET(明細情報!$B$5, $DK781-1,0),1,0)","v":0},{"$f":"IF($DI781=0, 0, SUM($DI$28:$DI781))","v":0},{"$f":"DK780+1","v":242},{"$error":"#N/A"},0,0,0]
[null,243,"",null,null,"",null,null,null,"","","","","","","","","","","","","","","","","","","","","","","","","","","","","","","","","","","",null,null,null,null,null,null,null,null,null,null,null,null,null,243,"",null,null,"",null,null,null,"","","","","","","","","","","","","","","","","","","","","","","","","","","","","","","","","","","",null,null,null,null,null,null,null,null,null,null,null,null,{"$f":"IF($E$14=OFFSET(明細情報!$B$5, $DK782-1,0),1,0)","v":0},{"$f":"IF($DI782=0, 0, SUM($DI$28:$DI782))","v":0},243,{"$error":"#N/A"},0,0,0]
[null,244,"",null,null,"",null,null,null,"","","","","","","","","","","","","","","","","","","","","","","","","","","","","","","","","","","",null,null,null,null,null,null,null,null,null,null,null,null,null,244,"",null,null,"",null,null,null,"","","","","","","","","","","","","","","","","","","","","","","","","","","","","","","","","","","",null,null,null,null,null,null,null,null,null,null,null,null,{"$f":"IF($E$14=OFFSET(明細情報!$B$5, $DK783-1,0),1,0)","v":0},{"$f":"IF($DI783=0, 0, SUM($DI$28:$DI783))","v":0},244,{"$error":"#N/A"},0,0,0]
[null,245,"",null,null,"",null,null,null,"","","","","","","","","","","","","","","","","","","","","","","","","","","","","","","","","","","",null,null,null,null,null,null,null,null,null,null,null,null,null,245,"",null,null,"",null,null,null,"","","","","","","","","","","","","","","","","","","","","","","","","","","","","","","","","","","",null,null,null,null,null,null,null,null,null,null,null,null,{"$f":"IF($E$14=OFFSET(明細情報!$B$5, $DK784-1,0),1,0)","v":0},{"$f":"IF($DI784=0, 0, SUM($DI$28:$DI784))","v":0},245,{"$error":"#N/A"},0,0,0]
[null,246,"",null,null,"",null,null,null,"","","","","","","","","","","","","","","","","","","","","","","","","","","","","","","","","","","",null,null,null,null,null,null,null,null,null,null,null,null,null,246,"",null,null,"",null,null,null,"","","","","","","","","","","","","","","","","","","","","","","","","","","","","","","","","","","",null,null,null,null,null,null,null,null,null,null,null,null,{"$f":"IF($E$14=OFFSET(明細情報!$B$5, $DK785-1,0),1,0)","v":0},{"$f":"IF($DI785=0, 0, SUM($DI$28:$DI785))","v":0},246,{"$error":"#N/A"},0,0,0]
[null,247,"",null,null,"",null,null,null,"","","","","","","","","","","","","","","","","","","","","","","","","","","","","","","","","","","",null,null,null,null,null,null,null,null,null,null,null,null,null,247,"",null,null,"",null,null,null,"","","","","","","","","","","","","","","","","","","","","","","","","","","","","","","","","","","",null,null,null,null,null,null,null,null,null,null,null,null,{"$f":"IF($E$14=OFFSET(明細情報!$B$5, $DK786-1,0),1,0)","v":0},{"$f":"IF($DI786=0, 0, SUM($DI$28:$DI786))","v":0},247,{"$error":"#N/A"},0,0,0]
[null,248,"",null,null,"",null,null,null,"","","","","","","","","","","","","","","","","","","","","","","","","","","","","","","","","","","",null,null,null,null,null,null,null,null,null,null,null,null,null,248,"",null,null,"",null,null,null,"","","","","","","","","","","","","","","","","","","","","","","","","","","","","","","","","","","",null,null,null,null,null,null,null,null,null,null,null,null,{"$f":"IF($E$14=OFFSET(明細情報!$B$5, $DK787-1,0),1,0)","v":0},{"$f":"IF($DI787=0, 0, SUM($DI$28:$DI787))","v":0},248,{"$error":"#N/A"},0,0,0]
[null,249,"",null,null,"",null,null,null,"","","","","","","","","","","","","","","","","","","","","","","","","","","","","","","","","","","",null,null,null,null,null,null,null,null,null,null,null,null,null,249,"",null,null,"",null,null,null,"","","","","","","","","","","","","","","","","","","","","","","","","","","","","","","","","","","",null,null,null,null,null,null,null,null,null,null,null,null,{"$f":"IF($E$14=OFFSET(明細情報!$B$5, $DK788-1,0),1,0)","v":0},{"$f":"IF($DI788=0, 0, SUM($DI$28:$DI788))","v":0},249,{"$error":"#N/A"},0,0,0]
[null,250,"",null,null,"",null,null,null,"","","","","","","","","","","","","","","","","","","","","","","","","","","","","","","","","","","",null,null,null,null,null,null,null,null,null,null,null,null,null,250,"",null,null,"",null,null,null,"","","","","","","","","","","","","","","","","","","","","","","","","","","","","","","","","","","",null,null,null,null,null,null,null,null,null,null,null,null,{"$f":"IF($E$14=OFFSET(明細情報!$B$5, $DK789-1,0),1,0)","v":0},{"$f":"IF($DI789=0, 0, SUM($DI$28:$DI789))","v":0},250,{"$error":"#N/A"},0,0,0]
[null,251,"",null,null,"",null,null,null,"","","","","","","","","","","","","","","","","","","","","","","","","","","","","","","","","","","",null,null,null,null,null,null,null,null,null,null,null,null,null,251,"",null,null,"",null,null,null,"","","","","","","","","","","","","","","","","","","","","","","","","","","","","","","","","","","",null,null,null,null,null,null,null,null,null,null,null,null,{"$f":"IF($E$14=OFFSET(明細情報!$B$5, $DK790-1,0),1,0)","v":0},{"$f":"IF($DI790=0, 0, SUM($DI$28:$DI790))","v":0},251,{"$error":"#N/A"},0,0,0]
[null,252,"",null,null,"",null,null,null,"","","","","","","","","","","","","","","","","","","","","","","","","","","","","","","","","","","",null,null,null,null,null,null,null,null,null,null,null,null,null,252,"",null,null,"",null,null,null,"","","","","","","","","","","","","","","","","","","","","","","","","","","","","","","","","","","",null,null,null,null,null,null,null,null,null,null,null,null,{"$f":"IF($E$14=OFFSET(明細情報!$B$5, $DK791-1,0),1,0)","v":0},{"$f":"IF($DI791=0, 0, SUM($DI$28:$DI791))","v":0},252,{"$error":"#N/A"},0,0,0]
[null,253,"",null,null,"",null,null,null,"","","","","","","","","","","","","","","","","","","","","","","","","","","","","","","","","","","",null,null,null,null,null,null,null,null,null,null,null,null,null,253,"",null,null,"",null,null,null,"","","","","","","","","","","","","","","","","","","","","","","","","","","","","","","","","","","",null,null,null,null,null,null,null,null,null,null,null,null,{"$f":"IF($E$14=OFFSET(明細情報!$B$5, $DK792-1,0),1,0)","v":0},{"$f":"IF($DI792=0, 0, SUM($DI$28:$DI792))","v":0},253,{"$error":"#N/A"},0,0,0]
[null,254,"",null,null,"",null,null,null,"","","","","","","","","","","","","","","","","","","","","","","","","","","","","","","","","","","",null,null,null,null,null,null,null,null,null,null,null,null,null,254,"",null,null,"",null,null,null,"","","","","","","","","","","","","","","","","","","","","","","","","","","","","","","","","","","",null,null,null,null,null,null,null,null,null,null,null,null,{"$f":"IF($E$14=OFFSET(明細情報!$B$5, $DK793-1,0),1,0)","v":0},{"$f":"IF($DI793=0, 0, SUM($DI$28:$DI793))","v":0},254,{"$error":"#N/A"},0,0,0]
[null,255,"",null,null,"",null,null,null,"","","","","","","","","","","","","","","","","","","","","","","","","","","","","","","","","","","",null,null,null,null,null,null,null,null,null,null,null,null,null,255,"",null,null,"",null,null,null,"","","","","","","","","","","","","","","","","","","","","","","","","","","","","","","","","","","",null,null,null,null,null,null,null,null,null,null,null,null,{"$f":"IF($E$14=OFFSET(明細情報!$B$5, $DK794-1,0),1,0)","v":0},{"$f":"IF($DI794=0, 0, SUM($DI$28:$DI794))","v":0},255,{"$error":"#N/A"},0,0,0]
[null,null,null,null,null,null,null,null,null,null,null,null,null,null,null,null,null,null,null,null,null,null,"　　小　　　　　　計",null,null,null,null,null,null,null,null,null,null,null,{"$f":"getNumKeta0($DP795,9)","v":""},{"$f":"getNumKeta0($DP795,8)","v":""},{"$f":"getNumKeta0($DP795,7)","v":""},{"$f":"getNumKeta0($DP795,6)","v":""},{"$f":"getNumKeta0($DP795,5)","v":""},{"$f":"getNumKeta0($DP795,4)","v":""},{"$f":"getNumKeta0($DP795,3)","v":""},{"$f":"getNumKeta0($DP795,2)","v":""},{"$f":"getNumKeta0($DP795,1)","v":""},"Ａ",{"$f":"IF($DQ795=0,\"\", $DQ795)","v":""},null,null,null,null,null,null,null,null,{"$f":"IF($DP795<>$DQ795,\"*\",\"\")","v":""},null,null,null,null,null,null,null,null,null,null,null,null,null,null,null,null,null,null,null,null,null,null,null,null,"　　小　　　　　　計",null,null,null,null,null,null,null,null,null,null,null,{"$f":"getNumKeta0($DP795,9)","v":""},{"$f":"getNumKeta0($DP795,8)","v":""},{"$f":"getNumKeta0($DP795,7)","v":""},{"$f":"getNumKeta0($DP795,6)","v":""},{"$f":"getNumKeta0($DP795,5)","v":""},{"$f":"getNumKeta0($DP795,4)","v":""},{"$f":"getNumKeta0($DP795,3)","v":""},{"$f":"getNumKeta0($DP795,2)","v":""},{"$f":"getNumKeta0($DP795,1)","v":""},"Ａ",{"$f":"IF($DQ795=0,\"\", $DQ795)","v":""},null,null,null,null,null,null,null,null,{"$f":"IF($DP795<>$DQ795,\"*\",\"\")","v":""},null,null,null,null,null,null,null,null,null,{"$f":"IF($DK794/15=ROUNDUP(MAX($DJ:$DJ)/15,0),VLOOKUP($E$14,基本情報_工事名称マスタ,4,FALSE)+VLOOKUP($E$14,基本情報_工事名称マスタ,5,FALSE),0)","v":0},{"$f":"IF($DK794/15=ROUNDUP(MAX($DJ:$DJ)/15,0),DQ797-DQ796,0)","v":0}]
[null,null,null,null,null,null,null,null,null,null,null,null,null,null,null,null,null,null,null,null,null,null,"　消　費　税",null,null,null,null,null,null,null,{"$f":"基本情報_消費税率","v":0.1},null,null,null,{"$f":"getNumKeta0($DP796,9)","v":""},{"$f":"getNumKeta0($DP796,8)","v":""},{"$f":"getNumKeta0($DP796,7)","v":""},{"$f":"getNumKeta0($DP796,6)","v":""},{"$f":"getNumKeta0($DP796,5)","v":""},{"$f":"getNumKeta0($DP796,4)","v":""},{"$f":"getNumKeta0($DP796,3)","v":""},{"$f":"getNumKeta0($DP796,2)","v":""},{"$f":"getNumKeta0($DP796,1)","v":""},"Ｂ",{"$f":"IF($DQ796=0,\"\", $DQ796)","v":""},null,null,null,null,null,null,null,null,null,null,null,null,null,null,null,null,null,null,null,null,null,null,null,null,null,null,null,null,null,null,null,null,null,"　消　費　税",null,null,null,null,null,null,null,{"$f":"基本情報_消費税率","v":0.1},null,null,null,{"$f":"getNumKeta0($DP796,9)","v":""},{"$f":"getNumKeta0($DP796,8)","v":""},{"$f":"getNumKeta0($DP796,7)","v":""},{"$f":"getNumKeta0($DP796,6)","v":""},{"$f":"getNumKeta0($DP796,5)","v":""},{"$f":"getNumKeta0($DP796,4)","v":""},{"$f":"getNumKeta0($DP796,3)","v":""},{"$f":"getNumKeta0($DP796,2)","v":""},{"$f":"getNumKeta0($DP796,1)","v":""},"Ｂ",{"$f":"IF($DQ796=0,\"\", $DQ796)","v":""},null,null,null,null,null,null,null,null,null,null,null,null,null,null,null,null,null,null,{"$f":"IF($DK794/15=ROUNDUP(MAX($DJ:$DJ)/15,0),VLOOKUP($E$14,基本情報_工事名称マスタ,6,FALSE),0)","v":0},{"$f":"IF($DK794/15=ROUNDUP(MAX($DJ:$DJ)/15,0),ROUND((DQ797-VLOOKUP($E$14,基本情報_工事名称マスタ,5,FALSE))/(基本情報_消費税率*100+100)*(基本情報_消費税率*100),0),0)","v":0}]
[null,null,null,null,null,null,null,null,null,null,null,null,null,null,null,null,null,null,null,null,null,null,"　　合　　　　　　計",null,null,null,null,null,null,null,null,null,null,null,{"$f":"getNumKeta0($DP797,9)","v":""},{"$f":"getNumKeta0($DP797,8)","v":""},{"$f":"getNumKeta0($DP797,7)","v":""},{"$f":"getNumKeta0($DP797,6)","v":""},{"$f":"getNumKeta0($DP797,5)","v":""},{"$f":"getNumKeta0($DP797,4)","v":""},{"$f":"getNumKeta0($DP797,3)","v":""},{"$f":"getNumKeta0($DP797,2)","v":""},{"$f":"getNumKeta0($DP797,1)","v":""},"Ｃ",{"$f":"IF($DQ797=0,\"\", $DQ797)","v":""},null,null,null,null,null,null,null,null,null,null,null,null,null,null,null,null,null,null,null,null,null,null,null,null,null,null,null,null,null,null,null,null,null,"　　合　　　　　　計",null,null,null,null,null,null,null,null,null,null,null,{"$f":"getNumKeta0($DP797,9)","v":""},{"$f":"getNumKeta0($DP797,8)","v":""},{"$f":"getNumKeta0($DP797,7)","v":""},{"$f":"getNumKeta0($DP797,6)","v":""},{"$f":"getNumKeta0($DP797,5)","v":""},{"$f":"getNumKeta0($DP797,4)","v":""},{"$f":"getNumKeta0($DP797,3)","v":""},{"$f":"getNumKeta0($DP797,2)","v":""},{"$f":"getNumKeta0($DP797,1)","v":""},"Ｃ",{"$f":"IF($DQ797=0,\"\", $DQ797)","v":""},null,null,null,null,null,null,null,null,null,null,null,null,null,null,null,null,null,null,{"$f":"IF($DK794/15=ROUNDUP(MAX($DJ:$DJ)/15,0),VLOOKUP($E$14,基本情報_工事名称マスタ,7,FALSE),0)","v":0},{"$f":"DP797","v":0}]
[null,null,null,null,null,null,null,null,null,null,null,null,null,null,null,null,null,null,null,null,null,null,"貴社→請求書(添付)→経理(控)",null,null,null,null,null,null,null,null,null,null,null,null,null,null,null,null,null,null,null,null,null,null,null,null,null,null,null,null,null,null,null,null,null,null,null,null,null,null,null,null,null,null,null,null,null,null,null,null,null,null,null,null,null,null,null,"貴社→請求書(添付)→経理→作業所長(控)"]
[]
[null,null,null,null,null,null,null,null,null,null,null,null,null,null,null,null,null,null,null,null,null,null,null,null,null,null,null,null,null,null,null,null,null,null,null,null,null,null,null,null,null,null,null,null,{"$f":"\"P \" & B841/15 & \"/\" & ROUNDUP(COUNTIF(請求明細_工事場所, E813)/15,0)","v":"P 18/1"},null,null,null,null,null,null,null,null,null,null,null,null,null,null,null,null,null,null,null,null,null,null,null,null,null,null,null,null,null,null,null,null,null,null,null,null,null,null,null,null,null,null,null,null,null,null,null,null,null,null,null,null,null,null,null,{"$f":"\"P \" & BF841/15 & \"/\" & ROUNDUP(COUNTIF(請求明細_工事場所, BI813)/15,0)","v":"P 18/1"}]
[null,null,null,"請求明細書（一般）",null,null,null,null,null,null,null,null,null,null,null,null,null,null,null,null,null,null,null,null,null,"取引先",null,null,{"$f":"基本情報_取引先コード","v":999999},null,null,null,null,null,null,null,null,null,"締\n日",null,null,{"$f":"基本情報_請求締日","v":"2020-07-31"},null,null,null,null,null,null,null,null,null,null,null,null,null,null,null,null,null,"請求明細書（一般）",null,null,null,null,null,null,null,null,null,null,null,null,null,null,null,null,null,null,null,null,null,"取引先",null,null,{"$f":"基本情報_取引先コード","v":999999},null,null,null,null,null,null,null,null,null,"締\n日",null,null,{"$f":"基本情報_請求締日","v":"2020-07-31"}]
[null,null,null,null,null,null,null,null,null,"提出用",null,null,null,null,null,null,null,null,null,null,null,null,null,null,null,null,null,null,null,null,null,null,null,null,null,null,null,null,null,null,null,null,null,null,null,null,null,null,null,null,null,null,null,null,null,null,null,null,null,null,null,null,null,null,null,"提出用"]
[]
[null,null,null,null,null,null,null,null,null,null,null,null,null,null,null,null,null,null,null,null,null,null,null,null,null,"コード",null,null,null,null,null,null,null,null,null,null,null,null,null,null,null,null,null,null,null,null,null,null,null,null,null,null,null,null,null,null,null,null,null,null,null,null,null,null,null,null,null,null,null,null,null,null,null,null,null,null,null,null,null,null,null,"コード"]
[]
[]
[null,"丸高・みなと特定建設工事共同企業体　御中",null,null,null,null,null,null,null,null,null,null,null,null,null,null,null,null,null,null,null,null,null,null,null,"（住所・社名・電話）",null,null,null,null,null,null,null,null,null,null,null,null,null,null,null,null,null,null,null,null,null,null,null,null,null,null,null,null,null,null,null,"丸高・みなと特定建設工事共同企業体　御中",null,null,null,null,null,null,null,null,null,null,null,null,null,null,null,null,null,null,null,null,null,null,null,"（住所・社名・電話）"]
[]
[]
[]
[null,null,null,null,null,null,null,null,null,null,null,null,null,null,null,null,null,null,null,null,null,null,null,null,null,null,null,null,{"$f":"基本情報_住所","v":"酒田市○○○○１－１"},null,null,null,null,null,null,null,null,null,null,null,null,null,null,null,null,null,null,null,null,null,null,null,null,null,null,null,null,null,null,null,null,null,null,null,null,null,null,null,null,null,null,null,null,null,null,null,null,null,null,null,null,null,null,null,{"$f":"基本情報_住所","v":"酒田市○○○○１－１"}]
[]
[null,"工　事　名",null,null,{"$f":"$E$14","v":"×××××工事"},null,null,null,null,null,null,null,null,null,null,"承　　認",null,null,null,null,null,"検　　印",null,null,null,null,null,null,null,null,null,null,null,null,null,null,null,null,null,null,null,null,null,null,null,null,null,null,null,null,null,null,null,null,null,null,null,"工　事　名",null,null,{"$f":"$E$14","v":"×××××工事"},null,null,null,null,null,null,null,null,null,null,"承　　認",null,null,null,null,null,"検　　印"]
[]
[]
[null,null,null,null,null,null,null,null,null,null,null,null,null,null,null,null,null,null,null,null,null,null,null,null,null,null,null,null,{"$f":"基本情報_社名","v":"(株）○○建設"},null,null,null,null,null,null,null,null,null,null,null,null,null,null,null,null,null,null,null,null,null,"印",null,null,null,null,null,null,null,null,null,null,null,null,null,null,null,null,null,null,null,null,null,null,null,null,null,null,null,null,null,null,null,null,null,{"$f":"基本情報_社名","v":"(株）○○建設"},null,null,null,null,null,null,null,null,null,null,null,null,null,null,null,null,null,null,null,null,null,"印"]
[]
[]
[null,"作業所長名",null,null,{"$f":"VLOOKUP(E813,基本情報_工事名称マスタ,3,FALSE)","v":"××次郎"},null,null,null,null,null,null,null,null,null,null,null,null,null,null,null,null,null,null,null,null,null,null,null,null,null,null,null,null,null,null,null,null,null,null,null,null,null,null,null,null,null,null,null,null,null,null,null,null,null,null,null,null,"作業所長名",null,null,{"$f":"VLOOKUP(BI813,基本情報_工事名称マスタ,3,FALSE)","v":"××次郎"}]
[]
[null,null,null,null,null,null,null,null,null,null,null,null,null,null,null,null,null,null,null,null,null,null,null,null,null,null,null,null,{"$f":"基本情報_電話番号","v":"0234 - 00 - 0000"},null,null,null,null,null,null,null,null,null,null,null,null,null,null,null,null,null,null,null,null,null,null,null,null,null,null,null,null,null,null,null,null,null,null,null,null,null,null,null,null,null,null,null,null,null,null,null,null,null,null,null,null,null,null,null,{"$f":"基本情報_電話番号","v":"0234 - 00 - 0000"}]
[]
[]
[]
[]
[null,"通番","納入年月日",null,null,"品　名　・　規　格",null,null,null,"数　　　　量",null,null,null,null,null,null,null,null,null,null,null,"単 位","単　　　　価",null,null,null,null,null,null,null,null,null,null,null,"金　　　額",null,null,null,null,null,null,null,null,"備　考",null,null,null,null,null,null,null,null,null,null,null,null,null,"通番","納入年月日",null,null,"品　名　・　規　格",null,null,null,"数　　　　量",null,null,null,null,null,null,null,null,null,null,null,"単 位","単　　　　価",null,null,null,null,null,null,null,null,null,null,null,"金　　　額",null,null,null,null,null,null,null,null,"備　考",null,null,null,null,null,null,null,null,null,null,null,null,"ヒット","ランク","-","通番","数量","単価","金額"]
[null,{"$f":"B794+1","v":256},{"$f":"IF(ISNA($DL827),\"\",VLOOKUP($DL827,請求明細,3,FALSE))","v":""},null,null,{"$f":"IF(ISNA($DL827),\"\",VLOOKUP($DL827,請求明細,4,FALSE))","v":""},null,null,null,{"$f":"IF(ISNA($DL827),\"\",getNumKeta0($DM827,9))","v":""},{"$f":"IF(ISNA($DL827),\"\",getNumKeta0($DM827,8))","v":""},{"$f":"IF(ISNA($DL827),\"\",getNumKeta0($DM827,7))","v":""},{"$f":"IF(ISNA($DL827),\"\",getNumKeta0($DM827,6))","v":""},{"$f":"IF(ISNA($DL827),\"\",getNumKeta0($DM827,5))","v":""},{"$f":"IF(ISNA($DL827),\"\",getNumKeta0($DM827,4))","v":""},{"$f":"IF(ISNA($DL827),\"\",getNumKeta0($DM827,3))","v":""},{"$f":"IF(ISNA($DL827),\"\",getNumKeta0($DM827,2))","v":""},{"$f":"IF(ISNA($DL827),\"\",getNumKeta0($DM827,1))","v":""},{"$f":"IF(ISNA($DL827),\"\",getNumKeta0($DM827,-1))","v":""},{"$f":"IF(ISNA($DL827),\"\",getNumKeta0($DM827,-2))","v":""},{"$f":"IF(ISNA($DL827),\"\",getNumKeta0($DM827,-3))","v":""},{"$f":"IF(ISNA($DL827),\"\",VLOOKUP($DL827,請求明細,6,FALSE))","v":""},{"$f":"IF(ISNA($DL827),\"\",getNumKeta0($DN827,9))","v":""},{"$f":"IF(ISNA($DL827),\"\",getNumKeta0($DN827,8))","v":""},{"$f":"IF(ISNA($DL827),\"\",getNumKeta0($DN827,7))","v":""},{"$f":"IF(ISNA($DL827),\"\",getNumKeta0($DN827,6))","v":""},{"$f":"IF(ISNA($DL827),\"\",getNumKeta0($DN827,5))","v":""},{"$f":"IF(ISNA($DL827),\"\",getNumKeta0($DN827,4))","v":""},{"$f":"IF(ISNA($DL827),\"\",getNumKeta0($DN827,3))","v":""},{"$f":"IF(ISNA($DL827),\"\",getNumKeta0($DN827,2))","v":""},{"$f":"IF(ISNA($DL827),\"\",getNumKeta0($DN827,1))","v":""},{"$f":"IF(ISNA($DL827),\"\",getNumKeta0($DN827,-1))","v":""},{"$f":"IF(ISNA($DL827),\"\",getNumKeta0($DN827,-2))","v":""},{"$f":"IF(ISNA($DL827),\"\",getNumKeta0($DN827,-3))","v":""},{"$f":"IF(ISNA($DL827),\"\",getNumKeta0($DO827,9))","v":""},{"$f":"IF(ISNA($DL827),\"\",getNumKeta0($DO827,8))","v":""},{"$f":"IF(ISNA($DL827),\"\",getNumKeta0($DO827,7))","v":""},{"$f":"IF(ISNA($DL827),\"\",getNumKeta0($DO827,6))","v":""},{"$f":"IF(ISNA($DL827),\"\",getNumKeta0($DO827,5))","v":""},{"$f":"IF(ISNA($DL827),\"\",getNumKeta0($DO827,4))","v":""},{"$f":"IF(ISNA($DL827),\"\",getNumKeta0($DO827,3))","v":""},{"$f":"IF(ISNA($DL827),\"\",getNumKeta0($DO827,2))","v":""},{"$f":"IF(ISNA($DL827),\"\",getNumKeta0($DO827,1))","v":""},{"$f":"IF(ISNA($DL827),\"\",LEFT(VLOOKUP($DL827,請求明細,10,FALSE),16))","v":""},null,null,null,null,null,null,null,null,null,null,null,null,null,{"$f":"BF794+1","v":256},{"$f":"IF(ISNA($DL827),\"\",VLOOKUP($DL827,請求明細,3,FALSE))","v":""},null,null,{"$f":"IF(ISNA($DL827),\"\",VLOOKUP($DL827,請求明細,4,FALSE))","v":""},null,null,null,{"$f":"IF(ISNA($DL827),\"\",getNumKeta0($DM827,9))","v":""},{"$f":"IF(ISNA($DL827),\"\",getNumKeta0($DM827,8))","v":""},{"$f":"IF(ISNA($DL827),\"\",getNumKeta0($DM827,7))","v":""},{"$f":"IF(ISNA($DL827),\"\",getNumKeta0($DM827,6))","v":""},{"$f":"IF(ISNA($DL827),\"\",getNumKeta0($DM827,5))","v":""},{"$f":"IF(ISNA($DL827),\"\",getNumKeta0($DM827,4))","v":""},{"$f":"IF(ISNA($DL827),\"\",getNumKeta0($DM827,3))","v":""},{"$f":"IF(ISNA($DL827),\"\",getNumKeta0($DM827,2))","v":""},{"$f":"IF(ISNA($DL827),\"\",getNumKeta0($DM827,1))","v":""},{"$f":"IF(ISNA($DL827),\"\",getNumKeta0($DM827,-1))","v":""},{"$f":"IF(ISNA($DL827),\"\",getNumKeta0($DM827,-2))","v":""},{"$f":"IF(ISNA($DL827),\"\",getNumKeta0($DM827,-3))","v":""},{"$f":"IF(ISNA($DL827),\"\",VLOOKUP($DL827,請求明細,6,FALSE))","v":""},{"$f":"IF(ISNA($DL827),\"\",getNumKeta0($DN827,9))","v":""},{"$f":"IF(ISNA($DL827),\"\",getNumKeta0($DN827,8))","v":""},{"$f":"IF(ISNA($DL827),\"\",getNumKeta0($DN827,7))","v":""},{"$f":"IF(ISNA($DL827),\"\",getNumKeta0($DN827,6))","v":""},{"$f":"IF(ISNA($DL827),\"\",getNumKeta0($DN827,5))","v":""},{"$f":"IF(ISNA($DL827),\"\",getNumKeta0($DN827,4))","v":""},{"$f":"IF(ISNA($DL827),\"\",getNumKeta0($DN827,3))","v":""},{"$f":"IF(ISNA($DL827),\"\",getNumKeta0($DN827,2))","v":""},{"$f":"IF(ISNA($DL827),\"\",getNumKeta0($DN827,1))","v":""},{"$f":"IF(ISNA($DL827),\"\",getNumKeta0($DN827,-1))","v":""},{"$f":"IF(ISNA($DL827),\"\",getNumKeta0($DN827,-2))","v":""},{"$f":"IF(ISNA($DL827),\"\",getNumKeta0($DN827,-3))","v":""},{"$f":"IF(ISNA($DL827),\"\",getNumKeta0($DO827,9))","v":""},{"$f":"IF(ISNA($DL827),\"\",getNumKeta0($DO827,8))","v":""},{"$f":"IF(ISNA($DL827),\"\",getNumKeta0($DO827,7))","v":""},{"$f":"IF(ISNA($DL827),\"\",getNumKeta0($DO827,6))","v":""},{"$f":"IF(ISNA($DL827),\"\",getNumKeta0($DO827,5))","v":""},{"$f":"IF(ISNA($DL827),\"\",getNumKeta0($DO827,4))","v":""},{"$f":"IF(ISNA($DL827),\"\",getNumKeta0($DO827,3))","v":""},{"$f":"IF(ISNA($DL827),\"\",getNumKeta0($DO827,2))","v":""},{"$f":"IF(ISNA($DL827),\"\",getNumKeta0($DO827,1))","v":""},{"$f":"IF(ISNA($DL827),\"\",LEFT(VLOOKUP($DL827,請求明細,10,FALSE),16))","v":""},null,null,null,null,null,null,null,null,null,null,null,null,{"$f":"IF($E$14=OFFSET(明細情報!$B$5, $DK827-1,0),1,0)","v":0},{"$f":"IF($DI827=0, 0, SUM($DI$28:$DI827))","v":0},{"$f":"DK794+1","v":256},{"$f":"VLOOKUP(B827,$DJ$28:$DK$65536,2,FALSE)","v":{"$error":"#N/A"}},{"$f":"IF(ISNA($DL827),0,VLOOKUP($DL827,請求明細,5,FALSE))","v":0},{"$f":"IF(ISNA($DL827),0,VLOOKUP($DL827,請求明細,7,FALSE))","v":0},{"$f":"IF(ISNA($DL827),0,VLOOKUP($DL827,請求明細,9,FALSE))","v":0}]
[null,{"$f":"B827+1","v":257},"",null,null,"",null,null,null,"","","","","","","","","","","","","","","","","","","","","","","","","","","","","","","","","","","",null,null,null,null,null,null,null,null,null,null,null,null,null,{"$f":"BF827+1","v":257},"",null,null,"",null,null,null,"","","","","","","","","","","","","","","","","","","","","","","","","","","","","","","","","","","",null,null,null,null,null,null,null,null,null,null,null,null,{"$f":"IF($E$14=OFFSET(明細情報!$B$5, $DK828-1,0),1,0)","v":0},{"$f":"IF($DI828=0, 0, SUM($DI$28:$DI828))","v":0},{"$f":"DK827+1","v":257},{"$error":"#N/A"},0,0,0]
[null,258,"",null,null,"",null,null,null,"","","","","","","","","","","","","","","","","","","","","","","","","","","","","","","","","","","",null,null,null,null,null,null,null,null,null,null,null,null,null,258,"",null,null,"",null,null,null,"","","","","","","","","","","","","","","","","","","","","","","","","","","","","","","","","","","",null,null,null,null,null,null,null,null,null,null,null,null,{"$f":"IF($E$14=OFFSET(明細情報!$B$5, $DK829-1,0),1,0)","v":0},{"$f":"IF($DI829=0, 0, SUM($DI$28:$DI829))","v":0},258,{"$error":"#N/A"},0,0,0]
[null,259,"",null,null,"",null,null,null,"","","","","","","","","","","","","","","","","","","","","","","","","","","","","","","","","","","",null,null,null,null,null,null,null,null,null,null,null,null,null,259,"",null,null,"",null,null,null,"","","","","","","","","","","","","","","","","","","","","","","","","","","","","","","","","","","",null,null,null,null,null,null,null,null,null,null,null,null,{"$f":"IF($E$14=OFFSET(明細情報!$B$5, $DK830-1,0),1,0)","v":0},{"$f":"IF($DI830=0, 0, SUM($DI$28:$DI830))","v":0},259,{"$error":"#N/A"},0,0,0]
[null,260,"",null,null,"",null,null,null,"","","","","","","","","","","","","","","","","","","","","","","","","","","","","","","","","","","",null,null,null,null,null,null,null,null,null,null,null,null,null,260,"",null,null,"",null,null,null,"","","","","","","","","","","","","","","","","","","","","","","","","","","","","","","","","","","",null,null,null,null,null,null,null,null,null,null,null,null,{"$f":"IF($E$14=OFFSET(明細情報!$B$5, $DK831-1,0),1,0)","v":0},{"$f":"IF($DI831=0, 0, SUM($DI$28:$DI831))","v":0},260,{"$error":"#N/A"},0,0,0]
[null,261,"",null,null,"",null,null,null,"","","","","","","","","","","","","","","","","","","","","","","","","","","","","","","","","","","",null,null,null,null,null,null,null,null,null,null,null,null,null,261,"",null,null,"",null,null,null,"","","","","","","","","","","","","","","","","","","","","","","","","","","","","","","","","","","",null,null,null,null,null,null,null,null,null,null,null,null,{"$f":"IF($E$14=OFFSET(明細情報!$B$5, $DK832-1,0),1,0)","v":0},{"$f":"IF($DI832=0, 0, SUM($DI$28:$DI832))","v":0},261,{"$error":"#N/A"},0,0,0]
[null,262,"",null,null,"",null,null,null,"","","","","","","","","","","","","","","","","","","","","","","","","","","","","","","","","","","",null,null,null,null,null,null,null,null,null,null,null,null,null,262,"",null,null,"",null,null,null,"","","","","","","","","","","","","","","","","","","","","","","","","","","","","","","","","","","",null,null,null,null,null,null,null,null,null,null,null,null,{"$f":"IF($E$14=OFFSET(明細情報!$B$5, $DK833-1,0),1,0)","v":0},{"$f":"IF($DI833=0, 0, SUM($DI$28:$DI833))","v":0},262,{"$error":"#N/A"},0,0,0]
[null,263,"",null,null,"",null,null,null,"","","","","","","","","","","","","","","","","","","","","","","","","","","","","","","","","","","",null,null,null,null,null,null,null,null,null,null,null,null,null,263,"",null,null,"",null,null,null,"","","","","","","","","","","","","","","","","","","","","","","","","","","","","","","","","","","",null,null,null,null,null,null,null,null,null,null,null,null,{"$f":"IF($E$14=OFFSET(明細情報!$B$5, $DK834-1,0),1,0)","v":0},{"$f":"IF($DI834=0, 0, SUM($DI$28:$DI834))","v":0},263,{"$error":"#N/A"},0,0,0]
[null,264,"",null,null,"",null,null,null,"","","","","","","","","","","","","","","","","","","","","","","","","","","","","","","","","","","",null,null,null,null,null,null,null,null,null,null,null,null,null,264,"",null,null,"",null,null,null,"","","","","","","","","","","","","","","","","","","","","","","","","","","","","","","","","","","",null,null,null,null,null,null,null,null,null,null,null,null,{"$f":"IF($E$14=OFFSET(明細情報!$B$5, $DK835-1,0),1,0)","v":0},{"$f":"IF($DI835=0, 0, SUM($DI$28:$DI835))","v":0},264,{"$error":"#N/A"},0,0,0]
[null,265,"",null,null,"",null,null,null,"","","","","","","","","","","","","","","","","","","","","","","","","","","","","","","","","","","",null,null,null,null,null,null,null,null,null,null,null,null,null,265,"",null,null,"",null,null,null,"","","","","","","","","","","","","","","","","","","","","","","","","","","","","","","","","","","",null,null,null,null,null,null,null,null,null,null,null,null,{"$f":"IF($E$14=OFFSET(明細情報!$B$5, $DK836-1,0),1,0)","v":0},{"$f":"IF($DI836=0, 0, SUM($DI$28:$DI836))","v":0},265,{"$error":"#N/A"},0,0,0]
[null,266,"",null,null,"",null,null,null,"","","","","","","","","","","","","","","","","","","","","","","","","","","","","","","","","","","",null,null,null,null,null,null,null,null,null,null,null,null,null,266,"",null,null,"",null,null,null,"","","","","","","","","","","","","","","","","","","","","","","","","","","","","","","","","","","",null,null,null,null,null,null,null,null,null,null,null,null,{"$f":"IF($E$14=OFFSET(明細情報!$B$5, $DK837-1,0),1,0)","v":0},{"$f":"IF($DI837=0, 0, SUM($DI$28:$DI837))","v":0},266,{"$error":"#N/A"},0,0,0]
[null,267,"",null,null,"",null,null,null,"","","","","","","","","","","","","","","","","","","","","","","","","","","","","","","","","","","",null,null,null,null,null,null,null,null,null,null,null,null,null,267,"",null,null,"",null,null,null,"","","","","","","","","","","","","","","","","","","","","","","","","","","","","","","","","","","",null,null,null,null,null,null,null,null,null,null,null,null,{"$f":"IF($E$14=OFFSET(明細情報!$B$5, $DK838-1,0),1,0)","v":0},{"$f":"IF($DI838=0, 0, SUM($DI$28:$DI838))","v":0},267,{"$error":"#N/A"},0,0,0]
[null,268,"",null,null,"",null,null,null,"","","","","","","","","","","","","","","","","","","","","","","","","","","","","","","","","","","",null,null,null,null,null,null,null,null,null,null,null,null,null,268,"",null,null,"",null,null,null,"","","","","","","","","","","","","","","","","","","","","","","","","","","","","","","","","","","",null,null,null,null,null,null,null,null,null,null,null,null,{"$f":"IF($E$14=OFFSET(明細情報!$B$5, $DK839-1,0),1,0)","v":0},{"$f":"IF($DI839=0, 0, SUM($DI$28:$DI839))","v":0},268,{"$error":"#N/A"},0,0,0]
[null,269,"",null,null,"",null,null,null,"","","","","","","","","","","","","","","","","","","","","","","","","","","","","","","","","","","",null,null,null,null,null,null,null,null,null,null,null,null,null,269,"",null,null,"",null,null,null,"","","","","","","","","","","","","","","","","","","","","","","","","","","","","","","","","","","",null,null,null,null,null,null,null,null,null,null,null,null,{"$f":"IF($E$14=OFFSET(明細情報!$B$5, $DK840-1,0),1,0)","v":0},{"$f":"IF($DI840=0, 0, SUM($DI$28:$DI840))","v":0},269,{"$error":"#N/A"},0,0,0]
[null,270,"",null,null,"",null,null,null,"","","","","","","","","","","","","","","","","","","","","","","","","","","","","","","","","","","",null,null,null,null,null,null,null,null,null,null,null,null,null,270,"",null,null,"",null,null,null,"","","","","","","","","","","","","","","","","","","","","","","","","","","","","","","","","","","",null,null,null,null,null,null,null,null,null,null,null,null,{"$f":"IF($E$14=OFFSET(明細情報!$B$5, $DK841-1,0),1,0)","v":0},{"$f":"IF($DI841=0, 0, SUM($DI$28:$DI841))","v":0},270,{"$error":"#N/A"},0,0,0]
[null,null,null,null,null,null,null,null,null,null,null,null,null,null,null,null,null,null,null,null,null,null,"　　小　　　　　　計",null,null,null,null,null,null,null,null,null,null,null,{"$f":"getNumKeta0($DP842,9)","v":""},{"$f":"getNumKeta0($DP842,8)","v":""},{"$f":"getNumKeta0($DP842,7)","v":""},{"$f":"getNumKeta0($DP842,6)","v":""},{"$f":"getNumKeta0($DP842,5)","v":""},{"$f":"getNumKeta0($DP842,4)","v":""},{"$f":"getNumKeta0($DP842,3)","v":""},{"$f":"getNumKeta0($DP842,2)","v":""},{"$f":"getNumKeta0($DP842,1)","v":""},"Ａ",{"$f":"IF($DQ842=0,\"\", $DQ842)","v":""},null,null,null,null,null,null,null,null,{"$f":"IF($DP842<>$DQ842,\"*\",\"\")","v":""},null,null,null,null,null,null,null,null,null,null,null,null,null,null,null,null,null,null,null,null,null,null,null,null,"　　小　　　　　　計",null,null,null,null,null,null,null,null,null,null,null,{"$f":"getNumKeta0($DP842,9)","v":""},{"$f":"getNumKeta0($DP842,8)","v":""},{"$f":"getNumKeta0($DP842,7)","v":""},{"$f":"getNumKeta0($DP842,6)","v":""},{"$f":"getNumKeta0($DP842,5)","v":""},{"$f":"getNumKeta0($DP842,4)","v":""},{"$f":"getNumKeta0($DP842,3)","v":""},{"$f":"getNumKeta0($DP842,2)","v":""},{"$f":"getNumKeta0($DP842,1)","v":""},"Ａ",{"$f":"IF($DQ842=0,\"\", $DQ842)","v":""},null,null,null,null,null,null,null,null,{"$f":"IF($DP842<>$DQ842,\"*\",\"\")","v":""},null,null,null,null,null,null,null,null,null,{"$f":"IF($DK841/15=ROUNDUP(MAX($DJ:$DJ)/15,0),VLOOKUP($E$14,基本情報_工事名称マスタ,4,FALSE)+VLOOKUP($E$14,基本情報_工事名称マスタ,5,FALSE),0)","v":0},{"$f":"IF($DK841/15=ROUNDUP(MAX($DJ:$DJ)/15,0),DQ844-DQ843,0)","v":0}]
[null,null,null,null,null,null,null,null,null,null,null,null,null,null,null,null,null,null,null,null,null,null,"　消　費　税",null,null,null,null,null,null,null,{"$f":"基本情報_消費税率","v":0.1},null,null,null,{"$f":"getNumKeta0($DP843,9)","v":""},{"$f":"getNumKeta0($DP843,8)","v":""},{"$f":"getNumKeta0($DP843,7)","v":""},{"$f":"getNumKeta0($DP843,6)","v":""},{"$f":"getNumKeta0($DP843,5)","v":""},{"$f":"getNumKeta0($DP843,4)","v":""},{"$f":"getNumKeta0($DP843,3)","v":""},{"$f":"getNumKeta0($DP843,2)","v":""},{"$f":"getNumKeta0($DP843,1)","v":""},"Ｂ",{"$f":"IF($DQ843=0,\"\", $DQ843)","v":""},null,null,null,null,null,null,null,null,null,null,null,null,null,null,null,null,null,null,null,null,null,null,null,null,null,null,null,null,null,null,null,null,null,"　消　費　税",null,null,null,null,null,null,null,{"$f":"基本情報_消費税率","v":0.1},null,null,null,{"$f":"getNumKeta0($DP843,9)","v":""},{"$f":"getNumKeta0($DP843,8)","v":""},{"$f":"getNumKeta0($DP843,7)","v":""},{"$f":"getNumKeta0($DP843,6)","v":""},{"$f":"getNumKeta0($DP843,5)","v":""},{"$f":"getNumKeta0($DP843,4)","v":""},{"$f":"getNumKeta0($DP843,3)","v":""},{"$f":"getNumKeta0($DP843,2)","v":""},{"$f":"getNumKeta0($DP843,1)","v":""},"Ｂ",{"$f":"IF($DQ843=0,\"\", $DQ843)","v":""},null,null,null,null,null,null,null,null,null,null,null,null,null,null,null,null,null,null,{"$f":"IF($DK841/15=ROUNDUP(MAX($DJ:$DJ)/15,0),VLOOKUP($E$14,基本情報_工事名称マスタ,6,FALSE),0)","v":0},{"$f":"IF($DK841/15=ROUNDUP(MAX($DJ:$DJ)/15,0),ROUND((DQ844-VLOOKUP($E$14,基本情報_工事名称マスタ,5,FALSE))/(基本情報_消費税率*100+100)*(基本情報_消費税率*100),0),0)","v":0}]
[null,null,null,null,null,null,null,null,null,null,null,null,null,null,null,null,null,null,null,null,null,null,"　　合　　　　　　計",null,null,null,null,null,null,null,null,null,null,null,{"$f":"getNumKeta0($DP844,9)","v":""},{"$f":"getNumKeta0($DP844,8)","v":""},{"$f":"getNumKeta0($DP844,7)","v":""},{"$f":"getNumKeta0($DP844,6)","v":""},{"$f":"getNumKeta0($DP844,5)","v":""},{"$f":"getNumKeta0($DP844,4)","v":""},{"$f":"getNumKeta0($DP844,3)","v":""},{"$f":"getNumKeta0($DP844,2)","v":""},{"$f":"getNumKeta0($DP844,1)","v":""},"Ｃ",{"$f":"IF($DQ844=0,\"\", $DQ844)","v":""},null,null,null,null,null,null,null,null,null,null,null,null,null,null,null,null,null,null,null,null,null,null,null,null,null,null,null,null,null,null,null,null,null,"　　合　　　　　　計",null,null,null,null,null,null,null,null,null,null,null,{"$f":"getNumKeta0($DP844,9)","v":""},{"$f":"getNumKeta0($DP844,8)","v":""},{"$f":"getNumKeta0($DP844,7)","v":""},{"$f":"getNumKeta0($DP844,6)","v":""},{"$f":"getNumKeta0($DP844,5)","v":""},{"$f":"getNumKeta0($DP844,4)","v":""},{"$f":"getNumKeta0($DP844,3)","v":""},{"$f":"getNumKeta0($DP844,2)","v":""},{"$f":"getNumKeta0($DP844,1)","v":""},"Ｃ",{"$f":"IF($DQ844=0,\"\", $DQ844)","v":""},null,null,null,null,null,null,null,null,null,null,null,null,null,null,null,null,null,null,{"$f":"IF($DK841/15=ROUNDUP(MAX($DJ:$DJ)/15,0),VLOOKUP($E$14,基本情報_工事名称マスタ,7,FALSE),0)","v":0},{"$f":"DP844","v":0}]
[null,null,null,null,null,null,null,null,null,null,null,null,null,null,null,null,null,null,null,null,null,null,"貴社→請求書(添付)→経理(控)",null,null,null,null,null,null,null,null,null,null,null,null,null,null,null,null,null,null,null,null,null,null,null,null,null,null,null,null,null,null,null,null,null,null,null,null,null,null,null,null,null,null,null,null,null,null,null,null,null,null,null,null,null,null,null,"貴社→請求書(添付)→経理→作業所長(控)"]
[]
[null,null,null,null,null,null,null,null,null,null,null,null,null,null,null,null,null,null,null,null,null,null,null,null,null,null,null,null,null,null,null,null,null,null,null,null,null,null,null,null,null,null,null,null,{"$f":"\"P \" & B888/15 & \"/\" & ROUNDUP(COUNTIF(請求明細_工事場所, E860)/15,0)","v":"P 19/1"},null,null,null,null,null,null,null,null,null,null,null,null,null,null,null,null,null,null,null,null,null,null,null,null,null,null,null,null,null,null,null,null,null,null,null,null,null,null,null,null,null,null,null,null,null,null,null,null,null,null,null,null,null,null,null,{"$f":"\"P \" & BF888/15 & \"/\" & ROUNDUP(COUNTIF(請求明細_工事場所, BI860)/15,0)","v":"P 19/1"}]
[null,null,null,"請求明細書（一般）",null,null,null,null,null,null,null,null,null,null,null,null,null,null,null,null,null,null,null,null,null,"取引先",null,null,{"$f":"基本情報_取引先コード","v":999999},null,null,null,null,null,null,null,null,null,"締\n日",null,null,{"$f":"基本情報_請求締日","v":"2020-07-31"},null,null,null,null,null,null,null,null,null,null,null,null,null,null,null,null,null,"請求明細書（一般）",null,null,null,null,null,null,null,null,null,null,null,null,null,null,null,null,null,null,null,null,null,"取引先",null,null,{"$f":"基本情報_取引先コード","v":999999},null,null,null,null,null,null,null,null,null,"締\n日",null,null,{"$f":"基本情報_請求締日","v":"2020-07-31"}]
[null,null,null,null,null,null,null,null,null,"提出用",null,null,null,null,null,null,null,null,null,null,null,null,null,null,null,null,null,null,null,null,null,null,null,null,null,null,null,null,null,null,null,null,null,null,null,null,null,null,null,null,null,null,null,null,null,null,null,null,null,null,null,null,null,null,null,"提出用"]
[]
[null,null,null,null,null,null,null,null,null,null,null,null,null,null,null,null,null,null,null,null,null,null,null,null,null,"コード",null,null,null,null,null,null,null,null,null,null,null,null,null,null,null,null,null,null,null,null,null,null,null,null,null,null,null,null,null,null,null,null,null,null,null,null,null,null,null,null,null,null,null,null,null,null,null,null,null,null,null,null,null,null,null,"コード"]
[]
[]
[null,"丸高・みなと特定建設工事共同企業体　御中",null,null,null,null,null,null,null,null,null,null,null,null,null,null,null,null,null,null,null,null,null,null,null,"（住所・社名・電話）",null,null,null,null,null,null,null,null,null,null,null,null,null,null,null,null,null,null,null,null,null,null,null,null,null,null,null,null,null,null,null,"丸高・みなと特定建設工事共同企業体　御中",null,null,null,null,null,null,null,null,null,null,null,null,null,null,null,null,null,null,null,null,null,null,null,"（住所・社名・電話）"]
[]
[]
[]
[null,null,null,null,null,null,null,null,null,null,null,null,null,null,null,null,null,null,null,null,null,null,null,null,null,null,null,null,{"$f":"基本情報_住所","v":"酒田市○○○○１－１"},null,null,null,null,null,null,null,null,null,null,null,null,null,null,null,null,null,null,null,null,null,null,null,null,null,null,null,null,null,null,null,null,null,null,null,null,null,null,null,null,null,null,null,null,null,null,null,null,null,null,null,null,null,null,null,{"$f":"基本情報_住所","v":"酒田市○○○○１－１"}]
[]
[null,"工　事　名",null,null,{"$f":"$E$14","v":"×××××工事"},null,null,null,null,null,null,null,null,null,null,"承　　認",null,null,null,null,null,"検　　印",null,null,null,null,null,null,null,null,null,null,null,null,null,null,null,null,null,null,null,null,null,null,null,null,null,null,null,null,null,null,null,null,null,null,null,"工　事　名",null,null,{"$f":"$E$14","v":"×××××工事"},null,null,null,null,null,null,null,null,null,null,"承　　認",null,null,null,null,null,"検　　印"]
[]
[]
[null,null,null,null,null,null,null,null,null,null,null,null,null,null,null,null,null,null,null,null,null,null,null,null,null,null,null,null,{"$f":"基本情報_社名","v":"(株）○○建設"},null,null,null,null,null,null,null,null,null,null,null,null,null,null,null,null,null,null,null,null,null,"印",null,null,null,null,null,null,null,null,null,null,null,null,null,null,null,null,null,null,null,null,null,null,null,null,null,null,null,null,null,null,null,null,null,{"$f":"基本情報_社名","v":"(株）○○建設"},null,null,null,null,null,null,null,null,null,null,null,null,null,null,null,null,null,null,null,null,null,"印"]
[]
[]
[null,"作業所長名",null,null,{"$f":"VLOOKUP(E860,基本情報_工事名称マスタ,3,FALSE)","v":"××次郎"},null,null,null,null,null,null,null,null,null,null,null,null,null,null,null,null,null,null,null,null,null,null,null,null,null,null,null,null,null,null,null,null,null,null,null,null,null,null,null,null,null,null,null,null,null,null,null,null,null,null,null,null,"作業所長名",null,null,{"$f":"VLOOKUP(BI860,基本情報_工事名称マスタ,3,FALSE)","v":"××次郎"}]
[]
[null,null,null,null,null,null,null,null,null,null,null,null,null,null,null,null,null,null,null,null,null,null,null,null,null,null,null,null,{"$f":"基本情報_電話番号","v":"0234 - 00 - 0000"},null,null,null,null,null,null,null,null,null,null,null,null,null,null,null,null,null,null,null,null,null,null,null,null,null,null,null,null,null,null,null,null,null,null,null,null,null,null,null,null,null,null,null,null,null,null,null,null,null,null,null,null,null,null,null,{"$f":"基本情報_電話番号","v":"0234 - 00 - 0000"}]
[]
[]
[]
[]
[null,"通番","納入年月日",null,null,"品　名　・　規　格",null,null,null,"数　　　　量",null,null,null,null,null,null,null,null,null,null,null,"単 位","単　　　　価",null,null,null,null,null,null,null,null,null,null,null,"金　　　額",null,null,null,null,null,null,null,null,"備　考",null,null,null,null,null,null,null,null,null,null,null,null,null,"通番","納入年月日",null,null,"品　名　・　規　格",null,null,null,"数　　　　量",null,null,null,null,null,null,null,null,null,null,null,"単 位","単　　　　価",null,null,null,null,null,null,null,null,null,null,null,"金　　　額",null,null,null,null,null,null,null,null,"備　考",null,null,null,null,null,null,null,null,null,null,null,null,"ヒット","ランク","-","通番","数量","単価","金額"]
[null,{"$f":"B841+1","v":271},{"$f":"IF(ISNA($DL874),\"\",VLOOKUP($DL874,請求明細,3,FALSE))","v":""},null,null,{"$f":"IF(ISNA($DL874),\"\",VLOOKUP($DL874,請求明細,4,FALSE))","v":""},null,null,null,{"$f":"IF(ISNA($DL874),\"\",getNumKeta0($DM874,9))","v":""},{"$f":"IF(ISNA($DL874),\"\",getNumKeta0($DM874,8))","v":""},{"$f":"IF(ISNA($DL874),\"\",getNumKeta0($DM874,7))","v":""},{"$f":"IF(ISNA($DL874),\"\",getNumKeta0($DM874,6))","v":""},{"$f":"IF(ISNA($DL874),\"\",getNumKeta0($DM874,5))","v":""},{"$f":"IF(ISNA($DL874),\"\",getNumKeta0($DM874,4))","v":""},{"$f":"IF(ISNA($DL874),\"\",getNumKeta0($DM874,3))","v":""},{"$f":"IF(ISNA($DL874),\"\",getNumKeta0($DM874,2))","v":""},{"$f":"IF(ISNA($DL874),\"\",getNumKeta0($DM874,1))","v":""},{"$f":"IF(ISNA($DL874),\"\",getNumKeta0($DM874,-1))","v":""},{"$f":"IF(ISNA($DL874),\"\",getNumKeta0($DM874,-2))","v":""},{"$f":"IF(ISNA($DL874),\"\",getNumKeta0($DM874,-3))","v":""},{"$f":"IF(ISNA($DL874),\"\",VLOOKUP($DL874,請求明細,6,FALSE))","v":""},{"$f":"IF(ISNA($DL874),\"\",getNumKeta0($DN874,9))","v":""},{"$f":"IF(ISNA($DL874),\"\",getNumKeta0($DN874,8))","v":""},{"$f":"IF(ISNA($DL874),\"\",getNumKeta0($DN874,7))","v":""},{"$f":"IF(ISNA($DL874),\"\",getNumKeta0($DN874,6))","v":""},{"$f":"IF(ISNA($DL874),\"\",getNumKeta0($DN874,5))","v":""},{"$f":"IF(ISNA($DL874),\"\",getNumKeta0($DN874,4))","v":""},{"$f":"IF(ISNA($DL874),\"\",getNumKeta0($DN874,3))","v":""},{"$f":"IF(ISNA($DL874),\"\",getNumKeta0($DN874,2))","v":""},{"$f":"IF(ISNA($DL874),\"\",getNumKeta0($DN874,1))","v":""},{"$f":"IF(ISNA($DL874),\"\",getNumKeta0($DN874,-1))","v":""},{"$f":"IF(ISNA($DL874),\"\",getNumKeta0($DN874,-2))","v":""},{"$f":"IF(ISNA($DL874),\"\",getNumKeta0($DN874,-3))","v":""},{"$f":"IF(ISNA($DL874),\"\",getNumKeta0($DO874,9))","v":""},{"$f":"IF(ISNA($DL874),\"\",getNumKeta0($DO874,8))","v":""},{"$f":"IF(ISNA($DL874),\"\",getNumKeta0($DO874,7))","v":""},{"$f":"IF(ISNA($DL874),\"\",getNumKeta0($DO874,6))","v":""},{"$f":"IF(ISNA($DL874),\"\",getNumKeta0($DO874,5))","v":""},{"$f":"IF(ISNA($DL874),\"\",getNumKeta0($DO874,4))","v":""},{"$f":"IF(ISNA($DL874),\"\",getNumKeta0($DO874,3))","v":""},{"$f":"IF(ISNA($DL874),\"\",getNumKeta0($DO874,2))","v":""},{"$f":"IF(ISNA($DL874),\"\",getNumKeta0($DO874,1))","v":""},{"$f":"IF(ISNA($DL874),\"\",LEFT(VLOOKUP($DL874,請求明細,10,FALSE),16))","v":""},null,null,null,null,null,null,null,null,null,null,null,null,null,{"$f":"BF841+1","v":271},{"$f":"IF(ISNA($DL874),\"\",VLOOKUP($DL874,請求明細,3,FALSE))","v":""},null,null,{"$f":"IF(ISNA($DL874),\"\",VLOOKUP($DL874,請求明細,4,FALSE))","v":""},null,null,null,{"$f":"IF(ISNA($DL874),\"\",getNumKeta0($DM874,9))","v":""},{"$f":"IF(ISNA($DL874),\"\",getNumKeta0($DM874,8))","v":""},{"$f":"IF(ISNA($DL874),\"\",getNumKeta0($DM874,7))","v":""},{"$f":"IF(ISNA($DL874),\"\",getNumKeta0($DM874,6))","v":""},{"$f":"IF(ISNA($DL874),\"\",getNumKeta0($DM874,5))","v":""},{"$f":"IF(ISNA($DL874),\"\",getNumKeta0($DM874,4))","v":""},{"$f":"IF(ISNA($DL874),\"\",getNumKeta0($DM874,3))","v":""},{"$f":"IF(ISNA($DL874),\"\",getNumKeta0($DM874,2))","v":""},{"$f":"IF(ISNA($DL874),\"\",getNumKeta0($DM874,1))","v":""},{"$f":"IF(ISNA($DL874),\"\",getNumKeta0($DM874,-1))","v":""},{"$f":"IF(ISNA($DL874),\"\",getNumKeta0($DM874,-2))","v":""},{"$f":"IF(ISNA($DL874),\"\",getNumKeta0($DM874,-3))","v":""},{"$f":"IF(ISNA($DL874),\"\",VLOOKUP($DL874,請求明細,6,FALSE))","v":""},{"$f":"IF(ISNA($DL874),\"\",getNumKeta0($DN874,9))","v":""},{"$f":"IF(ISNA($DL874),\"\",getNumKeta0($DN874,8))","v":""},{"$f":"IF(ISNA($DL874),\"\",getNumKeta0($DN874,7))","v":""},{"$f":"IF(ISNA($DL874),\"\",getNumKeta0($DN874,6))","v":""},{"$f":"IF(ISNA($DL874),\"\",getNumKeta0($DN874,5))","v":""},{"$f":"IF(ISNA($DL874),\"\",getNumKeta0($DN874,4))","v":""},{"$f":"IF(ISNA($DL874),\"\",getNumKeta0($DN874,3))","v":""},{"$f":"IF(ISNA($DL874),\"\",getNumKeta0($DN874,2))","v":""},{"$f":"IF(ISNA($DL874),\"\",getNumKeta0($DN874,1))","v":""},{"$f":"IF(ISNA($DL874),\"\",getNumKeta0($DN874,-1))","v":""},{"$f":"IF(ISNA($DL874),\"\",getNumKeta0($DN874,-2))","v":""},{"$f":"IF(ISNA($DL874),\"\",getNumKeta0($DN874,-3))","v":""},{"$f":"IF(ISNA($DL874),\"\",getNumKeta0($DO874,9))","v":""},{"$f":"IF(ISNA($DL874),\"\",getNumKeta0($DO874,8))","v":""},{"$f":"IF(ISNA($DL874),\"\",getNumKeta0($DO874,7))","v":""},{"$f":"IF(ISNA($DL874),\"\",getNumKeta0($DO874,6))","v":""},{"$f":"IF(ISNA($DL874),\"\",getNumKeta0($DO874,5))","v":""},{"$f":"IF(ISNA($DL874),\"\",getNumKeta0($DO874,4))","v":""},{"$f":"IF(ISNA($DL874),\"\",getNumKeta0($DO874,3))","v":""},{"$f":"IF(ISNA($DL874),\"\",getNumKeta0($DO874,2))","v":""},{"$f":"IF(ISNA($DL874),\"\",getNumKeta0($DO874,1))","v":""},{"$f":"IF(ISNA($DL874),\"\",LEFT(VLOOKUP($DL874,請求明細,10,FALSE),16))","v":""},null,null,null,null,null,null,null,null,null,null,null,null,{"$f":"IF($E$14=OFFSET(明細情報!$B$5, $DK874-1,0),1,0)","v":0},{"$f":"IF($DI874=0, 0, SUM($DI$28:$DI874))","v":0},{"$f":"DK841+1","v":271},{"$f":"VLOOKUP(B874,$DJ$28:$DK$65536,2,FALSE)","v":{"$error":"#N/A"}},{"$f":"IF(ISNA($DL874),0,VLOOKUP($DL874,請求明細,5,FALSE))","v":0},{"$f":"IF(ISNA($DL874),0,VLOOKUP($DL874,請求明細,7,FALSE))","v":0},{"$f":"IF(ISNA($DL874),0,VLOOKUP($DL874,請求明細,9,FALSE))","v":0}]
[null,{"$f":"B874+1","v":272},"",null,null,"",null,null,null,"","","","","","","","","","","","","","","","","","","","","","","","","","","","","","","","","","","",null,null,null,null,null,null,null,null,null,null,null,null,null,{"$f":"BF874+1","v":272},"",null,null,"",null,null,null,"","","","","","","","","","","","","","","","","","","","","","","","","","","","","","","","","","","",null,null,null,null,null,null,null,null,null,null,null,null,{"$f":"IF($E$14=OFFSET(明細情報!$B$5, $DK875-1,0),1,0)","v":0},{"$f":"IF($DI875=0, 0, SUM($DI$28:$DI875))","v":0},{"$f":"DK874+1","v":272},{"$error":"#N/A"},0,0,0]
[null,273,"",null,null,"",null,null,null,"","","","","","","","","","","","","","","","","","","","","","","","","","","","","","","","","","","",null,null,null,null,null,null,null,null,null,null,null,null,null,273,"",null,null,"",null,null,null,"","","","","","","","","","","","","","","","","","","","","","","","","","","","","","","","","","","",null,null,null,null,null,null,null,null,null,null,null,null,{"$f":"IF($E$14=OFFSET(明細情報!$B$5, $DK876-1,0),1,0)","v":0},{"$f":"IF($DI876=0, 0, SUM($DI$28:$DI876))","v":0},273,{"$error":"#N/A"},0,0,0]
[null,274,"",null,null,"",null,null,null,"","","","","","","","","","","","","","","","","","","","","","","","","","","","","","","","","","","",null,null,null,null,null,null,null,null,null,null,null,null,null,274,"",null,null,"",null,null,null,"","","","","","","","","","","","","","","","","","","","","","","","","","","","","","","","","","","",null,null,null,null,null,null,null,null,null,null,null,null,{"$f":"IF($E$14=OFFSET(明細情報!$B$5, $DK877-1,0),1,0)","v":0},{"$f":"IF($DI877=0, 0, SUM($DI$28:$DI877))","v":0},274,{"$error":"#N/A"},0,0,0]
[null,275,"",null,null,"",null,null,null,"","","","","","","","","","","","","","","","","","","","","","","","","","","","","","","","","","","",null,null,null,null,null,null,null,null,null,null,null,null,null,275,"",null,null,"",null,null,null,"","","","","","","","","","","","","","","","","","","","","","","","","","","","","","","","","","","",null,null,null,null,null,null,null,null,null,null,null,null,{"$f":"IF($E$14=OFFSET(明細情報!$B$5, $DK878-1,0),1,0)","v":0},{"$f":"IF($DI878=0, 0, SUM($DI$28:$DI878))","v":0},275,{"$error":"#N/A"},0,0,0]
[null,276,"",null,null,"",null,null,null,"","","","","","","","","","","","","","","","","","","","","","","","","","","","","","","","","","","",null,null,null,null,null,null,null,null,null,null,null,null,null,276,"",null,null,"",null,null,null,"","","","","","","","","","","","","","","","","","","","","","","","","","","","","","","","","","","",null,null,null,null,null,null,null,null,null,null,null,null,{"$f":"IF($E$14=OFFSET(明細情報!$B$5, $DK879-1,0),1,0)","v":0},{"$f":"IF($DI879=0, 0, SUM($DI$28:$DI879))","v":0},276,{"$error":"#N/A"},0,0,0]
[null,277,"",null,null,"",null,null,null,"","","","","","","","","","","","","","","","","","","","","","","","","","","","","","","","","","","",null,null,null,null,null,null,null,null,null,null,null,null,null,277,"",null,null,"",null,null,null,"","","","","","","","","","","","","","","","","","","","","","","","","","","","","","","","","","","",null,null,null,null,null,null,null,null,null,null,null,null,{"$f":"IF($E$14=OFFSET(明細情報!$B$5, $DK880-1,0),1,0)","v":0},{"$f":"IF($DI880=0, 0, SUM($DI$28:$DI880))","v":0},277,{"$error":"#N/A"},0,0,0]
[null,278,"",null,null,"",null,null,null,"","","","","","","","","","","","","","","","","","","","","","","","","","","","","","","","","","","",null,null,null,null,null,null,null,null,null,null,null,null,null,278,"",null,null,"",null,null,null,"","","","","","","","","","","","","","","","","","","","","","","","","","","","","","","","","","","",null,null,null,null,null,null,null,null,null,null,null,null,{"$f":"IF($E$14=OFFSET(明細情報!$B$5, $DK881-1,0),1,0)","v":0},{"$f":"IF($DI881=0, 0, SUM($DI$28:$DI881))","v":0},278,{"$error":"#N/A"},0,0,0]
[null,279,"",null,null,"",null,null,null,"","","","","","","","","","","","","","","","","","","","","","","","","","","","","","","","","","","",null,null,null,null,null,null,null,null,null,null,null,null,null,279,"",null,null,"",null,null,null,"","","","","","","","","","","","","","","","","","","","","","","","","","","","","","","","","","","",null,null,null,null,null,null,null,null,null,null,null,null,{"$f":"IF($E$14=OFFSET(明細情報!$B$5, $DK882-1,0),1,0)","v":0},{"$f":"IF($DI882=0, 0, SUM($DI$28:$DI882))","v":0},279,{"$error":"#N/A"},0,0,0]
[null,280,"",null,null,"",null,null,null,"","","","","","","","","","","","","","","","","","","","","","","","","","","","","","","","","","","",null,null,null,null,null,null,null,null,null,null,null,null,null,280,"",null,null,"",null,null,null,"","","","","","","","","","","","","","","","","","","","","","","","","","","","","","","","","","","",null,null,null,null,null,null,null,null,null,null,null,null,{"$f":"IF($E$14=OFFSET(明細情報!$B$5, $DK883-1,0),1,0)","v":0},{"$f":"IF($DI883=0, 0, SUM($DI$28:$DI883))","v":0},280,{"$error":"#N/A"},0,0,0]
[null,281,"",null,null,"",null,null,null,"","","","","","","","","","","","","","","","","","","","","","","","","","","","","","","","","","","",null,null,null,null,null,null,null,null,null,null,null,null,null,281,"",null,null,"",null,null,null,"","","","","","","","","","","","","","","","","","","","","","","","","","","","","","","","","","","",null,null,null,null,null,null,null,null,null,null,null,null,{"$f":"IF($E$14=OFFSET(明細情報!$B$5, $DK884-1,0),1,0)","v":0},{"$f":"IF($DI884=0, 0, SUM($DI$28:$DI884))","v":0},281,{"$error":"#N/A"},0,0,0]
[null,282,"",null,null,"",null,null,null,"","","","","","","","","","","","","","","","","","","","","","","","","","","","","","","","","","","",null,null,null,null,null,null,null,null,null,null,null,null,null,282,"",null,null,"",null,null,null,"","","","","","","","","","","","","","","","","","","","","","","","","","","","","","","","","","","",null,null,null,null,null,null,null,null,null,null,null,null,{"$f":"IF($E$14=OFFSET(明細情報!$B$5, $DK885-1,0),1,0)","v":0},{"$f":"IF($DI885=0, 0, SUM($DI$28:$DI885))","v":0},282,{"$error":"#N/A"},0,0,0]
[null,283,"",null,null,"",null,null,null,"","","","","","","","","","","","","","","","","","","","","","","","","","","","","","","","","","","",null,null,null,null,null,null,null,null,null,null,null,null,null,283,"",null,null,"",null,null,null,"","","","","","","","","","","","","","","","","","","","","","","","","","","","","","","","","","","",null,null,null,null,null,null,null,null,null,null,null,null,{"$f":"IF($E$14=OFFSET(明細情報!$B$5, $DK886-1,0),1,0)","v":0},{"$f":"IF($DI886=0, 0, SUM($DI$28:$DI886))","v":0},283,{"$error":"#N/A"},0,0,0]
[null,284,"",null,null,"",null,null,null,"","","","","","","","","","","","","","","","","","","","","","","","","","","","","","","","","","","",null,null,null,null,null,null,null,null,null,null,null,null,null,284,"",null,null,"",null,null,null,"","","","","","","","","","","","","","","","","","","","","","","","","","","","","","","","","","","",null,null,null,null,null,null,null,null,null,null,null,null,{"$f":"IF($E$14=OFFSET(明細情報!$B$5, $DK887-1,0),1,0)","v":0},{"$f":"IF($DI887=0, 0, SUM($DI$28:$DI887))","v":0},284,{"$error":"#N/A"},0,0,0]
[null,285,"",null,null,"",null,null,null,"","","","","","","","","","","","","","","","","","","","","","","","","","","","","","","","","","","",null,null,null,null,null,null,null,null,null,null,null,null,null,285,"",null,null,"",null,null,null,"","","","","","","","","","","","","","","","","","","","","","","","","","","","","","","","","","","",null,null,null,null,null,null,null,null,null,null,null,null,{"$f":"IF($E$14=OFFSET(明細情報!$B$5, $DK888-1,0),1,0)","v":0},{"$f":"IF($DI888=0, 0, SUM($DI$28:$DI888))","v":0},285,{"$error":"#N/A"},0,0,0]
[null,null,null,null,null,null,null,null,null,null,null,null,null,null,null,null,null,null,null,null,null,null,"　　小　　　　　　計",null,null,null,null,null,null,null,null,null,null,null,{"$f":"getNumKeta0($DP889,9)","v":""},{"$f":"getNumKeta0($DP889,8)","v":""},{"$f":"getNumKeta0($DP889,7)","v":""},{"$f":"getNumKeta0($DP889,6)","v":""},{"$f":"getNumKeta0($DP889,5)","v":""},{"$f":"getNumKeta0($DP889,4)","v":""},{"$f":"getNumKeta0($DP889,3)","v":""},{"$f":"getNumKeta0($DP889,2)","v":""},{"$f":"getNumKeta0($DP889,1)","v":""},"Ａ",{"$f":"IF($DQ889=0,\"\", $DQ889)","v":""},null,null,null,null,null,null,null,null,{"$f":"IF($DP889<>$DQ889,\"*\",\"\")","v":""},null,null,null,null,null,null,null,null,null,null,null,null,null,null,null,null,null,null,null,null,null,null,null,null,"　　小　　　　　　計",null,null,null,null,null,null,null,null,null,null,null,{"$f":"getNumKeta0($DP889,9)","v":""},{"$f":"getNumKeta0($DP889,8)","v":""},{"$f":"getNumKeta0($DP889,7)","v":""},{"$f":"getNumKeta0($DP889,6)","v":""},{"$f":"getNumKeta0($DP889,5)","v":""},{"$f":"getNumKeta0($DP889,4)","v":""},{"$f":"getNumKeta0($DP889,3)","v":""},{"$f":"getNumKeta0($DP889,2)","v":""},{"$f":"getNumKeta0($DP889,1)","v":""},"Ａ",{"$f":"IF($DQ889=0,\"\", $DQ889)","v":""},null,null,null,null,null,null,null,null,{"$f":"IF($DP889<>$DQ889,\"*\",\"\")","v":""},null,null,null,null,null,null,null,null,null,{"$f":"IF($DK888/15=ROUNDUP(MAX($DJ:$DJ)/15,0),VLOOKUP($E$14,基本情報_工事名称マスタ,4,FALSE)+VLOOKUP($E$14,基本情報_工事名称マスタ,5,FALSE),0)","v":0},{"$f":"IF($DK888/15=ROUNDUP(MAX($DJ:$DJ)/15,0),DQ891-DQ890,0)","v":0}]
[null,null,null,null,null,null,null,null,null,null,null,null,null,null,null,null,null,null,null,null,null,null,"　消　費　税",null,null,null,null,null,null,null,{"$f":"基本情報_消費税率","v":0.1},null,null,null,{"$f":"getNumKeta0($DP890,9)","v":""},{"$f":"getNumKeta0($DP890,8)","v":""},{"$f":"getNumKeta0($DP890,7)","v":""},{"$f":"getNumKeta0($DP890,6)","v":""},{"$f":"getNumKeta0($DP890,5)","v":""},{"$f":"getNumKeta0($DP890,4)","v":""},{"$f":"getNumKeta0($DP890,3)","v":""},{"$f":"getNumKeta0($DP890,2)","v":""},{"$f":"getNumKeta0($DP890,1)","v":""},"Ｂ",{"$f":"IF($DQ890=0,\"\", $DQ890)","v":""},null,null,null,null,null,null,null,null,null,null,null,null,null,null,null,null,null,null,null,null,null,null,null,null,null,null,null,null,null,null,null,null,null,"　消　費　税",null,null,null,null,null,null,null,{"$f":"基本情報_消費税率","v":0.1},null,null,null,{"$f":"getNumKeta0($DP890,9)","v":""},{"$f":"getNumKeta0($DP890,8)","v":""},{"$f":"getNumKeta0($DP890,7)","v":""},{"$f":"getNumKeta0($DP890,6)","v":""},{"$f":"getNumKeta0($DP890,5)","v":""},{"$f":"getNumKeta0($DP890,4)","v":""},{"$f":"getNumKeta0($DP890,3)","v":""},{"$f":"getNumKeta0($DP890,2)","v":""},{"$f":"getNumKeta0($DP890,1)","v":""},"Ｂ",{"$f":"IF($DQ890=0,\"\", $DQ890)","v":""},null,null,null,null,null,null,null,null,null,null,null,null,null,null,null,null,null,null,{"$f":"IF($DK888/15=ROUNDUP(MAX($DJ:$DJ)/15,0),VLOOKUP($E$14,基本情報_工事名称マスタ,6,FALSE),0)","v":0},{"$f":"IF($DK888/15=ROUNDUP(MAX($DJ:$DJ)/15,0),ROUND((DQ891-VLOOKUP($E$14,基本情報_工事名称マスタ,5,FALSE))/(基本情報_消費税率*100+100)*(基本情報_消費税率*100),0),0)","v":0}]
[null,null,null,null,null,null,null,null,null,null,null,null,null,null,null,null,null,null,null,null,null,null,"　　合　　　　　　計",null,null,null,null,null,null,null,null,null,null,null,{"$f":"getNumKeta0($DP891,9)","v":""},{"$f":"getNumKeta0($DP891,8)","v":""},{"$f":"getNumKeta0($DP891,7)","v":""},{"$f":"getNumKeta0($DP891,6)","v":""},{"$f":"getNumKeta0($DP891,5)","v":""},{"$f":"getNumKeta0($DP891,4)","v":""},{"$f":"getNumKeta0($DP891,3)","v":""},{"$f":"getNumKeta0($DP891,2)","v":""},{"$f":"getNumKeta0($DP891,1)","v":""},"Ｃ",{"$f":"IF($DQ891=0,\"\", $DQ891)","v":""},null,null,null,null,null,null,null,null,null,null,null,null,null,null,null,null,null,null,null,null,null,null,null,null,null,null,null,null,null,null,null,null,null,"　　合　　　　　　計",null,null,null,null,null,null,null,null,null,null,null,{"$f":"getNumKeta0($DP891,9)","v":""},{"$f":"getNumKeta0($DP891,8)","v":""},{"$f":"getNumKeta0($DP891,7)","v":""},{"$f":"getNumKeta0($DP891,6)","v":""},{"$f":"getNumKeta0($DP891,5)","v":""},{"$f":"getNumKeta0($DP891,4)","v":""},{"$f":"getNumKeta0($DP891,3)","v":""},{"$f":"getNumKeta0($DP891,2)","v":""},{"$f":"getNumKeta0($DP891,1)","v":""},"Ｃ",{"$f":"IF($DQ891=0,\"\", $DQ891)","v":""},null,null,null,null,null,null,null,null,null,null,null,null,null,null,null,null,null,null,{"$f":"IF($DK888/15=ROUNDUP(MAX($DJ:$DJ)/15,0),VLOOKUP($E$14,基本情報_工事名称マスタ,7,FALSE),0)","v":0},{"$f":"DP891","v":0}]
[null,null,null,null,null,null,null,null,null,null,null,null,null,null,null,null,null,null,null,null,null,null,"貴社→請求書(添付)→経理(控)",null,null,null,null,null,null,null,null,null,null,null,null,null,null,null,null,null,null,null,null,null,null,null,null,null,null,null,null,null,null,null,null,null,null,null,null,null,null,null,null,null,null,null,null,null,null,null,null,null,null,null,null,null,null,null,"貴社→請求書(添付)→経理→作業所長(控)"]
[]
[null,null,null,null,null,null,null,null,null,null,null,null,null,null,null,null,null,null,null,null,null,null,null,null,null,null,null,null,null,null,null,null,null,null,null,null,null,null,null,null,null,null,null,null,{"$f":"\"P \" & B935/15 & \"/\" & ROUNDUP(COUNTIF(請求明細_工事場所, E907)/15,0)","v":"P 20/1"},null,null,null,null,null,null,null,null,null,null,null,null,null,null,null,null,null,null,null,null,null,null,null,null,null,null,null,null,null,null,null,null,null,null,null,null,null,null,null,null,null,null,null,null,null,null,null,null,null,null,null,null,null,null,null,{"$f":"\"P \" & BF935/15 & \"/\" & ROUNDUP(COUNTIF(請求明細_工事場所, BI907)/15,0)","v":"P 20/1"}]
[null,null,null,"請求明細書（一般）",null,null,null,null,null,null,null,null,null,null,null,null,null,null,null,null,null,null,null,null,null,"取引先",null,null,{"$f":"基本情報_取引先コード","v":999999},null,null,null,null,null,null,null,null,null,"締\n日",null,null,{"$f":"基本情報_請求締日","v":"2020-07-31"},null,null,null,null,null,null,null,null,null,null,null,null,null,null,null,null,null,"請求明細書（一般）",null,null,null,null,null,null,null,null,null,null,null,null,null,null,null,null,null,null,null,null,null,"取引先",null,null,{"$f":"基本情報_取引先コード","v":999999},null,null,null,null,null,null,null,null,null,"締\n日",null,null,{"$f":"基本情報_請求締日","v":"2020-07-31"}]
[null,null,null,null,null,null,null,null,null,"提出用",null,null,null,null,null,null,null,null,null,null,null,null,null,null,null,null,null,null,null,null,null,null,null,null,null,null,null,null,null,null,null,null,null,null,null,null,null,null,null,null,null,null,null,null,null,null,null,null,null,null,null,null,null,null,null,"提出用"]
[]
[null,null,null,null,null,null,null,null,null,null,null,null,null,null,null,null,null,null,null,null,null,null,null,null,null,"コード",null,null,null,null,null,null,null,null,null,null,null,null,null,null,null,null,null,null,null,null,null,null,null,null,null,null,null,null,null,null,null,null,null,null,null,null,null,null,null,null,null,null,null,null,null,null,null,null,null,null,null,null,null,null,null,"コード"]
[]
[]
[null,"丸高・みなと特定建設工事共同企業体　御中",null,null,null,null,null,null,null,null,null,null,null,null,null,null,null,null,null,null,null,null,null,null,null,"（住所・社名・電話）",null,null,null,null,null,null,null,null,null,null,null,null,null,null,null,null,null,null,null,null,null,null,null,null,null,null,null,null,null,null,null,"丸高・みなと特定建設工事共同企業体　御中",null,null,null,null,null,null,null,null,null,null,null,null,null,null,null,null,null,null,null,null,null,null,null,"（住所・社名・電話）"]
[]
[]
[]
[null,null,null,null,null,null,null,null,null,null,null,null,null,null,null,null,null,null,null,null,null,null,null,null,null,null,null,null,{"$f":"基本情報_住所","v":"酒田市○○○○１－１"},null,null,null,null,null,null,null,null,null,null,null,null,null,null,null,null,null,null,null,null,null,null,null,null,null,null,null,null,null,null,null,null,null,null,null,null,null,null,null,null,null,null,null,null,null,null,null,null,null,null,null,null,null,null,null,{"$f":"基本情報_住所","v":"酒田市○○○○１－１"}]
[]
[null,"工　事　名",null,null,{"$f":"$E$14","v":"×××××工事"},null,null,null,null,null,null,null,null,null,null,"承　　認",null,null,null,null,null,"検　　印",null,null,null,null,null,null,null,null,null,null,null,null,null,null,null,null,null,null,null,null,null,null,null,null,null,null,null,null,null,null,null,null,null,null,null,"工　事　名",null,null,{"$f":"$E$14","v":"×××××工事"},null,null,null,null,null,null,null,null,null,null,"承　　認",null,null,null,null,null,"検　　印"]
[]
[]
[null,null,null,null,null,null,null,null,null,null,null,null,null,null,null,null,null,null,null,null,null,null,null,null,null,null,null,null,{"$f":"基本情報_社名","v":"(株）○○建設"},null,null,null,null,null,null,null,null,null,null,null,null,null,null,null,null,null,null,null,null,null,"印",null,null,null,null,null,null,null,null,null,null,null,null,null,null,null,null,null,null,null,null,null,null,null,null,null,null,null,null,null,null,null,null,null,{"$f":"基本情報_社名","v":"(株）○○建設"},null,null,null,null,null,null,null,null,null,null,null,null,null,null,null,null,null,null,null,null,null,"印"]
[]
[]
[null,"作業所長名",null,null,{"$f":"VLOOKUP(E907,基本情報_工事名称マスタ,3,FALSE)","v":"××次郎"},null,null,null,null,null,null,null,null,null,null,null,null,null,null,null,null,null,null,null,null,null,null,null,null,null,null,null,null,null,null,null,null,null,null,null,null,null,null,null,null,null,null,null,null,null,null,null,null,null,null,null,null,"作業所長名",null,null,{"$f":"VLOOKUP(BI907,基本情報_工事名称マスタ,3,FALSE)","v":"××次郎"}]
[]
[null,null,null,null,null,null,null,null,null,null,null,null,null,null,null,null,null,null,null,null,null,null,null,null,null,null,null,null,{"$f":"基本情報_電話番号","v":"0234 - 00 - 0000"},null,null,null,null,null,null,null,null,null,null,null,null,null,null,null,null,null,null,null,null,null,null,null,null,null,null,null,null,null,null,null,null,null,null,null,null,null,null,null,null,null,null,null,null,null,null,null,null,null,null,null,null,null,null,null,{"$f":"基本情報_電話番号","v":"0234 - 00 - 0000"}]
[]
[]
[]
[]
[null,"通番","納入年月日",null,null,"品　名　・　規　格",null,null,null,"数　　　　量",null,null,null,null,null,null,null,null,null,null,null,"単 位","単　　　　価",null,null,null,null,null,null,null,null,null,null,null,"金　　　額",null,null,null,null,null,null,null,null,"備　考",null,null,null,null,null,null,null,null,null,null,null,null,null,"通番","納入年月日",null,null,"品　名　・　規　格",null,null,null,"数　　　　量",null,null,null,null,null,null,null,null,null,null,null,"単 位","単　　　　価",null,null,null,null,null,null,null,null,null,null,null,"金　　　額",null,null,null,null,null,null,null,null,"備　考",null,null,null,null,null,null,null,null,null,null,null,null,"ヒット","ランク","-","通番","数量","単価","金額"]
[null,{"$f":"B888+1","v":286},{"$f":"IF(ISNA($DL921),\"\",VLOOKUP($DL921,請求明細,3,FALSE))","v":""},null,null,{"$f":"IF(ISNA($DL921),\"\",VLOOKUP($DL921,請求明細,4,FALSE))","v":""},null,null,null,{"$f":"IF(ISNA($DL921),\"\",getNumKeta0($DM921,9))","v":""},{"$f":"IF(ISNA($DL921),\"\",getNumKeta0($DM921,8))","v":""},{"$f":"IF(ISNA($DL921),\"\",getNumKeta0($DM921,7))","v":""},{"$f":"IF(ISNA($DL921),\"\",getNumKeta0($DM921,6))","v":""},{"$f":"IF(ISNA($DL921),\"\",getNumKeta0($DM921,5))","v":""},{"$f":"IF(ISNA($DL921),\"\",getNumKeta0($DM921,4))","v":""},{"$f":"IF(ISNA($DL921),\"\",getNumKeta0($DM921,3))","v":""},{"$f":"IF(ISNA($DL921),\"\",getNumKeta0($DM921,2))","v":""},{"$f":"IF(ISNA($DL921),\"\",getNumKeta0($DM921,1))","v":""},{"$f":"IF(ISNA($DL921),\"\",getNumKeta0($DM921,-1))","v":""},{"$f":"IF(ISNA($DL921),\"\",getNumKeta0($DM921,-2))","v":""},{"$f":"IF(ISNA($DL921),\"\",getNumKeta0($DM921,-3))","v":""},{"$f":"IF(ISNA($DL921),\"\",VLOOKUP($DL921,請求明細,6,FALSE))","v":""},{"$f":"IF(ISNA($DL921),\"\",getNumKeta0($DN921,9))","v":""},{"$f":"IF(ISNA($DL921),\"\",getNumKeta0($DN921,8))","v":""},{"$f":"IF(ISNA($DL921),\"\",getNumKeta0($DN921,7))","v":""},{"$f":"IF(ISNA($DL921),\"\",getNumKeta0($DN921,6))","v":""},{"$f":"IF(ISNA($DL921),\"\",getNumKeta0($DN921,5))","v":""},{"$f":"IF(ISNA($DL921),\"\",getNumKeta0($DN921,4))","v":""},{"$f":"IF(ISNA($DL921),\"\",getNumKeta0($DN921,3))","v":""},{"$f":"IF(ISNA($DL921),\"\",getNumKeta0($DN921,2))","v":""},{"$f":"IF(ISNA($DL921),\"\",getNumKeta0($DN921,1))","v":""},{"$f":"IF(ISNA($DL921),\"\",getNumKeta0($DN921,-1))","v":""},{"$f":"IF(ISNA($DL921),\"\",getNumKeta0($DN921,-2))","v":""},{"$f":"IF(ISNA($DL921),\"\",getNumKeta0($DN921,-3))","v":""},{"$f":"IF(ISNA($DL921),\"\",getNumKeta0($DO921,9))","v":""},{"$f":"IF(ISNA($DL921),\"\",getNumKeta0($DO921,8))","v":""},{"$f":"IF(ISNA($DL921),\"\",getNumKeta0($DO921,7))","v":""},{"$f":"IF(ISNA($DL921),\"\",getNumKeta0($DO921,6))","v":""},{"$f":"IF(ISNA($DL921),\"\",getNumKeta0($DO921,5))","v":""},{"$f":"IF(ISNA($DL921),\"\",getNumKeta0($DO921,4))","v":""},{"$f":"IF(ISNA($DL921),\"\",getNumKeta0($DO921,3))","v":""},{"$f":"IF(ISNA($DL921),\"\",getNumKeta0($DO921,2))","v":""},{"$f":"IF(ISNA($DL921),\"\",getNumKeta0($DO921,1))","v":""},{"$f":"IF(ISNA($DL921),\"\",LEFT(VLOOKUP($DL921,請求明細,10,FALSE),16))","v":""},null,null,null,null,null,null,null,null,null,null,null,null,null,{"$f":"BF888+1","v":286},{"$f":"IF(ISNA($DL921),\"\",VLOOKUP($DL921,請求明細,3,FALSE))","v":""},null,null,{"$f":"IF(ISNA($DL921),\"\",VLOOKUP($DL921,請求明細,4,FALSE))","v":""},null,null,null,{"$f":"IF(ISNA($DL921),\"\",getNumKeta0($DM921,9))","v":""},{"$f":"IF(ISNA($DL921),\"\",getNumKeta0($DM921,8))","v":""},{"$f":"IF(ISNA($DL921),\"\",getNumKeta0($DM921,7))","v":""},{"$f":"IF(ISNA($DL921),\"\",getNumKeta0($DM921,6))","v":""},{"$f":"IF(ISNA($DL921),\"\",getNumKeta0($DM921,5))","v":""},{"$f":"IF(ISNA($DL921),\"\",getNumKeta0($DM921,4))","v":""},{"$f":"IF(ISNA($DL921),\"\",getNumKeta0($DM921,3))","v":""},{"$f":"IF(ISNA($DL921),\"\",getNumKeta0($DM921,2))","v":""},{"$f":"IF(ISNA($DL921),\"\",getNumKeta0($DM921,1))","v":""},{"$f":"IF(ISNA($DL921),\"\",getNumKeta0($DM921,-1))","v":""},{"$f":"IF(ISNA($DL921),\"\",getNumKeta0($DM921,-2))","v":""},{"$f":"IF(ISNA($DL921),\"\",getNumKeta0($DM921,-3))","v":""},{"$f":"IF(ISNA($DL921),\"\",VLOOKUP($DL921,請求明細,6,FALSE))","v":""},{"$f":"IF(ISNA($DL921),\"\",getNumKeta0($DN921,9))","v":""},{"$f":"IF(ISNA($DL921),\"\",getNumKeta0($DN921,8))","v":""},{"$f":"IF(ISNA($DL921),\"\",getNumKeta0($DN921,7))","v":""},{"$f":"IF(ISNA($DL921),\"\",getNumKeta0($DN921,6))","v":""},{"$f":"IF(ISNA($DL921),\"\",getNumKeta0($DN921,5))","v":""},{"$f":"IF(ISNA($DL921),\"\",getNumKeta0($DN921,4))","v":""},{"$f":"IF(ISNA($DL921),\"\",getNumKeta0($DN921,3))","v":""},{"$f":"IF(ISNA($DL921),\"\",getNumKeta0($DN921,2))","v":""},{"$f":"IF(ISNA($DL921),\"\",getNumKeta0($DN921,1))","v":""},{"$f":"IF(ISNA($DL921),\"\",getNumKeta0($DN921,-1))","v":""},{"$f":"IF(ISNA($DL921),\"\",getNumKeta0($DN921,-2))","v":""},{"$f":"IF(ISNA($DL921),\"\",getNumKeta0($DN921,-3))","v":""},{"$f":"IF(ISNA($DL921),\"\",getNumKeta0($DO921,9))","v":""},{"$f":"IF(ISNA($DL921),\"\",getNumKeta0($DO921,8))","v":""},{"$f":"IF(ISNA($DL921),\"\",getNumKeta0($DO921,7))","v":""},{"$f":"IF(ISNA($DL921),\"\",getNumKeta0($DO921,6))","v":""},{"$f":"IF(ISNA($DL921),\"\",getNumKeta0($DO921,5))","v":""},{"$f":"IF(ISNA($DL921),\"\",getNumKeta0($DO921,4))","v":""},{"$f":"IF(ISNA($DL921),\"\",getNumKeta0($DO921,3))","v":""},{"$f":"IF(ISNA($DL921),\"\",getNumKeta0($DO921,2))","v":""},{"$f":"IF(ISNA($DL921),\"\",getNumKeta0($DO921,1))","v":""},{"$f":"IF(ISNA($DL921),\"\",LEFT(VLOOKUP($DL921,請求明細,10,FALSE),16))","v":""},null,null,null,null,null,null,null,null,null,null,null,null,{"$f":"IF($E$14=OFFSET(明細情報!$B$5, $DK921-1,0),1,0)","v":0},{"$f":"IF($DI921=0, 0, SUM($DI$28:$DI921))","v":0},{"$f":"DK888+1","v":286},{"$f":"VLOOKUP(B921,$DJ$28:$DK$65536,2,FALSE)","v":{"$error":"#N/A"}},{"$f":"IF(ISNA($DL921),0,VLOOKUP($DL921,請求明細,5,FALSE))","v":0},{"$f":"IF(ISNA($DL921),0,VLOOKUP($DL921,請求明細,7,FALSE))","v":0},{"$f":"IF(ISNA($DL921),0,VLOOKUP($DL921,請求明細,9,FALSE))","v":0}]
[null,{"$f":"B921+1","v":287},"",null,null,"",null,null,null,"","","","","","","","","","","","","","","","","","","","","","","","","","","","","","","","","","","",null,null,null,null,null,null,null,null,null,null,null,null,null,{"$f":"BF921+1","v":287},"",null,null,"",null,null,null,"","","","","","","","","","","","","","","","","","","","","","","","","","","","","","","","","","","",null,null,null,null,null,null,null,null,null,null,null,null,{"$f":"IF($E$14=OFFSET(明細情報!$B$5, $DK922-1,0),1,0)","v":0},{"$f":"IF($DI922=0, 0, SUM($DI$28:$DI922))","v":0},{"$f":"DK921+1","v":287},{"$error":"#N/A"},0,0,0]
[null,288,"",null,null,"",null,null,null,"","","","","","","","","","","","","","","","","","","","","","","","","","","","","","","","","","","",null,null,null,null,null,null,null,null,null,null,null,null,null,288,"",null,null,"",null,null,null,"","","","","","","","","","","","","","","","","","","","","","","","","","","","","","","","","","","",null,null,null,null,null,null,null,null,null,null,null,null,{"$f":"IF($E$14=OFFSET(明細情報!$B$5, $DK923-1,0),1,0)","v":0},{"$f":"IF($DI923=0, 0, SUM($DI$28:$DI923))","v":0},288,{"$error":"#N/A"},0,0,0]
[null,289,"",null,null,"",null,null,null,"","","","","","","","","","","","","","","","","","","","","","","","","","","","","","","","","","","",null,null,null,null,null,null,null,null,null,null,null,null,null,289,"",null,null,"",null,null,null,"","","","","","","","","","","","","","","","","","","","","","","","","","","","","","","","","","","",null,null,null,null,null,null,null,null,null,null,null,null,{"$f":"IF($E$14=OFFSET(明細情報!$B$5, $DK924-1,0),1,0)","v":0},{"$f":"IF($DI924=0, 0, SUM($DI$28:$DI924))","v":0},289,{"$error":"#N/A"},0,0,0]
[null,290,"",null,null,"",null,null,null,"","","","","","","","","","","","","","","","","","","","","","","","","","","","","","","","","","","",null,null,null,null,null,null,null,null,null,null,null,null,null,290,"",null,null,"",null,null,null,"","","","","","","","","","","","","","","","","","","","","","","","","","","","","","","","","","","",null,null,null,null,null,null,null,null,null,null,null,null,{"$f":"IF($E$14=OFFSET(明細情報!$B$5, $DK925-1,0),1,0)","v":0},{"$f":"IF($DI925=0, 0, SUM($DI$28:$DI925))","v":0},290,{"$error":"#N/A"},0,0,0]
[null,291,"",null,null,"",null,null,null,"","","","","","","","","","","","","","","","","","","","","","","","","","","","","","","","","","","",null,null,null,null,null,null,null,null,null,null,null,null,null,291,"",null,null,"",null,null,null,"","","","","","","","","","","","","","","","","","","","","","","","","","","","","","","","","","","",null,null,null,null,null,null,null,null,null,null,null,null,{"$f":"IF($E$14=OFFSET(明細情報!$B$5, $DK926-1,0),1,0)","v":0},{"$f":"IF($DI926=0, 0, SUM($DI$28:$DI926))","v":0},291,{"$error":"#N/A"},0,0,0]
[null,292,"",null,null,"",null,null,null,"","","","","","","","","","","","","","","","","","","","","","","","","","","","","","","","","","","",null,null,null,null,null,null,null,null,null,null,null,null,null,292,"",null,null,"",null,null,null,"","","","","","","","","","","","","","","","","","","","","","","","","","","","","","","","","","","",null,null,null,null,null,null,null,null,null,null,null,null,{"$f":"IF($E$14=OFFSET(明細情報!$B$5, $DK927-1,0),1,0)","v":0},{"$f":"IF($DI927=0, 0, SUM($DI$28:$DI927))","v":0},292,{"$error":"#N/A"},0,0,0]
[null,293,"",null,null,"",null,null,null,"","","","","","","","","","","","","","","","","","","","","","","","","","","","","","","","","","","",null,null,null,null,null,null,null,null,null,null,null,null,null,293,"",null,null,"",null,null,null,"","","","","","","","","","","","","","","","","","","","","","","","","","","","","","","","","","","",null,null,null,null,null,null,null,null,null,null,null,null,{"$f":"IF($E$14=OFFSET(明細情報!$B$5, $DK928-1,0),1,0)","v":0},{"$f":"IF($DI928=0, 0, SUM($DI$28:$DI928))","v":0},293,{"$error":"#N/A"},0,0,0]
[null,294,"",null,null,"",null,null,null,"","","","","","","","","","","","","","","","","","","","","","","","","","","","","","","","","","","",null,null,null,null,null,null,null,null,null,null,null,null,null,294,"",null,null,"",null,null,null,"","","","","","","","","","","","","","","","","","","","","","","","","","","","","","","","","","","",null,null,null,null,null,null,null,null,null,null,null,null,{"$f":"IF($E$14=OFFSET(明細情報!$B$5, $DK929-1,0),1,0)","v":0},{"$f":"IF($DI929=0, 0, SUM($DI$28:$DI929))","v":0},294,{"$error":"#N/A"},0,0,0]
[null,295,"",null,null,"",null,null,null,"","","","","","","","","","","","","","","","","","","","","","","","","","","","","","","","","","","",null,null,null,null,null,null,null,null,null,null,null,null,null,295,"",null,null,"",null,null,null,"","","","","","","","","","","","","","","","","","","","","","","","","","","","","","","","","","","",null,null,null,null,null,null,null,null,null,null,null,null,{"$f":"IF($E$14=OFFSET(明細情報!$B$5, $DK930-1,0),1,0)","v":0},{"$f":"IF($DI930=0, 0, SUM($DI$28:$DI930))","v":0},295,{"$error":"#N/A"},0,0,0]
[null,296,"",null,null,"",null,null,null,"","","","","","","","","","","","","","","","","","","","","","","","","","","","","","","","","","","",null,null,null,null,null,null,null,null,null,null,null,null,null,296,"",null,null,"",null,null,null,"","","","","","","","","","","","","","","","","","","","","","","","","","","","","","","","","","","",null,null,null,null,null,null,null,null,null,null,null,null,{"$f":"IF($E$14=OFFSET(明細情報!$B$5, $DK931-1,0),1,0)","v":0},{"$f":"IF($DI931=0, 0, SUM($DI$28:$DI931))","v":0},296,{"$error":"#N/A"},0,0,0]
[null,297,"",null,null,"",null,null,null,"","","","","","","","","","","","","","","","","","","","","","","","","","","","","","","","","","","",null,null,null,null,null,null,null,null,null,null,null,null,null,297,"",null,null,"",null,null,null,"","","","","","","","","","","","","","","","","","","","","","","","","","","","","","","","","","","",null,null,null,null,null,null,null,null,null,null,null,null,{"$f":"IF($E$14=OFFSET(明細情報!$B$5, $DK932-1,0),1,0)","v":0},{"$f":"IF($DI932=0, 0, SUM($DI$28:$DI932))","v":0},297,{"$error":"#N/A"},0,0,0]
[null,298,"",null,null,"",null,null,null,"","","","","","","","","","","","","","","","","","","","","","","","","","","","","","","","","","","",null,null,null,null,null,null,null,null,null,null,null,null,null,298,"",null,null,"",null,null,null,"","","","","","","","","","","","","","","","","","","","","","","","","","","","","","","","","","","",null,null,null,null,null,null,null,null,null,null,null,null,{"$f":"IF($E$14=OFFSET(明細情報!$B$5, $DK933-1,0),1,0)","v":0},{"$f":"IF($DI933=0, 0, SUM($DI$28:$DI933))","v":0},298,{"$error":"#N/A"},0,0,0]
[null,299,"",null,null,"",null,null,null,"","","","","","","","","","","","","","","","","","","","","","","","","","","","","","","","","","","",null,null,null,null,null,null,null,null,null,null,null,null,null,299,"",null,null,"",null,null,null,"","","","","","","","","","","","","","","","","","","","","","","","","","","","","","","","","","","",null,null,null,null,null,null,null,null,null,null,null,null,{"$f":"IF($E$14=OFFSET(明細情報!$B$5, $DK934-1,0),1,0)","v":0},{"$f":"IF($DI934=0, 0, SUM($DI$28:$DI934))","v":0},299,{"$error":"#N/A"},0,0,0]
[null,300,"",null,null,"",null,null,null,"","","","","","","","","","","","","","","","","","","","","","","","","","","","","","","","","","","",null,null,null,null,null,null,null,null,null,null,null,null,null,300,"",null,null,"",null,null,null,"","","","","","","","","","","","","","","","","","","","","","","","","","","","","","","","","","","",null,null,null,null,null,null,null,null,null,null,null,null,{"$f":"IF($E$14=OFFSET(明細情報!$B$5, $DK935-1,0),1,0)","v":0},{"$f":"IF($DI935=0, 0, SUM($DI$28:$DI935))","v":0},300,{"$error":"#N/A"},0,0,0]
[null,null,null,null,null,null,null,null,null,null,null,null,null,null,null,null,null,null,null,null,null,null,"　　小　　　　　　計",null,null,null,null,null,null,null,null,null,null,null,{"$f":"getNumKeta0($DP936,9)","v":""},{"$f":"getNumKeta0($DP936,8)","v":""},{"$f":"getNumKeta0($DP936,7)","v":""},{"$f":"getNumKeta0($DP936,6)","v":""},{"$f":"getNumKeta0($DP936,5)","v":""},{"$f":"getNumKeta0($DP936,4)","v":""},{"$f":"getNumKeta0($DP936,3)","v":""},{"$f":"getNumKeta0($DP936,2)","v":""},{"$f":"getNumKeta0($DP936,1)","v":""},"Ａ",{"$f":"IF($DQ936=0,\"\", $DQ936)","v":""},null,null,null,null,null,null,null,null,{"$f":"IF($DP936<>$DQ936,\"*\",\"\")","v":""},null,null,null,null,null,null,null,null,null,null,null,null,null,null,null,null,null,null,null,null,null,null,null,null,"　　小　　　　　　計",null,null,null,null,null,null,null,null,null,null,null,{"$f":"getNumKeta0($DP936,9)","v":""},{"$f":"getNumKeta0($DP936,8)","v":""},{"$f":"getNumKeta0($DP936,7)","v":""},{"$f":"getNumKeta0($DP936,6)","v":""},{"$f":"getNumKeta0($DP936,5)","v":""},{"$f":"getNumKeta0($DP936,4)","v":""},{"$f":"getNumKeta0($DP936,3)","v":""},{"$f":"getNumKeta0($DP936,2)","v":""},{"$f":"getNumKeta0($DP936,1)","v":""},"Ａ",{"$f":"IF($DQ936=0,\"\", $DQ936)","v":""},null,null,null,null,null,null,null,null,{"$f":"IF($DP936<>$DQ936,\"*\",\"\")","v":""},null,null,null,null,null,null,null,null,null,{"$f":"IF($DK935/15=ROUNDUP(MAX($DJ:$DJ)/15,0),VLOOKUP($E$14,基本情報_工事名称マスタ,4,FALSE)+VLOOKUP($E$14,基本情報_工事名称マスタ,5,FALSE),0)","v":0},{"$f":"IF($DK935/15=ROUNDUP(MAX($DJ:$DJ)/15,0),DQ938-DQ937,0)","v":0}]
[null,null,null,null,null,null,null,null,null,null,null,null,null,null,null,null,null,null,null,null,null,null,"　消　費　税",null,null,null,null,null,null,null,{"$f":"基本情報_消費税率","v":0.1},null,null,null,{"$f":"getNumKeta0($DP937,9)","v":""},{"$f":"getNumKeta0($DP937,8)","v":""},{"$f":"getNumKeta0($DP937,7)","v":""},{"$f":"getNumKeta0($DP937,6)","v":""},{"$f":"getNumKeta0($DP937,5)","v":""},{"$f":"getNumKeta0($DP937,4)","v":""},{"$f":"getNumKeta0($DP937,3)","v":""},{"$f":"getNumKeta0($DP937,2)","v":""},{"$f":"getNumKeta0($DP937,1)","v":""},"Ｂ",{"$f":"IF($DQ937=0,\"\", $DQ937)","v":""},null,null,null,null,null,null,null,null,null,null,null,null,null,null,null,null,null,null,null,null,null,null,null,null,null,null,null,null,null,null,null,null,null,"　消　費　税",null,null,null,null,null,null,null,{"$f":"基本情報_消費税率","v":0.1},null,null,null,{"$f":"getNumKeta0($DP937,9)","v":""},{"$f":"getNumKeta0($DP937,8)","v":""},{"$f":"getNumKeta0($DP937,7)","v":""},{"$f":"getNumKeta0($DP937,6)","v":""},{"$f":"getNumKeta0($DP937,5)","v":""},{"$f":"getNumKeta0($DP937,4)","v":""},{"$f":"getNumKeta0($DP937,3)","v":""},{"$f":"getNumKeta0($DP937,2)","v":""},{"$f":"getNumKeta0($DP937,1)","v":""},"Ｂ",{"$f":"IF($DQ937=0,\"\", $DQ937)","v":""},null,null,null,null,null,null,null,null,null,null,null,null,null,null,null,null,null,null,{"$f":"IF($DK935/15=ROUNDUP(MAX($DJ:$DJ)/15,0),VLOOKUP($E$14,基本情報_工事名称マスタ,6,FALSE),0)","v":0},{"$f":"IF($DK935/15=ROUNDUP(MAX($DJ:$DJ)/15,0),ROUND((DQ938-VLOOKUP($E$14,基本情報_工事名称マスタ,5,FALSE))/(基本情報_消費税率*100+100)*(基本情報_消費税率*100),0),0)","v":0}]
[null,null,null,null,null,null,null,null,null,null,null,null,null,null,null,null,null,null,null,null,null,null,"　　合　　　　　　計",null,null,null,null,null,null,null,null,null,null,null,{"$f":"getNumKeta0($DP938,9)","v":""},{"$f":"getNumKeta0($DP938,8)","v":""},{"$f":"getNumKeta0($DP938,7)","v":""},{"$f":"getNumKeta0($DP938,6)","v":""},{"$f":"getNumKeta0($DP938,5)","v":""},{"$f":"getNumKeta0($DP938,4)","v":""},{"$f":"getNumKeta0($DP938,3)","v":""},{"$f":"getNumKeta0($DP938,2)","v":""},{"$f":"getNumKeta0($DP938,1)","v":""},"Ｃ",{"$f":"IF($DQ938=0,\"\", $DQ938)","v":""},null,null,null,null,null,null,null,null,null,null,null,null,null,null,null,null,null,null,null,null,null,null,null,null,null,null,null,null,null,null,null,null,null,"　　合　　　　　　計",null,null,null,null,null,null,null,null,null,null,null,{"$f":"getNumKeta0($DP938,9)","v":""},{"$f":"getNumKeta0($DP938,8)","v":""},{"$f":"getNumKeta0($DP938,7)","v":""},{"$f":"getNumKeta0($DP938,6)","v":""},{"$f":"getNumKeta0($DP938,5)","v":""},{"$f":"getNumKeta0($DP938,4)","v":""},{"$f":"getNumKeta0($DP938,3)","v":""},{"$f":"getNumKeta0($DP938,2)","v":""},{"$f":"getNumKeta0($DP938,1)","v":""},"Ｃ",{"$f":"IF($DQ938=0,\"\", $DQ938)","v":""},null,null,null,null,null,null,null,null,null,null,null,null,null,null,null,null,null,null,{"$f":"IF($DK935/15=ROUNDUP(MAX($DJ:$DJ)/15,0),VLOOKUP($E$14,基本情報_工事名称マスタ,7,FALSE),0)","v":0},{"$f":"DP938","v":0}]
[null,null,null,null,null,null,null,null,null,null,null,null,null,null,null,null,null,null,null,null,null,null,"貴社→請求書(添付)→経理(控)",null,null,null,null,null,null,null,null,null,null,null,null,null,null,null,null,null,null,null,null,null,null,null,null,null,null,null,null,null,null,null,null,null,null,null,null,null,null,null,null,null,null,null,null,null,null,null,null,null,null,null,null,null,null,null,"貴社→請求書(添付)→経理→作業所長(控)"]